BEGIN:VCALENDAR
VERSION:2.0
PRODID:-//Le Petit Varois.Fr - ECPv6.0.10//NONSGML v1.0//EN
CALSCALE:GREGORIAN
METHOD:PUBLISH
X-WR-CALNAME:Le Petit Varois.Fr
X-ORIGINAL-URL:https://lepetitvarois.fr
X-WR-CALDESC:évènements pour Le Petit Varois.Fr
REFRESH-INTERVAL;VALUE=DURATION:PT1H
X-Robots-Tag:noindex
X-PUBLISHED-TTL:PT1H
BEGIN:VTIMEZONE
TZID:Europe/Paris
BEGIN:DAYLIGHT
TZOFFSETFROM:+0100
TZOFFSETTO:+0200
TZNAME:CEST
DTSTART:20190331T010000
END:DAYLIGHT
BEGIN:STANDARD
TZOFFSETFROM:+0200
TZOFFSETTO:+0100
TZNAME:CET
DTSTART:20191027T010000
END:STANDARD
END:VTIMEZONE
BEGIN:VEVENT
DTSTART;TZID=Europe/Paris:20191221T140000
DTEND;TZID=Europe/Paris:20191221T170000
DTSTAMP:20260424T192908
CREATED:20191218T090538Z
LAST-MODIFIED:20191218T090538Z
UID:13774-1576936800-1576947600@lepetitvarois.fr
SUMMARY:Expo vente de Noël : venez décorer votre bol et coupelle
DESCRIPTION:Expo vente de Noël : venez décorer votre bol et coupelle de 14h à 17h. \nAtelier Tandem\, 1979 route de Sanary. OLLIOULES \nTandem Céramique 06 03 45 73 82 / 06 37 92 63 24 stephaniegamby@gmail.com 
URL:https://lepetitvarois.fr/event/expo-vente-de-noel-venez-decorer-votre-bol-et-coupelle/
CATEGORIES:Ollioules
ATTACH;FMTTYPE=image/jpeg:https://lepetitvarois.fr/wp-content/uploads/2019/03/dish-shelf-1290428_960_720.jpg
END:VEVENT
BEGIN:VEVENT
DTSTART;TZID=Europe/Paris:20191221T160000
DTEND;TZID=Europe/Paris:20191221T170000
DTSTAMP:20260424T192908
CREATED:20191218T090704Z
LAST-MODIFIED:20191218T090704Z
UID:13776-1576944000-1576947600@lepetitvarois.fr
SUMMARY:Arrivée du Père Noël en gare d'Ollioules/Sanary
DESCRIPTION:Arrivée du Père Noël en gare d’Ollioules/Sanary à 16h. \nGare d’Ollioules – Sanary\, 1090 route de la Gare. OLLIOULES\nFriandises\, chocolat chaud et goûter offerts aux enfants\, vin chaud pour les adultes. \nComité des fêtes de la gare 06 95 30 94 14  
URL:https://lepetitvarois.fr/event/arrivee-du-pere-noel-en-gare-dollioules-sanary-2/
CATEGORIES:Ollioules
ATTACH;FMTTYPE=image/png:https://lepetitvarois.fr/wp-content/uploads/2018/12/christmas-1887306_960_720.png
END:VEVENT
END:VCALENDAR