BEGIN:VCALENDAR
VERSION:2.0
PRODID:-//Le Petit Varois.Fr - ECPv6.0.10//NONSGML v1.0//EN
CALSCALE:GREGORIAN
METHOD:PUBLISH
X-WR-CALNAME:Le Petit Varois.Fr
X-ORIGINAL-URL:https://lepetitvarois.fr
X-WR-CALDESC:évènements pour Le Petit Varois.Fr
REFRESH-INTERVAL;VALUE=DURATION:PT1H
X-Robots-Tag:noindex
X-PUBLISHED-TTL:PT1H
BEGIN:VTIMEZONE
TZID:Europe/Paris
BEGIN:DAYLIGHT
TZOFFSETFROM:+0100
TZOFFSETTO:+0200
TZNAME:CEST
DTSTART:20190331T010000
END:DAYLIGHT
BEGIN:STANDARD
TZOFFSETFROM:+0200
TZOFFSETTO:+0100
TZNAME:CET
DTSTART:20191027T010000
END:STANDARD
END:VTIMEZONE
BEGIN:VEVENT
DTSTART;TZID=Europe/Paris:20191229T093000
DTEND;TZID=Europe/Paris:20191229T113000
DTSTAMP:20260424T192256
CREATED:20191218T092205Z
LAST-MODIFIED:20191218T092205Z
UID:13796-1577611800-1577619000@lepetitvarois.fr
SUMMARY:Sophro-balade
DESCRIPTION:Sophro-balade de 9h30 à 11h30. \nMassif du Gros Cerveau\, 3000 route du Gros Cerveau. OLLIOULES\nVivez une expérience de connexions à soi et à la nature ! un moment tout en douceur et sérénité pour vous libérer de vos tensions\, retrouver une harmonie\, votre bien-être et votre énergie ! Nous alternons un temps de marche douce et consciente\, avec des pauses sophrologie. \nParcours de 2 km – niveau facile\n> 15 € la sophro-balade. Inscription obligatoire car nombre de participants limités. Billetterie en vente dans nos accueils.\nOT Six Fours 04 94 07 02 21 / OT La Seyne 04 98 00 25 70 / OT Ollioules 04 94 63 11 74 / \nOT St Mandrier 04 94 63 61 69
URL:https://lepetitvarois.fr/event/sophro-balade/
CATEGORIES:Ollioules
ATTACH;FMTTYPE=image/jpeg:https://lepetitvarois.fr/wp-content/uploads/2018/09/shoes-1940249_960_720.jpg
END:VEVENT
END:VCALENDAR