BEGIN:VCALENDAR
VERSION:2.0
PRODID:-//Le Petit Varois.Fr - ECPv6.0.10//NONSGML v1.0//EN
CALSCALE:GREGORIAN
METHOD:PUBLISH
X-WR-CALNAME:Le Petit Varois.Fr
X-ORIGINAL-URL:https://lepetitvarois.fr
X-WR-CALDESC:évènements pour Le Petit Varois.Fr
REFRESH-INTERVAL;VALUE=DURATION:PT1H
X-Robots-Tag:noindex
X-PUBLISHED-TTL:PT1H
BEGIN:VTIMEZONE
TZID:Europe/Paris
BEGIN:DAYLIGHT
TZOFFSETFROM:+0100
TZOFFSETTO:+0200
TZNAME:CEST
DTSTART:20200329T010000
END:DAYLIGHT
BEGIN:STANDARD
TZOFFSETFROM:+0200
TZOFFSETTO:+0100
TZNAME:CET
DTSTART:20201025T010000
END:STANDARD
END:VTIMEZONE
BEGIN:VEVENT
DTSTART;TZID=Europe/Paris:20200125T160000
DTEND;TZID=Europe/Paris:20200125T183000
DTSTAMP:20260424T180420
CREATED:20200110T002032Z
LAST-MODIFIED:20200110T002032Z
UID:13986-1579968000-1579977000@lepetitvarois.fr
SUMMARY:5è fête de la soupe
DESCRIPTION:5è fête de la soupe à 16h. \nPlace Jean Jaurès. OLLIOULES\nLes associations confectionnent les soupes de leur choix et les proposent dans des stands installés place Jean Jaurès\, place Victor Clément… Animations gratuites pour les enfants à partir de 16h. \nOuvertures des stands de soupes à 19h (7 € le bol collector en vente à partir de 17h30). \nRepli dans les salles communales en cas d’intempéries.\nMairie d’Ollioules 04 94 30 41 02  www.ollioules.fr
URL:https://lepetitvarois.fr/event/5e-fete-de-la-soupe/
CATEGORIES:Ollioules
ATTACH;FMTTYPE=image/jpeg:https://lepetitvarois.fr/wp-content/uploads/2019/01/pumpkin-soup-3705294_960_720.jpg
END:VEVENT
END:VCALENDAR