BEGIN:VCALENDAR
VERSION:2.0
PRODID:-//Le Petit Varois.Fr - ECPv6.0.10//NONSGML v1.0//EN
CALSCALE:GREGORIAN
METHOD:PUBLISH
X-WR-CALNAME:Le Petit Varois.Fr
X-ORIGINAL-URL:https://lepetitvarois.fr
X-WR-CALDESC:évènements pour Le Petit Varois.Fr
REFRESH-INTERVAL;VALUE=DURATION:PT1H
X-Robots-Tag:noindex
X-PUBLISHED-TTL:PT1H
BEGIN:VTIMEZONE
TZID:Europe/Paris
BEGIN:DAYLIGHT
TZOFFSETFROM:+0100
TZOFFSETTO:+0200
TZNAME:CEST
DTSTART:20200329T010000
END:DAYLIGHT
BEGIN:STANDARD
TZOFFSETFROM:+0200
TZOFFSETTO:+0100
TZNAME:CET
DTSTART:20201025T010000
END:STANDARD
END:VTIMEZONE
BEGIN:VEVENT
DTSTART;TZID=Europe/Paris:20200202T153000
DTEND;TZID=Europe/Paris:20200202T170000
DTSTAMP:20260424T160724
CREATED:20200129T213817Z
LAST-MODIFIED:20200129T213817Z
UID:14268-1580657400-1580662800@lepetitvarois.fr
SUMMARY:Concert du Chœur de l’Armée Française
DESCRIPTION:Concert du Chœur de l’Armée Française à 15h30. \nAuditorium du gymnase Vallon\, rue Marcel Pagnol. OLLIOULES\n> Gratuit. \nService culturel 04 94 30 41 45
URL:https://lepetitvarois.fr/event/concert-du-choeur-de-larmee-francaise/
CATEGORIES:Ollioules
ATTACH;FMTTYPE=image/jpeg:https://lepetitvarois.fr/wp-content/uploads/2020/01/Choeur-de-lArmée-française.jpg
END:VEVENT
END:VCALENDAR