BEGIN:VCALENDAR
VERSION:2.0
PRODID:-//Le Petit Varois.Fr - ECPv6.0.10//NONSGML v1.0//EN
CALSCALE:GREGORIAN
METHOD:PUBLISH
X-ORIGINAL-URL:https://lepetitvarois.fr
X-WR-CALDESC:évènements pour Le Petit Varois.Fr
REFRESH-INTERVAL;VALUE=DURATION:PT1H
X-Robots-Tag:noindex
X-PUBLISHED-TTL:PT1H
BEGIN:VTIMEZONE
TZID:Europe/Paris
BEGIN:DAYLIGHT
TZOFFSETFROM:+0100
TZOFFSETTO:+0200
TZNAME:CEST
DTSTART:20200329T010000
END:DAYLIGHT
BEGIN:STANDARD
TZOFFSETFROM:+0200
TZOFFSETTO:+0100
TZNAME:CET
DTSTART:20201025T010000
END:STANDARD
END:VTIMEZONE
BEGIN:VEVENT
DTSTART;TZID=Europe/Paris:20200209T170000
DTEND;TZID=Europe/Paris:20200209T190000
DTSTAMP:20260424T161012
CREATED:20200202T193342Z
LAST-MODIFIED:20200202T193342Z
UID:14328-1581267600-1581274800@lepetitvarois.fr
SUMMARY:Concert de Carpe Diem Orchestra et du nouvel ensemble de clarinette Olliolis Calamus
DESCRIPTION: Concert de Carpe Diem Orchestra et du nouvel ensemble de clarinette Olliolis Calamus à 17h. \nSalle Jean Moulin\, place Marius Trotobas. OLLIOULES\n> Entrée libre.  \nExpression Musicale Ollioulaise 06 12 05 39 96
URL:https://lepetitvarois.fr/event/concert-de-carpe-diem-orchestra-et-du-nouvel-ensemble-de-clarinette-olliolis-calamus/
CATEGORIES:Ollioules
ATTACH;FMTTYPE=image/jpeg:https://lepetitvarois.fr/wp-content/uploads/2018/06/singer-579923_960_720.jpg
END:VEVENT
END:VCALENDAR