BEGIN:VCALENDAR
VERSION:2.0
PRODID:-//Le Petit Varois.Fr - ECPv6.0.10//NONSGML v1.0//EN
CALSCALE:GREGORIAN
METHOD:PUBLISH
X-WR-CALNAME:Le Petit Varois.Fr
X-ORIGINAL-URL:https://lepetitvarois.fr
X-WR-CALDESC:évènements pour Le Petit Varois.Fr
REFRESH-INTERVAL;VALUE=DURATION:PT1H
X-Robots-Tag:noindex
X-PUBLISHED-TTL:PT1H
BEGIN:VTIMEZONE
TZID:Europe/Paris
BEGIN:DAYLIGHT
TZOFFSETFROM:+0100
TZOFFSETTO:+0200
TZNAME:CEST
DTSTART:20200329T010000
END:DAYLIGHT
BEGIN:STANDARD
TZOFFSETFROM:+0200
TZOFFSETTO:+0100
TZNAME:CET
DTSTART:20201025T010000
END:STANDARD
END:VTIMEZONE
BEGIN:VEVENT
DTSTART;VALUE=DATE:20200915
DTEND;VALUE=DATE:20200930
DTSTAMP:20260424T005136
CREATED:20200913T204632Z
LAST-MODIFIED:20200913T204632Z
UID:16229-1600128000-1601423999@lepetitvarois.fr
SUMMARY:Exposition "Terre buissonnière" de Claude Brugnone-Dutertre\, céramiste
DESCRIPTION:Ouvert du mardi au vendredi 15h-18h\, samedi 10h-12h / 15h-18h. Vernissage samedi 12 septembre à 18h. Ouvert samedi 19 et dimanche 20 septembre (journées européennes du patrimoine) 10h-12h / 15h-18h. Galerie de l’Olivier – Echos d’Art  \nEntrée libre. Exposition de la céramiste d’art Claude Brugnone-Dutertre.  \n04 94 63 06 92  \n 
URL:https://lepetitvarois.fr/event/exposition-terre-buissonniere-de-claude-brugnone-dutertre-ceramiste/
CATEGORIES:Ollioules
ATTACH;FMTTYPE=image/jpeg:https://lepetitvarois.fr/wp-content/uploads/2019/03/hands-1139098_960_720.jpg
END:VEVENT
END:VCALENDAR