BEGIN:VCALENDAR
VERSION:2.0
PRODID:-//Le Petit Varois.Fr - ECPv6.0.10//NONSGML v1.0//EN
CALSCALE:GREGORIAN
METHOD:PUBLISH
X-ORIGINAL-URL:https://lepetitvarois.fr
X-WR-CALDESC:évènements pour Le Petit Varois.Fr
REFRESH-INTERVAL;VALUE=DURATION:PT1H
X-Robots-Tag:noindex
X-PUBLISHED-TTL:PT1H
BEGIN:VTIMEZONE
TZID:Europe/Paris
BEGIN:DAYLIGHT
TZOFFSETFROM:+0100
TZOFFSETTO:+0200
TZNAME:CEST
DTSTART:20210328T010000
END:DAYLIGHT
BEGIN:STANDARD
TZOFFSETFROM:+0200
TZOFFSETTO:+0100
TZNAME:CET
DTSTART:20211031T010000
END:STANDARD
END:VTIMEZONE
BEGIN:VEVENT
DTSTART;TZID=Europe/Paris:20210608T183000
DTEND;TZID=Europe/Paris:20210608T193000
DTSTAMP:20260423T115325
CREATED:20210531T200057Z
LAST-MODIFIED:20210531T200057Z
UID:20522-1623177000-1623180600@lepetitvarois.fr
SUMMARY:Conférence en ligne : "L'écume de l'espace temps"
DESCRIPTION:Conférence en ligne prononcée par Jean-Pierre Luminet\, astrophysicien\, conférencier\, écrivain et poète français\, spécialiste de réputation internationale des trous noirs et de la cosmologie.\n\n\nMardi 8 juin 2021 à 18h30.\n\n\n\n\nOrganisateur\nClub d’astronomie Véga \nPort : 06 82 07 00 70\nSite Internet « Club d’astronomie Véga « \n\n\n\nLieu\n83190\nOllioules
URL:https://lepetitvarois.fr/event/conference-en-ligne-lecume-de-lespace-temps/
CATEGORIES:Ollioules
ATTACH;FMTTYPE=image/jpeg:https://lepetitvarois.fr/wp-content/uploads/2018/08/sky-828648_960_720.jpg
END:VEVENT
END:VCALENDAR