BEGIN:VCALENDAR
VERSION:2.0
PRODID:-//Le Petit Varois.Fr - ECPv6.0.10//NONSGML v1.0//EN
CALSCALE:GREGORIAN
METHOD:PUBLISH
X-ORIGINAL-URL:https://lepetitvarois.fr
X-WR-CALDESC:évènements pour Le Petit Varois.Fr
REFRESH-INTERVAL;VALUE=DURATION:PT1H
X-Robots-Tag:noindex
X-PUBLISHED-TTL:PT1H
BEGIN:VTIMEZONE
TZID:Europe/Paris
BEGIN:DAYLIGHT
TZOFFSETFROM:+0100
TZOFFSETTO:+0200
TZNAME:CEST
DTSTART:20210328T010000
END:DAYLIGHT
BEGIN:STANDARD
TZOFFSETFROM:+0200
TZOFFSETTO:+0100
TZNAME:CET
DTSTART:20211031T010000
END:STANDARD
END:VTIMEZONE
BEGIN:VEVENT
DTSTART;VALUE=DATE:20210910
DTEND;VALUE=DATE:20210920
DTSTAMP:20260423T053748
CREATED:20210910T145018Z
LAST-MODIFIED:20210910T145018Z
UID:21470-1631232000-1632095999@lepetitvarois.fr
SUMMARY:Salon de sculptures
DESCRIPTION:Exposition de sculptures\, vitraux et céramiques proposée par l’association La Palette Ollioulaise en partenariat avec la ville d’Ollioules.\nOrganisation sécurisée\, gestes barrières et masques obligatoires.\n\n\nDu 08/09 au 19/09/2021\, tous les jours.\nOuvert du lundi au vendredi de 14h à 17h\, les samedis et dimanches 9h-12h / 15h-18h.\nVernissage vendredi 10 septembre à 18h.
URL:https://lepetitvarois.fr/event/salon-de-sculptures/
CATEGORIES:Ollioules
END:VEVENT
BEGIN:VEVENT
DTSTART;TZID=Europe/Paris:20210917T210000
DTEND;TZID=Europe/Paris:20210917T230000
DTSTAMP:20260423T053748
CREATED:20210910T145455Z
LAST-MODIFIED:20210910T145455Z
UID:21472-1631912400-1631919600@lepetitvarois.fr
SUMMARY:Découverte des ciels d'été et d'automne
DESCRIPTION:En partenariat avec Nature & Découvertes\, nous proposons une découverte du ciel selon la saison. Cette animation se déroule en deux parties :\nUne première partie\, qui commencera dès l’obscurité faite\, et qui sera consacrée à la présentation des principaux astres et constellations observables à cette partie de l’année\, avec différentes explications relatives à leur origine\, leurs caractéristiques et leur fonctionnement\, ainsi qu’une méthode de repérage vous permettant (normalement…) de les retrouver seuls à l’issue de cette soirée.\nUne deuxième partie qui sera quant à elle\, consacrée à l’observation aux télescopes des principaux objets présents à cette date\, parmi lesquels Jupiter\, Saturne\, des étoiles doubles\, des amas d’étoiles\, des nébuleuses planétaires ainsi que d’autres galaxies pour les plus téméraires.\n\n\nVendredi 17 septembre 2021 de 21h à 23h.
URL:https://lepetitvarois.fr/event/decouverte-des-ciels-dete-et-dautomne/
CATEGORIES:Ollioules
ATTACH;FMTTYPE=image/jpeg:https://lepetitvarois.fr/wp-content/uploads/2018/08/galaxy-11098_960_720.jpg
END:VEVENT
END:VCALENDAR