BEGIN:VCALENDAR
VERSION:2.0
PRODID:-//Le Petit Varois.Fr - ECPv6.0.10//NONSGML v1.0//EN
CALSCALE:GREGORIAN
METHOD:PUBLISH
X-ORIGINAL-URL:https://lepetitvarois.fr
X-WR-CALDESC:évènements pour Le Petit Varois.Fr
REFRESH-INTERVAL;VALUE=DURATION:PT1H
X-Robots-Tag:noindex
X-PUBLISHED-TTL:PT1H
BEGIN:VTIMEZONE
TZID:Europe/Paris
BEGIN:DAYLIGHT
TZOFFSETFROM:+0100
TZOFFSETTO:+0200
TZNAME:CEST
DTSTART:20220327T010000
END:DAYLIGHT
BEGIN:STANDARD
TZOFFSETFROM:+0200
TZOFFSETTO:+0100
TZNAME:CET
DTSTART:20221030T010000
END:STANDARD
END:VTIMEZONE
BEGIN:VEVENT
DTSTART;TZID=Europe/Paris:20220702T160000
DTEND;TZID=Europe/Paris:20220702T210000
DTSTAMP:20260422T144058
CREATED:20220628T063344Z
LAST-MODIFIED:20220628T063344Z
UID:24691-1656777600-1656795600@lepetitvarois.fr
SUMMARY:17 ème pique nique de la fraternité
DESCRIPTION:Manifestation ouverte à toutes les générations : quads électriques\, balade en poneys\, piscines\, pêche à la truite\, poterie\, maquillage\, ateliers enfants\, concours de gâteaux…\nNavettes minibus à partir de 15h30 avec ramassage : La Baume\, Office de Tourisme et Saint Roch. Retour assuré à 21h.\n\n\n\nSamedi 2 juillet 2022 à 16h.
URL:https://lepetitvarois.fr/event/17-eme-pique-nique-de-la-fraternite/
CATEGORIES:Ollioules
ATTACH;FMTTYPE=image/jpeg:https://lepetitvarois.fr/wp-content/uploads/2022/06/beautiful-woman-764078_1280.jpg
END:VEVENT
BEGIN:VEVENT
DTSTART;TZID=Europe/Paris:20220702T203000
DTEND;TZID=Europe/Paris:20220702T223000
DTSTAMP:20260422T144058
CREATED:20220628T072521Z
LAST-MODIFIED:20220628T072521Z
UID:24704-1656793800-1656801000@lepetitvarois.fr
SUMMARY:Concert de Chant Grégorien
DESCRIPTION:Lieu : Eglise Saint Laurent \n\nLa Scola Sancta Philumena sou la direction de Philippe Mopin vous convie à son concert de chant grégorien « Au fil des saisons.\n\n\nSamedi 2 juillet 2022 à 20h30.\n\n  \n 
URL:https://lepetitvarois.fr/event/concert-de-chant-gregorien/
CATEGORIES:Ollioules
ATTACH;FMTTYPE=image/jpeg:https://lepetitvarois.fr/wp-content/uploads/2022/06/800x600_125260-oll_concert_gre_gorien_02_juillet_2022.jpg
END:VEVENT
END:VCALENDAR