BEGIN:VCALENDAR
VERSION:2.0
PRODID:-//Le Petit Varois.Fr - ECPv6.0.10//NONSGML v1.0//EN
CALSCALE:GREGORIAN
METHOD:PUBLISH
X-WR-CALNAME:Le Petit Varois.Fr
X-ORIGINAL-URL:https://lepetitvarois.fr
X-WR-CALDESC:évènements pour Le Petit Varois.Fr
REFRESH-INTERVAL;VALUE=DURATION:PT1H
X-Robots-Tag:noindex
X-PUBLISHED-TTL:PT1H
BEGIN:VTIMEZONE
TZID:Europe/Paris
BEGIN:DAYLIGHT
TZOFFSETFROM:+0100
TZOFFSETTO:+0200
TZNAME:CEST
DTSTART:20220327T010000
END:DAYLIGHT
BEGIN:STANDARD
TZOFFSETFROM:+0200
TZOFFSETTO:+0100
TZNAME:CET
DTSTART:20221030T010000
END:STANDARD
END:VTIMEZONE
BEGIN:VEVENT
DTSTART;TZID=Europe/Paris:20220715T210000
DTEND;TZID=Europe/Paris:20220715T233000
DTSTAMP:20260422T143853
CREATED:20220628T130148Z
LAST-MODIFIED:20220628T130148Z
UID:24812-1657918800-1657927800@lepetitvarois.fr
SUMMARY:Raconte moi les étoiles !
DESCRIPTION:Lieu : Observatoire astronomique du Gros Cerveau \n\n– Découverte du système solaire en réalité virtuelle (21h – 22h – 23h / durée 35 min / à partir de 9 ans / tarif 5 €).\n– Conférence « Sonder l’étoile évoluée L2 Puppis pour pressentir l’avenir\nréservé à notre Soleil d’ici 4 milliards d’années »\, par Margaux Abello\, doctorante en astrophysique à l’Observatoire de la Côte d’Azur de Nice. \n– Observation du ciel nocturne aux télescopes (y compris pendant la\nconférence pour les jeunes enfants). \nManifestations susceptibles d’adaptations ou de déplacement en centre ville\nà Ollioules en cas d’évolution de la situation sanitaire\, de mauvais\ntemps ou de risque incendie extrême. Consultez notre site Internet ou\nnotre page Facebook avant chaque événement.\n\n\nVendredi 15 juillet 2022 à 21h.
URL:https://lepetitvarois.fr/event/raconte-moi-les-etoiles/
CATEGORIES:Ollioules
ATTACH;FMTTYPE=image/jpeg:https://lepetitvarois.fr/wp-content/uploads/2018/08/sky-828648_960_720.jpg
END:VEVENT
BEGIN:VEVENT
DTSTART;TZID=Europe/Paris:20220715T220000
DTEND;TZID=Europe/Paris:20220715T233000
DTSTAMP:20260422T143853
CREATED:20220628T130513Z
LAST-MODIFIED:20220628T130513Z
UID:24814-1657922400-1657927800@lepetitvarois.fr
SUMMARY:Théâtre musical "Le jeu des ombres"
DESCRIPTION:Lieu : Châteauvallon – Centre National de Création et de Diffusion Culturelles \n\nConsidéré comme le premier de tous les opéras\, Orfeo de Monteverdi offre au duo Bellorini-Novarina l’occasion de nouer un dialogue entre théâtre et musique autour d’un mythe d’amour absolu.\nEurydice marche sur une vipère qui la mord. Mort d’Eurydice. Orphée\, fou de douleur\, descend aux Enfers rechercher son épouse. Par son chant\, il adoucit les terribles Cerbère\, Charon et Proserpine qui lui rendent Eurydice. Mais il ne doit pas la regarder avant de sortir ! Comme il ne résiste pas à la tentation\, elle meurt à nouveau. Valère Novarina\, tour à tour auteur inspiré\, peintre\, metteur en scène (parfois tout ensemble) et qui se décrit lui-même comme un « porteur d’ombre »\, était tout indiqué pour suivre les traces d’Orphée\, héros des poètes. \nSur scène\, c’est tout un monde de destruction et de chaos\, ravagé par le feu. Au-dessus\, un pont qu’empruntent conteurs et musiciens\, messagers de beauté. Bellorini\, Monteverdi\, Novarina\, ensemble\, descendent au fond des ténèbres rechercher Orphée\, que guide le dieu Amour. De retour dans l’éclat du soleil\, la vie renaît et s’épanouit par la grâce de la musique et du chant.\n\n\nVendredi 15 juillet 2022 à 22h.
URL:https://lepetitvarois.fr/event/theatre-musical-le-jeu-des-ombres/
CATEGORIES:Ollioules
ATTACH;FMTTYPE=image/jpeg:https://lepetitvarois.fr/wp-content/uploads/2022/06/800x600_125302-oll_lejeudesombres3_15juil22_christophe_raynaud_de_lage_et_pascal_victor.jpg
END:VEVENT
END:VCALENDAR