BEGIN:VCALENDAR
VERSION:2.0
PRODID:-//Le Petit Varois.Fr - ECPv6.0.10//NONSGML v1.0//EN
CALSCALE:GREGORIAN
METHOD:PUBLISH
X-WR-CALNAME:Le Petit Varois.Fr
X-ORIGINAL-URL:https://lepetitvarois.fr
X-WR-CALDESC:évènements pour Le Petit Varois.Fr
REFRESH-INTERVAL;VALUE=DURATION:PT1H
X-Robots-Tag:noindex
X-PUBLISHED-TTL:PT1H
BEGIN:VTIMEZONE
TZID:Europe/Paris
BEGIN:DAYLIGHT
TZOFFSETFROM:+0100
TZOFFSETTO:+0200
TZNAME:CEST
DTSTART:20220327T010000
END:DAYLIGHT
BEGIN:STANDARD
TZOFFSETFROM:+0200
TZOFFSETTO:+0100
TZNAME:CET
DTSTART:20221030T010000
END:STANDARD
END:VTIMEZONE
BEGIN:VEVENT
DTSTART;VALUE=DATE:20220916
DTEND;VALUE=DATE:20220919
DTSTAMP:20260422T114152
CREATED:20220914T183122Z
LAST-MODIFIED:20220914T183122Z
UID:25476-1663286400-1663545599@lepetitvarois.fr
SUMMARY:Journées européennes du patrimoine "Le patrimoine durable "
DESCRIPTION:Demandez le programme dans nos accueils !\nVendredi 16 septembre :\n18h\, musée de la fleur : vernissage de l’exposition « Quand l’art fleurit\, la fleur dans l’art nouveau et l’art déco ». \nSamedi 17 septembre :\n– 8h30-12h : les samedis du patrimoine « Découverte de l’Oppidum ».\n– 10h-12h\, au départ du musée de la fleur : visite patrimoine secret.\n– 10h & 15h : visite de la fabrique du nougat Jonquier (Tél. 04 94 63 20 38). \n> Un après-midi à la pinède de Castelombre\n– 14h-16h30 : visite du domaine de Castelombre par Corinne Peuchet.\n14h-18h : animations familiales avec les ateliers des associations Tremplin et les Petits Débrouillards.\n– 15h-16h : lecture de paysage sous forme de balade par l’association Mer Nature.\n– 16h30-18h : spectacle musical « On rassemble à Mayol » par la Guinguette à Roulettes. Le Guinguette Hot Club\, collectif de musiciens toulonnais s’empare du fameux repertoire de Félix Mayol\, chanteur toulonnais emblématique. \n– 20h\, église Saint Laurent : concert de Clarinettissimo (quintette de clarinettes) – Gratuit. \nSamedi 17 et dimanche 18 septembre :\n– La Maison du Patrimoine\, 20 rue Gambetta : ouvert de 9h30 à 12h et de 14h à 17h30 (entrée gratuite).\n– Visites libres : Moulin de Palisson\, église Saint Laurent\, Château féodal\, Jardin des Vintimille.\n– Les musées : La Maison du Patrimoine MTPM\, centre d’interprétation du Patrimoine Métropolitain\, 20 rue Gambetta et le musée de l’école 1 rue Anatole France.\n– Les expositions : « La fleur dans l’art déco et l’art nouveau » au muse de la Fleur ; « Titans des mers » à l’espace Puget ; « Le salon de sculptures » dans la salle de la Criée et « exposition de Clémentine Sanchez » à la galerie de l’Olivier.\n– À la rencontre des écrivains : Rencontre avec des écrivains de la région à la Galerie de l’Olivier avec Héloïse Guay de Bellissen\, Jacques Serena\, Caroline Rocca\, Catherine Monce. \nDimanche 18 septembre :\n– 9h-12h : visite du canal des arrosants des sources au centre-ville (COMPLET).\n– 9h & 10h30 : visites du musée de la fleur par Raoul Decugis.\n– 9h-18h\, au 6 bis rue de la Tour (Tél Lou Fougau Prouvençau 07 78 88 84 61) : découverte des traditions du patrimoine provençal (ateliers sur le costume provençal\, confection de bouteilles de lavande\, stand de livres en langue provençale). 11h : cuisine la brandade de morue ; 15h30 : chants\, contes\, musique ; 17h30 : danses\, scènes de la Pastorale.\n– 14h-16h\, salle Jean Moulin : diffusion du film « Une bouteille à la Reppe et échanges avec le réalisateur Philippe Maurel et conférence « L’eau en Provence » de Raoul Decugis.\n– 15h : visite de la fabrique du nougat Jonquier (Tél. 04 94 63 20 38).\n– 16h-17h : goûter offert par la ville dans le jardin des Heures.\n– 17h-18h : visite guidée du musée de la fleur et l’eau à Ollioules.\n\n\nDu vendredi 16 au dimanche 18 septembre 2022.
URL:https://lepetitvarois.fr/event/journees-europeennes-du-patrimoine-le-patrimoine-durable/
CATEGORIES:Ollioules
ATTACH;FMTTYPE=image/jpeg:https://lepetitvarois.fr/wp-content/uploads/2022/09/800x600_127427-moulinpalisson2.jpg
END:VEVENT
END:VCALENDAR