BEGIN:VCALENDAR
VERSION:2.0
PRODID:-//Le Petit Varois.Fr - ECPv6.0.10//NONSGML v1.0//EN
CALSCALE:GREGORIAN
METHOD:PUBLISH
X-WR-CALNAME:Le Petit Varois.Fr
X-ORIGINAL-URL:https://lepetitvarois.fr
X-WR-CALDESC:évènements pour Le Petit Varois.Fr
REFRESH-INTERVAL;VALUE=DURATION:PT1H
X-Robots-Tag:noindex
X-PUBLISHED-TTL:PT1H
BEGIN:VTIMEZONE
TZID:Europe/Paris
BEGIN:DAYLIGHT
TZOFFSETFROM:+0100
TZOFFSETTO:+0200
TZNAME:CEST
DTSTART:20220327T010000
END:DAYLIGHT
BEGIN:STANDARD
TZOFFSETFROM:+0200
TZOFFSETTO:+0100
TZNAME:CET
DTSTART:20221030T010000
END:STANDARD
END:VTIMEZONE
BEGIN:VEVENT
DTSTART;TZID=Europe/Paris:20220925T090000
DTEND;TZID=Europe/Paris:20220925T113000
DTSTAMP:20260422T114153
CREATED:20220915T124320Z
LAST-MODIFIED:20220915T124320Z
UID:25508-1664096400-1664105400@lepetitvarois.fr
SUMMARY:Atelier de création d'herbier fantaisie spécial lettre
DESCRIPTION:Ces ateliers de créations sont accessibles aux adultes.\n\n\nDimanche 25 septembre 2022 de 9h à 11h30.
URL:https://lepetitvarois.fr/event/atelier-de-creation-dherbier-fantaisie-special-lettre/
CATEGORIES:Ollioules
ATTACH;FMTTYPE=image/jpeg:https://lepetitvarois.fr/wp-content/uploads/2022/09/800x600_123581-oll_atelier_noel_madame_mimosa_15dec21.jpg
END:VEVENT
END:VCALENDAR