BEGIN:VCALENDAR
VERSION:2.0
PRODID:-//Le Petit Varois.Fr - ECPv6.0.10//NONSGML v1.0//EN
CALSCALE:GREGORIAN
METHOD:PUBLISH
X-ORIGINAL-URL:https://lepetitvarois.fr
X-WR-CALDESC:évènements pour Le Petit Varois.Fr
REFRESH-INTERVAL;VALUE=DURATION:PT1H
X-Robots-Tag:noindex
X-PUBLISHED-TTL:PT1H
BEGIN:VTIMEZONE
TZID:Europe/Paris
BEGIN:DAYLIGHT
TZOFFSETFROM:+0100
TZOFFSETTO:+0200
TZNAME:CEST
DTSTART:20230326T010000
END:DAYLIGHT
BEGIN:STANDARD
TZOFFSETFROM:+0200
TZOFFSETTO:+0100
TZNAME:CET
DTSTART:20231029T010000
END:STANDARD
END:VTIMEZONE
BEGIN:VEVENT
DTSTART;TZID=Europe/Paris:20230210T190000
DTEND;TZID=Europe/Paris:20230210T210000
DTSTAMP:20260422T031232
CREATED:20230205T071638Z
LAST-MODIFIED:20230205T071655Z
UID:26957-1676055600-1676062800@lepetitvarois.fr
SUMMARY:Nuit des étoiles d'hiver: Orion entre science et fiction
DESCRIPTION:Événement organisé dans le cadre des Nuits des Étoiles d’Hiver et du Festival de Science Fiction Les Mycéliades.\nVin chaud et café offert.\n\n\nVendredi 10 février 2023 à 19h.\nLieu : Observatoire astronomique du Gros Cerveau
URL:https://lepetitvarois.fr/event/nuit-des-etoiles-dhiver-orion-entre-science-et-fiction/
CATEGORIES:Ollioules
ATTACH;FMTTYPE=image/jpeg:https://lepetitvarois.fr/wp-content/uploads/2018/08/sky-828648_960_720.jpg
END:VEVENT
END:VCALENDAR