BEGIN:VCALENDAR
VERSION:2.0
PRODID:-//Le Petit Varois.Fr - ECPv6.0.10//NONSGML v1.0//EN
CALSCALE:GREGORIAN
METHOD:PUBLISH
X-WR-CALNAME:Le Petit Varois.Fr
X-ORIGINAL-URL:https://lepetitvarois.fr
X-WR-CALDESC:évènements pour Le Petit Varois.Fr
REFRESH-INTERVAL;VALUE=DURATION:PT1H
X-Robots-Tag:noindex
X-PUBLISHED-TTL:PT1H
BEGIN:VTIMEZONE
TZID:Europe/Paris
BEGIN:DAYLIGHT
TZOFFSETFROM:+0100
TZOFFSETTO:+0200
TZNAME:CEST
DTSTART:20230326T010000
END:DAYLIGHT
BEGIN:STANDARD
TZOFFSETFROM:+0200
TZOFFSETTO:+0100
TZNAME:CET
DTSTART:20231029T010000
END:STANDARD
END:VTIMEZONE
BEGIN:VEVENT
DTSTART;TZID=Europe/Paris:20230211T190000
DTEND;TZID=Europe/Paris:20230211T210000
DTSTAMP:20260422T030927
CREATED:20230205T072459Z
LAST-MODIFIED:20230205T072459Z
UID:26965-1676142000-1676149200@lepetitvarois.fr
SUMMARY:L'étoile supergéante rouge bateleuse nous a t elle fait un clin d'oeil ?
DESCRIPTION:Événement organisé dans le cadre des Nuits des Étoiles d’Hiver et du Festival de Science Fiction Les Mycéliades.\nConférence prononcée par Miguel Montargès\, astrophysicien à l’Observatoire de Paris.\n\n\nSamedi 11 février 2023 à 19h.
URL:https://lepetitvarois.fr/event/letoile-supergeante-rouge-bateleuse-nous-a-t-elle-fait-un-clin-doeil/
CATEGORIES:Ollioules
ATTACH;FMTTYPE=image/jpeg:https://lepetitvarois.fr/wp-content/uploads/2018/06/star-gazing-1149228_960_720.jpg
END:VEVENT
END:VCALENDAR