BEGIN:VCALENDAR
VERSION:2.0
PRODID:-//Le Petit Varois.Fr - ECPv6.0.10//NONSGML v1.0//EN
CALSCALE:GREGORIAN
METHOD:PUBLISH
X-WR-CALNAME:Le Petit Varois.Fr
X-ORIGINAL-URL:https://lepetitvarois.fr
X-WR-CALDESC:évènements pour Le Petit Varois.Fr
REFRESH-INTERVAL;VALUE=DURATION:PT1H
X-Robots-Tag:noindex
X-PUBLISHED-TTL:PT1H
BEGIN:VTIMEZONE
TZID:Europe/Paris
BEGIN:DAYLIGHT
TZOFFSETFROM:+0100
TZOFFSETTO:+0200
TZNAME:CEST
DTSTART:20180325T010000
END:DAYLIGHT
BEGIN:STANDARD
TZOFFSETFROM:+0200
TZOFFSETTO:+0100
TZNAME:CET
DTSTART:20181028T010000
END:STANDARD
END:VTIMEZONE
BEGIN:VEVENT
DTSTART;TZID=Europe/Paris:20180602T110000
DTEND;TZID=Europe/Paris:20180602T180000
DTSTAMP:20260424T081310
CREATED:20180601T144059Z
LAST-MODIFIED:20180601T144059Z
UID:5092-1527937200-1527962400@lepetitvarois.fr
SUMMARY:Un journée au Jardin
DESCRIPTION:Une journée au jardin organisée par le service culture de la ville au domaine de l’Ermitage. \nNombreuses animations\, Cours de Do-In ouvert à tous à 11\, apéritif\, musique\, ateliers enfants\, artistes en liberté\, concert Belladona 9 ch\, conteur\, chanteurs\, musiciens\, pique nique libre… \nAvec les groupe « Mauvaises graines » et « les Cocciclowns ». Une journée champêtre sous le signe du printemps…
URL:https://lepetitvarois.fr/event/un-journee-au-jardin/
CATEGORIES:Saint-Mandrier
ATTACH;FMTTYPE=image/jpeg:https://lepetitvarois.fr/wp-content/uploads/2018/04/cherry-blossom-3323383_960_720.jpg
END:VEVENT
BEGIN:VEVENT
DTSTART;TZID=Europe/Paris:20180603T083000
DTEND;TZID=Europe/Paris:20180603T180000
DTSTAMP:20260424T081310
CREATED:20180601T144219Z
LAST-MODIFIED:20180601T144219Z
UID:5094-1528014600-1528048800@lepetitvarois.fr
SUMMARY:Vide grenier du Village
DESCRIPTION:Vide Grenier du Village \nPlace des Résistants \nRenseignements et réservations au 06.73.37.13.72
URL:https://lepetitvarois.fr/event/vide-grenier-du-village/
CATEGORIES:Saint-Mandrier
ATTACH;FMTTYPE=image/jpeg:https://lepetitvarois.fr/wp-content/uploads/2018/02/art-21542_960_720.jpg
END:VEVENT
BEGIN:VEVENT
DTSTART;TZID=Europe/Paris:20180605T083000
DTEND;TZID=Europe/Paris:20180605T113000
DTSTAMP:20260424T081310
CREATED:20180601T121932Z
LAST-MODIFIED:20180601T121932Z
UID:5028-1528187400-1528198200@lepetitvarois.fr
SUMMARY:Neuvième opération Rade Propre
DESCRIPTION:Nettoyage du port de Saint Mandrier. N’oubliez pas vos gants et une tenue adaptée.\nOpération en collaboration avec la Marine Nationale\, Pôle Ecole Méditerranée\, école de plongée\, CCIV\, les associations nautiques (ANSM\, APM\, APP)\, Prudhomie des pêcheurs et école de voile. \nMardi 05 juin 2018\nDe 08:30 à 11:30\nLieu : Place des Résistants
URL:https://lepetitvarois.fr/event/neuvieme-operation-rade-propre/
CATEGORIES:Saint-Mandrier
ATTACH;FMTTYPE=image/jpeg:https://lepetitvarois.fr/wp-content/uploads/2015/04/21015467_10213072737789850_595112671_n-e1517352253636.jpg
END:VEVENT
BEGIN:VEVENT
DTSTART;TZID=Europe/Paris:20180609T000000
DTEND;TZID=Europe/Paris:20180609T000000
DTSTAMP:20260424T081310
CREATED:20180609T171556Z
LAST-MODIFIED:20180609T171556Z
UID:5416-1528502400-1528502400@lepetitvarois.fr
SUMMARY:Journée Nautique mandréenne et Puces Nautique
DESCRIPTION:
URL:https://lepetitvarois.fr/event/journee-nautique-mandreenne-et-puces-nautique/
CATEGORIES:Saint-Mandrier
ATTACH;FMTTYPE=image/png:https://lepetitvarois.fr/wp-content/uploads/2018/06/Capture-d’écran-2018-06-09-à-19.08.21.png
END:VEVENT
BEGIN:VEVENT
DTSTART;TZID=Europe/Paris:20180609T080000
DTEND;TZID=Europe/Paris:20180609T120000
DTSTAMP:20260424T081310
CREATED:20180601T144327Z
LAST-MODIFIED:20180601T144327Z
UID:5096-1528531200-1528545600@lepetitvarois.fr
SUMMARY:Basket : 4éme Challenge Jean Derrien
DESCRIPTION:Le club de basket de la ville de Saint-Mandrier organise son 4ème tournoi de basket 3c3\, tournoi homologué FFBB et qualificatif au tournoi central PACA du Cap d’Ail du 9 juin 2018. \nSur place\, buvette et petite restauration. Des joueurs de tous les clubs de la région PACA viendront s’affronter sur les terrains extérieurs de basket avenue Marc Baron\, près du parking du stade.\nRendez-vous dès 9 h pour le début des rencontres ; remise des récompenses vers 12 h.\nNous vous attendons nombreux.
URL:https://lepetitvarois.fr/event/basket-4eme-challenge-jean-derrien/
CATEGORIES:Saint-Mandrier
ATTACH;FMTTYPE=image/jpeg:https://lepetitvarois.fr/wp-content/uploads/2018/05/girl-3307262_960_720.jpg
END:VEVENT
BEGIN:VEVENT
DTSTART;TZID=Europe/Paris:20180609T120000
DTEND;TZID=Europe/Paris:20180609T170000
DTSTAMP:20260424T081310
CREATED:20180606T200651Z
LAST-MODIFIED:20180606T200651Z
UID:5245-1528545600-1528563600@lepetitvarois.fr
SUMMARY:Repas champêtre à 12h
DESCRIPTION:Repas champêtre à 12h.\nPinède Saint-Asile\, Pin Rolland. ST MANDRIER\nRepas champêtre avec apéritif\, salade composée\, sardines\, fromages\, glace et boissons. \n> 20 €. Inscription obligatoire\nAmicale des donneurs de sang bénévoles de St Mandrier 04 94 63 70 10
URL:https://lepetitvarois.fr/event/repas-champetre-a-12h/
CATEGORIES:Saint-Mandrier
ATTACH;FMTTYPE=image/jpeg:https://lepetitvarois.fr/wp-content/uploads/2018/06/break-11881_960_720.jpg
END:VEVENT
BEGIN:VEVENT
DTSTART;TZID=Europe/Paris:20180612T180000
DTEND;TZID=Europe/Paris:20180612T200000
DTSTAMP:20260424T081310
CREATED:20180601T144602Z
LAST-MODIFIED:20180601T144602Z
UID:5098-1528826400-1528833600@lepetitvarois.fr
SUMMARY:Concert l'Orchestre à L'école
DESCRIPTION:Orchestre à l’école\nLes classes orchestres de Saint-Mandrier ont donné une représentation le 22 mai à Châteauvallon en compagnie des autres écoles entrant dans ce dispositif. \nLes 3 années d’orchestre à l’école arrivent à leur terme. Nous organisons une dernière représentation à Saint Mandrier pour que les Mandréens puissent les applaudir à nouveau. Nous vous attendons nombreux le mardi 12 juin à 18 heures à l’Ermitage. \nNous féliciterons\, à cette occasion\, les enfants\, leurs professeurs et toute l’équipe pédagogique qui s’est investie au cours de ces 3 années.
URL:https://lepetitvarois.fr/event/concert-lorchestre-a-lecole/
CATEGORIES:Saint-Mandrier
ATTACH;FMTTYPE=image/jpeg:https://lepetitvarois.fr/wp-content/uploads/2018/01/microphone-1209816_960_720.jpg
END:VEVENT
BEGIN:VEVENT
DTSTART;TZID=Europe/Paris:20180617T080000
DTEND;TZID=Europe/Paris:20180617T180000
DTSTAMP:20260424T081310
CREATED:20180607T182254Z
LAST-MODIFIED:20180607T182254Z
UID:5347-1529222400-1529258400@lepetitvarois.fr
SUMMARY:Vide-greniers de Pin Rolland
DESCRIPTION:Vide-greniers de Pin Rolland de 8h à 18h.\nParking Sainte-Asile. ST MANDRIER\n> 8 € l’emplacement. Réservation obligatoire.\nAssociation festive de la presqu’île
URL:https://lepetitvarois.fr/event/vide-greniers-de-pin-rolland/
CATEGORIES:Saint-Mandrier
ATTACH;FMTTYPE=image/jpeg:https://lepetitvarois.fr/wp-content/uploads/2018/03/easter-3263657_960_720.jpg
END:VEVENT
BEGIN:VEVENT
DTSTART;TZID=Europe/Paris:20180617T083000
DTEND;TZID=Europe/Paris:20180617T170000
DTSTAMP:20260424T081310
CREATED:20180601T144753Z
LAST-MODIFIED:20180601T144753Z
UID:5100-1529224200-1529254800@lepetitvarois.fr
SUMMARY:Vide Grenier du Pin Rolland
DESCRIPTION:Vide Grenier du Pin Rolland \nParking Sainte Asile \nRenseignements et réservations au 07.85.59.06.98
URL:https://lepetitvarois.fr/event/vide-grenier-du-pin-rolland/
CATEGORIES:Saint-Mandrier
ATTACH;FMTTYPE=image/jpeg:https://lepetitvarois.fr/wp-content/uploads/2018/02/marbles-1659398_960_720.jpg
END:VEVENT
BEGIN:VEVENT
DTSTART;TZID=Europe/Paris:20180621T210000
DTEND;TZID=Europe/Paris:20180621T230000
DTSTAMP:20260424T081310
CREATED:20180608T190722Z
LAST-MODIFIED:20180608T190722Z
UID:5395-1529614800-1529622000@lepetitvarois.fr
SUMMARY:Concert de l'Orchestre de Chambre de Toulon et du Var "Swing and Strings"
DESCRIPTION:Concert de l’Orchestre de Chambre de Toulon et du Var « Swing and Strings » à 21h.\nDomaine de l’Ermitage\, ch. de la Coudoulière. ST MANDRIER \nDans le cadre de la fête de la musique\, trio jazz et quatuor avec l’Orchestre de Chambre de Toulon et du Var. \n> Entrée libre.\nService Vie de la Cité
URL:https://lepetitvarois.fr/event/concert-de-lorchestre-de-chambre-de-toulon-et-du-var-swing-and-strings/
CATEGORIES:Saint-Mandrier
ATTACH;FMTTYPE=image/jpeg:https://lepetitvarois.fr/wp-content/uploads/2018/06/drummer-1208190_960_720.jpg
END:VEVENT
BEGIN:VEVENT
DTSTART;TZID=Europe/Paris:20180624T170000
DTEND;TZID=Europe/Paris:20180624T210000
DTSTAMP:20260424T081310
CREATED:20180614T181311Z
LAST-MODIFIED:20180614T181311Z
UID:5509-1529859600-1529874000@lepetitvarois.fr
SUMMARY:Spectacle de fin d'année des élèves du Théâtre Sud Varois
DESCRIPTION:Spectacle de fin d’année des élèves du Théâtre Sud Varois à 17h.\nThéâtre Marc Baron\, square Marc Baron. ST MANDRIER\n> Entrée libre.\nThéâtre Sud Varois 06 72 15 39 19
URL:https://lepetitvarois.fr/event/spectacle-de-fin-dannee-des-eleves-du-theatre-sud-varois/
CATEGORIES:Saint-Mandrier
ATTACH;FMTTYPE=image/jpeg:https://lepetitvarois.fr/wp-content/uploads/2018/06/drummer-1208190_960_720.jpg
END:VEVENT
BEGIN:VEVENT
DTSTART;TZID=Europe/Paris:20180629T090000
DTEND;TZID=Europe/Paris:20180629T120000
DTSTAMP:20260424T081310
CREATED:20180625T193343Z
LAST-MODIFIED:20180625T193343Z
UID:5680-1530262800-1530273600@lepetitvarois.fr
SUMMARY:Randonnée pédestre de Saint-Asile au Gros Baou
DESCRIPTION:Randonnée pédestre de Saint-Asile au Gros Baou de 9h à 12h.\nPlage Sainte Asile\, promenade Latouche Tréville. ST MANDRIER \nDécouvrez le patrimoine mandréen avec les randonnées de l’ASP Marégau. Lecture du paysage\, de ses composantes géologiques et historiques. Rdv et départ face au club de plongée de la plage de Saint-Asile. \nLongueur 3\,2 km – Dénivelé 70m – Durée 3h. \n> Gratuit. Excursion avec livret guide 3 €. Réservation obligatoire.\nAssociation pour la sauvegarde et la mise en valeur de Marégau 04 94 88 34 61
URL:https://lepetitvarois.fr/event/randonnee-pedestre-de-saint-asile-au-gros-baou/
CATEGORIES:Saint-Mandrier
ATTACH;FMTTYPE=image/jpeg:https://lepetitvarois.fr/wp-content/uploads/2018/04/shoes-1638873_960_720.jpg
END:VEVENT
BEGIN:VEVENT
DTSTART;TZID=Europe/Paris:20180629T200000
DTEND;TZID=Europe/Paris:20180629T233000
DTSTAMP:20260424T081310
CREATED:20180625T193641Z
LAST-MODIFIED:20180625T193641Z
UID:5682-1530302400-1530315000@lepetitvarois.fr
SUMMARY:Retransmission au cinéma : Pite / Pérez / Schechter à 20h
DESCRIPTION:Retransmission au cinéma : Pite / Pérez / Schechter à 20h.\nCinéma Marc Baron\, square Marc Baron. ST MANDRIER\nTrois chorégraphes contemporains sont réunis pour ce programme et entraînent les danseurs de l’Opéra dans une nouvelle forme de modernité où les corps vibrent avec intensité. La Canadienne Crystal Pite revient avec The Seasons’ Canon\, création éblouissante qui avait enthousiasmé le public du Palais Garnier la saison dernière. L’Espagnol Iván Pérez investit pour la première fois la scène de l’Opéra avec une création pour dix hommes. Pour clore cette soirée\, l’Israélien Hofesh Shechter\, régulièrement salué pour ses danses telluriques aux états de transe\, offre une nouvelle version de sa pièce The Art of Not Looking Back.\n> 15 € tarif unique.
URL:https://lepetitvarois.fr/event/retransmission-au-cinema-pite-perez-schechter-a-20h/
CATEGORIES:Saint-Mandrier
ATTACH;FMTTYPE=image/jpeg:https://lepetitvarois.fr/wp-content/uploads/2018/02/wells-theatre-210914_960_720.jpg
END:VEVENT
END:VCALENDAR