BEGIN:VCALENDAR
VERSION:2.0
PRODID:-//Le Petit Varois.Fr - ECPv6.0.10//NONSGML v1.0//EN
CALSCALE:GREGORIAN
METHOD:PUBLISH
X-ORIGINAL-URL:https://lepetitvarois.fr
X-WR-CALDESC:évènements pour Le Petit Varois.Fr
REFRESH-INTERVAL;VALUE=DURATION:PT1H
X-Robots-Tag:noindex
X-PUBLISHED-TTL:PT1H
BEGIN:VTIMEZONE
TZID:Europe/Paris
BEGIN:DAYLIGHT
TZOFFSETFROM:+0100
TZOFFSETTO:+0200
TZNAME:CEST
DTSTART:20180325T010000
END:DAYLIGHT
BEGIN:STANDARD
TZOFFSETFROM:+0200
TZOFFSETTO:+0100
TZNAME:CET
DTSTART:20181028T010000
END:STANDARD
END:VTIMEZONE
BEGIN:VEVENT
DTSTART;VALUE=DATE:20180701
DTEND;VALUE=DATE:20180703
DTSTAMP:20260424T062013
CREATED:20180625T201145Z
LAST-MODIFIED:20180625T201145Z
UID:5712-1530403200-1530575999@lepetitvarois.fr
SUMMARY:Jeu provençal 2X2 : challenge des Boulomanes
DESCRIPTION:Jeu provençal 2X2 : challenge des Boulomanes de 9h à 20h.\nBoulodrome d’Isanto\, av. Jules Guesde et stade du village\, av. Marc Baron. ST MANDRIER \n> 8 € / équipe. Inscriptions et dépôt des licences au stade du village du samedi 18h jusqu’au dimanche 8h30.\nLes Boulomanes du Creux St Georges 06 05 24 05 85
URL:https://lepetitvarois.fr/event/jeu-provencal-2x2-challenge-des-boulomanes/
CATEGORIES:Saint-Mandrier
ATTACH;FMTTYPE=image/jpeg:https://lepetitvarois.fr/wp-content/uploads/2018/06/bocce-690636_960_720.jpg
END:VEVENT
BEGIN:VEVENT
DTSTART;TZID=Europe/Paris:20180701T090000
DTEND;TZID=Europe/Paris:20180701T170000
DTSTAMP:20260424T062013
CREATED:20180625T195934Z
LAST-MODIFIED:20180625T195934Z
UID:5700-1530435600-1530464400@lepetitvarois.fr
SUMMARY:Fête de la Saint Pierre
DESCRIPTION:Fête de la Saint Pierre\nPlace des Résistants\, quai d’Honneur. ST MANDRIER \nTraditionnelle Fête des pêcheurs chère au cœur des Mandréens et des habitants de l’aire toulonnaise.  \n9 h\, parking de la Vieille : départ du défilé vers le Monument aux Morts\, dépôt de Gerbes. \n10 h 30\, quai d’Honneur : messe avec la Chorale Alléluia. \n11 h 30 : sortie en mer et jet de fleurs. \nDégustation et vente des spécialités des pêcheurs. \n13 h 30 : apéritif et sardinade organisée par les pêcheurs. \nAvec : la Respelido de Saint-Mandrier et les personnes costumées \, la Chorale Alléluia\, le Bagad du PEM\, Fanfare Jean-Christophe\, Jean Delobel\, la Respelido Valettenco\, Leï Flour\, les Bravadeurs\, les Sauveteurs en Mer\, Pointus et Patrimoine\, les Francs Jouteurs et les pêcheurs.\nService Vie de la Cité 04 94 11 51 75
URL:https://lepetitvarois.fr/event/fete-de-la-saint-pierre/
CATEGORIES:Saint-Mandrier
ATTACH;FMTTYPE=image/jpeg:https://lepetitvarois.fr/wp-content/uploads/2018/06/35634140_10215548894172212_5375568328800600064_n.jpg
END:VEVENT
BEGIN:VEVENT
DTSTART;TZID=Europe/Paris:20180701T090000
DTEND;TZID=Europe/Paris:20180701T190000
DTSTAMP:20260424T062013
CREATED:20180625T200457Z
LAST-MODIFIED:20180625T200457Z
UID:5706-1530435600-1530471600@lepetitvarois.fr
SUMMARY:Tournoi de joutes : 2e tour du championnat Côte d'Azur
DESCRIPTION:Tournoi de joutes : 2e tour du championnat Côte d’Azur de 9h à 19h.\nPointe des Blagueurs. ST MANDRIER \nFrancs Jouteurs Mandréens 04 94 63 92 61
URL:https://lepetitvarois.fr/event/tournoi-de-joutes-2e-tour-du-championnat-cote-dazur/
CATEGORIES:Saint-Mandrier
ATTACH;FMTTYPE=image/jpeg:https://lepetitvarois.fr/wp-content/uploads/2015/04/21015467_10213072737789850_595112671_n-e1517352253636.jpg
END:VEVENT
BEGIN:VEVENT
DTSTART;TZID=Europe/Paris:20180702T183000
DTEND;TZID=Europe/Paris:20180702T183000
DTSTAMP:20260424T062014
CREATED:20180626T214314Z
LAST-MODIFIED:20180626T214314Z
UID:5720-1530556200-1530556200@lepetitvarois.fr
SUMMARY:Spectacle de marionnettes : Guignol et la Reine des Neiges à 18h30
DESCRIPTION:Spectacle de marionnettes : Guignol et la Reine des Neiges à 18h30.\nPlace des Résistants. ST MANDRIER\n> 6 € tarif unique.\nMarionnettes Loyal 06 14 74 33 73
URL:https://lepetitvarois.fr/event/spectacle-de-marionnettes-guignol-et-la-reine-des-neiges-a-18h30/
CATEGORIES:Saint-Mandrier
ATTACH;FMTTYPE=image/jpeg:https://lepetitvarois.fr/wp-content/uploads/2018/06/puppet-stall-2383416_960_720.jpg
END:VEVENT
BEGIN:VEVENT
DTSTART;TZID=Europe/Paris:20180703T190000
DTEND;TZID=Europe/Paris:20180703T210000
DTSTAMP:20260424T062014
CREATED:20180626T214751Z
LAST-MODIFIED:20180626T214751Z
UID:5727-1530644400-1530651600@lepetitvarois.fr
SUMMARY:Conférence "Baboulène\, peintre des silences éclatants"
DESCRIPTION:Conférence « Baboulène\, peintre des silences éclatants » animée par José Lenzini\, journaliste et écrivain à 19h.\nDomaine de l’Ermitage\, ch. de la Coudoulière. ST MANDRIER \n> Entrée libre. \nService Vie de la Cité 04 94 11 51 75
URL:https://lepetitvarois.fr/event/conference-baboulene-peintre-des-silences-eclatants/
CATEGORIES:Saint-Mandrier
ATTACH;FMTTYPE=image/jpeg:https://lepetitvarois.fr/wp-content/uploads/2018/04/notebook-3297317_960_720.jpg
END:VEVENT
BEGIN:VEVENT
DTSTART;TZID=Europe/Paris:20180703T200000
DTEND;TZID=Europe/Paris:20180703T200000
DTSTAMP:20260424T062014
CREATED:20180626T215006Z
LAST-MODIFIED:20180626T215006Z
UID:5729-1530648000-1530648000@lepetitvarois.fr
SUMMARY:Spectacle : 40 années de danse et de féerie...
DESCRIPTION:Spectacle : 40 années de danse et de féerie… par les élèves de l’école de danse de Saint Mandrier à 20h.\nPlace des Résistants. ST MANDRIER \n> Gratuit.\nEcole de danse de Saint Mandrier  06 15 87 24 15
URL:https://lepetitvarois.fr/event/spectacle-40-annees-de-danse-et-de-feerie/
CATEGORIES:Saint-Mandrier
ATTACH;FMTTYPE=image/jpeg:https://lepetitvarois.fr/wp-content/uploads/2018/04/woman-1975407_960_720.jpg
END:VEVENT
BEGIN:VEVENT
DTSTART;TZID=Europe/Paris:20180706T173000
DTEND;TZID=Europe/Paris:20180706T223000
DTSTAMP:20260424T062014
CREATED:20180628T211219Z
LAST-MODIFIED:20180628T211220Z
UID:5793-1530898200-1530916200@lepetitvarois.fr
SUMMARY:Merguez partie
DESCRIPTION:Merguez partie à 17h30.\nParking Saint-Asile\, Pin Rolland. ST MANDRIER \n> 2\,50 € le sandwich (avec 2 merguez ou 2 chipolatas ou 1 boudin + une boisson). Pas de réservation.\nAssociation du quartier Pin Rolland / Maregau / Vert-bois 04 94 06 04 26
URL:https://lepetitvarois.fr/event/merguez-partie/
CATEGORIES:Saint-Mandrier
ATTACH;FMTTYPE=image/jpeg:https://lepetitvarois.fr/wp-content/uploads/2018/06/rest-836292_960_720.jpg
END:VEVENT
BEGIN:VEVENT
DTSTART;TZID=Europe/Paris:20180707T190000
DTEND;TZID=Europe/Paris:20180707T233000
DTSTAMP:20260424T062014
CREATED:20180628T213656Z
LAST-MODIFIED:20180628T213656Z
UID:5807-1530990000-1531006200@lepetitvarois.fr
SUMMARY:Fête de la mer à 19h
DESCRIPTION:Fête de la mer à 19h.\nPinède Saint-Asile\, Pin Rolland. ST MANDRIER \nPêcheurs\, mytiliculteurs\, ostréiculteurs\, aquaculteurs… vous proposent leurs spécialités dans une ambiance festive et musicale. \nOT Saint Mandrier 04 94 63 61 69
URL:https://lepetitvarois.fr/event/fete-de-la-mer-a-19h/
CATEGORIES:Saint-Mandrier
ATTACH;FMTTYPE=image/jpeg:https://lepetitvarois.fr/wp-content/uploads/2018/06/35634140_10215548894172212_5375568328800600064_n.jpg
END:VEVENT
BEGIN:VEVENT
DTSTART;TZID=Europe/Paris:20180708T170000
DTEND;TZID=Europe/Paris:20180708T233000
DTSTAMP:20260424T062014
CREATED:20180628T220247Z
LAST-MODIFIED:20180628T220247Z
UID:5825-1531069200-1531092600@lepetitvarois.fr
SUMMARY:Vide-greniers du village
DESCRIPTION:Vide-greniers du village de 17h à minuit.\nPlace des Résistants. ST MANDRIER\n> 10 € l’emplacement. Inscription par SMS uniquement.\nAssociation Les Ti’mandréens 06 73 37 13 72
URL:https://lepetitvarois.fr/event/vide-greniers-du-village/
CATEGORIES:Saint-Mandrier
ATTACH;FMTTYPE=image/jpeg:https://lepetitvarois.fr/wp-content/uploads/2018/02/art-21542_960_720.jpg
END:VEVENT
BEGIN:VEVENT
DTSTART;TZID=Europe/Paris:20180709T080000
DTEND;TZID=Europe/Paris:20180709T123000
DTSTAMP:20260424T062014
CREATED:20180628T220708Z
LAST-MODIFIED:20180628T220708Z
UID:5829-1531123200-1531139400@lepetitvarois.fr
SUMMARY:Collecte de sang
DESCRIPTION:Collecte de sang de 8h à 12h30.\nSalle des Fêtes Marc Baron\, square Marc Baron. ST MANDRIER \nSe présenter avec une carte d’identité.\nEtablissement français du sang 04 98 08 08 56
URL:https://lepetitvarois.fr/event/collecte-de-sang-2/
CATEGORIES:Saint-Mandrier
ATTACH;FMTTYPE=image/png:https://lepetitvarois.fr/wp-content/uploads/2018/02/caduceus-2730780_960_720.png
END:VEVENT
BEGIN:VEVENT
DTSTART;TZID=Europe/Paris:20180710T170000
DTEND;TZID=Europe/Paris:20180710T230000
DTSTAMP:20260424T062014
CREATED:20180629T142111Z
LAST-MODIFIED:20180629T142111Z
UID:5847-1531242000-1531263600@lepetitvarois.fr
SUMMARY:Foire artisanale nocturne
DESCRIPTION:Foire artisanale nocturne de 17h à minuit.\nPlace des Résistants\, quai d’Honneur. ST MANDRIER \nPlein V’Arts 06 09 95 83 21
URL:https://lepetitvarois.fr/event/foire-artisanale-nocturne/
CATEGORIES:Saint-Mandrier
ATTACH;FMTTYPE=image/jpeg:https://lepetitvarois.fr/wp-content/uploads/2018/03/easter-3263657_960_720.jpg
END:VEVENT
BEGIN:VEVENT
DTSTART;TZID=Europe/Paris:20180711T213000
DTEND;TZID=Europe/Paris:20180711T233000
DTSTAMP:20260424T062014
CREATED:20180629T142504Z
LAST-MODIFIED:20180629T142504Z
UID:5854-1531344600-1531351800@lepetitvarois.fr
SUMMARY:Concert Cosimo Blue à 21h30
DESCRIPTION:Concert Cosimo Blue à 21h30.\nParking Saint-Asile\, Pin Rolland. ST MANDRIER \nPascal Cosimo est un puriste du rock blues au jeu de guitare hors pair et à la voix teigneuse\, gorgée de soul. \n> Gratuit.\nOT Saint Mandrier 04 94 63 61 69
URL:https://lepetitvarois.fr/event/concert-cosimo-blue-a-21h30/
CATEGORIES:Saint-Mandrier
ATTACH;FMTTYPE=image/jpeg:https://lepetitvarois.fr/wp-content/uploads/2018/06/concert-896786_960_720.jpg
END:VEVENT
BEGIN:VEVENT
DTSTART;TZID=Europe/Paris:20180713T090000
DTEND;TZID=Europe/Paris:20180713T120000
DTSTAMP:20260424T062014
CREATED:20180629T144240Z
LAST-MODIFIED:20180629T144240Z
UID:5864-1531472400-1531483200@lepetitvarois.fr
SUMMARY:Randonnée pédestre de Saint-Asile au Gros Baou
DESCRIPTION:Randonnée pédestre de Saint-Asile au Gros Baou de 9h à 12h.\nPlage Sainte Asile\, promenade Latouche Tréville. ST MANDRIER \nDécouvrez le patrimoine mandréen avec les randonnées de l’ASP Marégau. Lecture du paysage\, de ses composantes géologiques et historiques. Rdv et départ face au club de plongée de la plage de Saint-Asile. \nLongueur 3\,2 km – Dénivelé 70m – Durée 3h. \n> Gratuit. Excursion avec livret guide 3 €. Réservation obligatoire.\nAssociation pour la sauvegarde et la mise en valeur de Marégau 04 94 88 34 61
URL:https://lepetitvarois.fr/event/randonnee-pedestre-de-saint-asile-au-gros-baou-2/
CATEGORIES:Saint-Mandrier
ATTACH;FMTTYPE=image/jpeg:https://lepetitvarois.fr/wp-content/uploads/2018/04/shoes-1638873_960_720.jpg
END:VEVENT
BEGIN:VEVENT
DTSTART;TZID=Europe/Paris:20180713T193000
DTEND;TZID=Europe/Paris:20180713T233000
DTSTAMP:20260424T062014
CREATED:20180629T145752Z
LAST-MODIFIED:20180629T145752Z
UID:5876-1531510200-1531524600@lepetitvarois.fr
SUMMARY:Soirée italienne
DESCRIPTION:Soirée italienne à 19h30.\nParking Saint-Asile\, Pin Rolland. ST MANDRIER\nRepas dansant comprenant l’apéritif\, l’entrée\, le plat chaud\, salade\, fromage et dessert. \n> 25 € tout compris sauf les boissons. Réservation obligatoire.\nAssociation du quartier Pin Rolland / Maregau / Vert-bois 04 94 06 04 26
URL:https://lepetitvarois.fr/event/soiree-italienne/
CATEGORIES:Saint-Mandrier
ATTACH;FMTTYPE=image/jpeg:https://lepetitvarois.fr/wp-content/uploads/2018/06/mediterranean-cuisine-2378758_960_720-2.jpg
END:VEVENT
BEGIN:VEVENT
DTSTART;TZID=Europe/Paris:20180713T193000
DTEND;TZID=Europe/Paris:20180713T233000
DTSTAMP:20260424T062014
CREATED:20180629T150634Z
LAST-MODIFIED:20180629T150634Z
UID:5879-1531510200-1531524600@lepetitvarois.fr
SUMMARY:Tournoi de joutes provençales : challenge des commerçants
DESCRIPTION:Tournoi de joutes provençales : challenge des commerçants de 19h30 à 22h.\nPointe des Blagueurs. ST MANDRIER \nFrancs Jouteurs Mandréens 04 94 63 92 61 /  06 81 55 41 19
URL:https://lepetitvarois.fr/event/tournoi-de-joutes-provencales-challenge-des-commercants/
CATEGORIES:Saint-Mandrier
ATTACH;FMTTYPE=image/jpeg:https://lepetitvarois.fr/wp-content/uploads/2018/06/wave-1215449_960_720.jpg
END:VEVENT
BEGIN:VEVENT
DTSTART;TZID=Europe/Paris:20180714T123000
DTEND;TZID=Europe/Paris:20180714T170000
DTSTAMP:20260424T062014
CREATED:20180629T152242Z
LAST-MODIFIED:20180629T152242Z
UID:5892-1531571400-1531587600@lepetitvarois.fr
SUMMARY:Repas moules farcies façon pêcheur
DESCRIPTION:Repas moules farcies façon pêcheur et animation musicale par le Between Us Duo à 12h30.\nSquare Marc Baron. ST MANDRIER \nLe repas comprend l’apéritif\, les moules farcies avec riz ou pâtes\, fromage\, dessert\, café et une bouteille de vin pour 6 personnes. \n> 25 €. Réservation vendredi 6 et samedi 7 juillet de 10h à 12h à l’office de tourisme de Saint Mandrier. Attention places limitées.\nLes Amis de la Maquette et calandre mandréenne 07 77 98 12 09
URL:https://lepetitvarois.fr/event/repas-moules-farcies-facon-pecheur/
CATEGORIES:Saint-Mandrier
ATTACH;FMTTYPE=image/jpeg:https://lepetitvarois.fr/wp-content/uploads/2018/06/fish-1149465_960_720.jpg
END:VEVENT
BEGIN:VEVENT
DTSTART;TZID=Europe/Paris:20180714T183000
DTEND;TZID=Europe/Paris:20180714T233000
DTSTAMP:20260424T062014
CREATED:20180629T152407Z
LAST-MODIFIED:20180629T152407Z
UID:5894-1531593000-1531611000@lepetitvarois.fr
SUMMARY:Messe concert "De Captivis" avec le trio Celticanto
DESCRIPTION:Messe concert « De Captivis » avec le trio Celticanto à 18h30.\nChapelle de Pin Rolland\, av. Marie Fliche Bergis\, Pin Rolland. ST MANDRIER \nService Vie de la Cité 04 94 11 51 75
URL:https://lepetitvarois.fr/event/messe-concert-de-captivis-avec-le-trio-celticanto/
CATEGORIES:Saint-Mandrier
ATTACH;FMTTYPE=image/jpeg:https://lepetitvarois.fr/wp-content/uploads/2018/04/architecture-3345442_960_720.jpg
END:VEVENT
BEGIN:VEVENT
DTSTART;TZID=Europe/Paris:20180714T213000
DTEND;TZID=Europe/Paris:20180714T233000
DTSTAMP:20260424T062014
CREATED:20180629T153132Z
LAST-MODIFIED:20180629T153132Z
UID:5898-1531603800-1531611000@lepetitvarois.fr
SUMMARY:Bal du 14 juillet : soirée mousse Apocalypse Tour
DESCRIPTION:Bal du 14 juillet : soirée mousse Apocalypse Tour à 21h30.\nPlace des Résistants. ST MANDRIER \nAlerte ce soir\, vous aurez de la mousse jusqu’au cou ! Soirée animée par un Dj. \nSoirée délire ganrantie ! \n> Gratuit.\nOT Saint Mandrier 04 94 63 61 69
URL:https://lepetitvarois.fr/event/bal-du-14-juillet-soiree-mousse-apocalypse-tour/
CATEGORIES:Saint-Mandrier
ATTACH;FMTTYPE=image/jpeg:https://lepetitvarois.fr/wp-content/uploads/2018/06/dance-238263_960_720.jpg
END:VEVENT
BEGIN:VEVENT
DTSTART;TZID=Europe/Paris:20180716T213000
DTEND;TZID=Europe/Paris:20180716T230000
DTSTAMP:20260424T062014
CREATED:20180629T154629Z
LAST-MODIFIED:20180629T154629Z
UID:5910-1531776600-1531782000@lepetitvarois.fr
SUMMARY:Spectacle de danses folkloriques par la Farigouleto
DESCRIPTION:Spectacle de danses folkloriques par la Farigouleto (Groupe folklorique de La Garde) à 21h30.\nPlace des Résistants. ST MANDRIER \nLa culture provençale à travers la danse\, la musique\, le chant\, la langue\, le costume… \n> Gratuit.\nOT Saint Mandrier 04 94 63 61 69
URL:https://lepetitvarois.fr/event/spectacle-de-danses-folkloriques-par-la-farigouleto/
CATEGORIES:Saint-Mandrier
ATTACH;FMTTYPE=image/jpeg:https://lepetitvarois.fr/wp-content/uploads/2018/06/fife-2700890_960_720.jpg
END:VEVENT
BEGIN:VEVENT
DTSTART;TZID=Europe/Paris:20180720T170000
DTEND;TZID=Europe/Paris:20180720T233000
DTSTAMP:20260424T062014
CREATED:20180629T204917Z
LAST-MODIFIED:20180629T204917Z
UID:5926-1532106000-1532129400@lepetitvarois.fr
SUMMARY:Foire artisanale nocturne
DESCRIPTION:Foire artisanale nocturne de 17h à minuit.\nPlace des Résistants\, quai d’Honneur. ST MANDRIER \nPlein V’Arts 06 09 95 83 21
URL:https://lepetitvarois.fr/event/foire-artisanale-nocturne-2/
CATEGORIES:Saint-Mandrier
ATTACH;FMTTYPE=image/jpeg:https://lepetitvarois.fr/wp-content/uploads/2018/02/art-21542_960_720.jpg
END:VEVENT
BEGIN:VEVENT
DTSTART;TZID=Europe/Paris:20180720T173000
DTEND;TZID=Europe/Paris:20180720T233000
DTSTAMP:20260424T062014
CREATED:20180629T205540Z
LAST-MODIFIED:20180629T205540Z
UID:5928-1532107800-1532129400@lepetitvarois.fr
SUMMARY:Merguez partie
DESCRIPTION:Merguez partie  à 17h30.\nParking Saint-Asile\, Pin Rolland. ST MANDRIER \n> 2\,50 € le sandwich (avec 2 merguez ou 2 chipolatas ou 1 boudin + une boisson). Pas de réservation.\nAssociation du quartier Pin Rolland / Maregau / Vert-bois 04 94 06 04 26
URL:https://lepetitvarois.fr/event/merguez-partie-2/
CATEGORIES:Saint-Mandrier
ATTACH;FMTTYPE=image/jpeg:https://lepetitvarois.fr/wp-content/uploads/2018/06/rest-836292_960_720.jpg
END:VEVENT
BEGIN:VEVENT
DTSTART;TZID=Europe/Paris:20180721T213000
DTEND;TZID=Europe/Paris:20180721T233000
DTSTAMP:20260424T062014
CREATED:20180629T211544Z
LAST-MODIFIED:20180629T211544Z
UID:5944-1532208600-1532215800@lepetitvarois.fr
SUMMARY:Concert de Jean-Pierre Savelli
DESCRIPTION:Concert de Jean-Pierre Savelli à 21h30.\nPlace des Résistants. ST MANDRIER \nEx chanteur de duo Peter et Sloane\, retrouvez Jean-Pierre Savelli à Saint Mandrier pour un tour de chant qui retrace sa carrière. \n> Gratuit.\nRenseignement OT Saint Mandrier 04 94 63 61 69
URL:https://lepetitvarois.fr/event/concert-de-jean-pierre-savelli/
CATEGORIES:Saint-Mandrier
ATTACH;FMTTYPE=image/jpeg:https://lepetitvarois.fr/wp-content/uploads/2018/06/hand-977641_960_720.jpg
END:VEVENT
BEGIN:VEVENT
DTSTART;TZID=Europe/Paris:20180722T090000
DTEND;TZID=Europe/Paris:20180722T190000
DTSTAMP:20260424T062014
CREATED:20180629T211637Z
LAST-MODIFIED:20180629T211637Z
UID:5946-1532250000-1532286000@lepetitvarois.fr
SUMMARY:Finale du championnat de Côte d'Azur de joutes provençales
DESCRIPTION:Finale du championnat de Côte d’Azur de joutes provençales de 9h à 19h.\nPointe des Blagueurs. ST MANDRIER \nFrancs Jouteurs Mandréens 04 94 63 92 61
URL:https://lepetitvarois.fr/event/finale-du-championnat-de-cote-dazur-de-joutes-provencales/
CATEGORIES:Saint-Mandrier
ATTACH;FMTTYPE=image/jpeg:https://lepetitvarois.fr/wp-content/uploads/2018/06/surf-3450584_960_720.jpg
END:VEVENT
BEGIN:VEVENT
DTSTART;TZID=Europe/Paris:20180723T200000
DTEND;TZID=Europe/Paris:20180723T233000
DTSTAMP:20260424T062014
CREATED:20180629T212309Z
LAST-MODIFIED:20180629T212309Z
UID:5955-1532376000-1532388600@lepetitvarois.fr
SUMMARY:Repas dansant "aïoli" avec Dj
DESCRIPTION:Repas dansant « aïoli » avec Dj à 20h.\nParking Saint-Asile\, Pin Rolland. ST MANDRIER \n> 25 € / 22 € adhérent. Inscription obligatoire.\nAssociation festive de la presqu’île 04 94 94 74 69
URL:https://lepetitvarois.fr/event/repas-dansant-aioli-avec-dj/
CATEGORIES:Saint-Mandrier
ATTACH;FMTTYPE=image/jpeg:https://lepetitvarois.fr/wp-content/uploads/2018/06/break-11881_960_720.jpg
END:VEVENT
BEGIN:VEVENT
DTSTART;TZID=Europe/Paris:20180724T210000
DTEND;TZID=Europe/Paris:20180724T233000
DTSTAMP:20260424T062014
CREATED:20180629T212909Z
LAST-MODIFIED:20180629T212909Z
UID:5963-1532466000-1532475000@lepetitvarois.fr
SUMMARY:Route 83
DESCRIPTION:Route 83 à 21h.\nPlace des Résistants. ST MANDRIER \nGrande soirée animée par Michel Mitran avec Abba Legend. Concours de chant et animations diverses tout au long de la soirée. \n> Gratuit.\nRenseignement OT Saint Mandrier 04 94 63 61 69
URL:https://lepetitvarois.fr/event/route-83/
CATEGORIES:Saint-Mandrier
ATTACH;FMTTYPE=image/jpeg:https://lepetitvarois.fr/wp-content/uploads/2018/06/california-210913_960_720.jpg
END:VEVENT
BEGIN:VEVENT
DTSTART;TZID=Europe/Paris:20180725T180000
DTEND;TZID=Europe/Paris:20180725T233000
DTSTAMP:20260424T062014
CREATED:20180629T213208Z
LAST-MODIFIED:20180629T213208Z
UID:5969-1532541600-1532561400@lepetitvarois.fr
SUMMARY:Les rendez-vous de l'Ermitage : nature & bio
DESCRIPTION:Les rendez-vous de l’Ermitage : nature & bio à 18h.\nDomaine de l’Ermitage\, ch. de la Coudoulière. ST MANDRIER \nMarché bio\, concours de cuisine enfants\, dégustation de produits bio et animation musicale. \n> Gratuit.\nRenseignement OT Saint Mandrier 04 94 63 61 69
URL:https://lepetitvarois.fr/event/les-rendez-vous-de-lermitage-nature-bio/
CATEGORIES:Saint-Mandrier
ATTACH;FMTTYPE=image/jpeg:https://lepetitvarois.fr/wp-content/uploads/2018/06/bread-1242240_960_720.jpg
END:VEVENT
BEGIN:VEVENT
DTSTART;TZID=Europe/Paris:20180726T210000
DTEND;TZID=Europe/Paris:20180726T233000
DTSTAMP:20260424T062014
CREATED:20180629T213540Z
LAST-MODIFIED:20180629T213540Z
UID:5975-1532638800-1532647800@lepetitvarois.fr
SUMMARY:Extraits d'opéra "Shakespeare in Love"
DESCRIPTION:Extraits d’opéra « Shakespeare in Love » à 21h.\nDomaine de l’Ermitage\, ch. de la Coudoulière. ST MANDRIER \nPauline Courtin\, soprano\, Antonel Boldan\, ténor\, Seung-Gi Jung\, baryton et Franck Pantin au piano pour ne soirée d’air et de duos issus des opéras de Verdi\, Gounod\, Bernstein et Puccini. \n> Gratuit.\nRenseignement OT Saint Mandrier 04 94 63 61 69
URL:https://lepetitvarois.fr/event/extraits-dopera-shakespeare-in-love/
CATEGORIES:Saint-Mandrier
ATTACH;FMTTYPE=image/jpeg:https://lepetitvarois.fr/wp-content/uploads/2018/06/dance-422699_960_720.jpg
END:VEVENT
BEGIN:VEVENT
DTSTART;VALUE=DATE:20180728
DTEND;VALUE=DATE:20180730
DTSTAMP:20260424T062014
CREATED:20180629T214446Z
LAST-MODIFIED:20180629T214446Z
UID:5986-1532736000-1532908799@lepetitvarois.fr
SUMMARY:Vire-vire : course de pointus à la voile latine
DESCRIPTION:Vire-vire : course de pointus à la voile latine\nPlace des Résistants\, quai d’Honneur. ST MANDRIER \nAu programme : course traditionnelle et bon enfant de pointus à la voile latine au coeur de la rade de Toulon. \nSamedi 28 juillet :  \n9h marché artisanal.   \nDe 10h à 19h accrovoile : la matûre permet de grimper à 8 mètres de hauteur; avant de grimper les animateurs font éprouver à tous le rappel en sautant au sol\, pour se sentir en confiance. \n14h30 départ immédiat. inscriptions sur place. \nDe 17h à 20h à l’abordage avec la compagnie Infusion – Maquillage\, ateliers jonglage et sculpture de ballons recyclés.  \nDimanche 29 juillet :  \nDe 10h à 19h accrovoile / départ du vire vire / marché artisanal. \nDe 16h à 19h30 lecture embarquées de carnet de voyage à bord du bateau-scène Kaïros. \n21h30 « Entre deux rives » le spectacle sur voilier par la Cie Infusion sur le quai d’Honneur.\nLou Cabanoun dou Pescadou 04 94 06 04 69 / 06 25 43 48 20
URL:https://lepetitvarois.fr/event/vire-vire-course-de-pointus-a-la-voile-latine/
CATEGORIES:Saint-Mandrier
ATTACH;FMTTYPE=image/jpeg:https://lepetitvarois.fr/wp-content/uploads/2018/06/sailing-boat-1593613_960_720.jpg
END:VEVENT
BEGIN:VEVENT
DTSTART;TZID=Europe/Paris:20180728T203000
DTEND;TZID=Europe/Paris:20180730T203000
DTSTAMP:20260424T062014
CREATED:20180629T214558Z
LAST-MODIFIED:20180629T214558Z
UID:5988-1532809800-1532982600@lepetitvarois.fr
SUMMARY:Festival de théâtre
DESCRIPTION:Festival de théâtre\nThéâtre Marc Baron\, square Marc Baron. ST MANDRIER \nSamed 28 juillet : \n20h30\, « Y a-t-il un pilote dans la salle ? » de Jean-Pierre Martinez. \n22h\, « Demain je me lève de bonheur » de Florent Aveillan.  \nDimanche 29 juillet à 21h « La Cantatrice Chauve » de Eugène Ionesco. \nLundi 30 juillet à 21h « Feu la mère de Madame » de Georges Feydeau.\n> 13 € un spectacle / 10 € pour les suivants. Réservation conseillée.\nThéâtre Sud Varois 06 72 15 39 19
URL:https://lepetitvarois.fr/event/festival-de-theatre/
CATEGORIES:Saint-Mandrier
ATTACH;FMTTYPE=image/jpeg:https://lepetitvarois.fr/wp-content/uploads/2018/06/audience-828584_960_720.jpg
END:VEVENT
END:VCALENDAR