BEGIN:VCALENDAR
VERSION:2.0
PRODID:-//Le Petit Varois.Fr - ECPv6.0.10//NONSGML v1.0//EN
CALSCALE:GREGORIAN
METHOD:PUBLISH
X-WR-CALNAME:Le Petit Varois.Fr
X-ORIGINAL-URL:https://lepetitvarois.fr
X-WR-CALDESC:évènements pour Le Petit Varois.Fr
REFRESH-INTERVAL;VALUE=DURATION:PT1H
X-Robots-Tag:noindex
X-PUBLISHED-TTL:PT1H
BEGIN:VTIMEZONE
TZID:Europe/Paris
BEGIN:DAYLIGHT
TZOFFSETFROM:+0100
TZOFFSETTO:+0200
TZNAME:CEST
DTSTART:20180325T010000
END:DAYLIGHT
BEGIN:STANDARD
TZOFFSETFROM:+0200
TZOFFSETTO:+0100
TZNAME:CET
DTSTART:20181028T010000
END:STANDARD
BEGIN:DAYLIGHT
TZOFFSETFROM:+0100
TZOFFSETTO:+0200
TZNAME:CEST
DTSTART:20190331T010000
END:DAYLIGHT
BEGIN:STANDARD
TZOFFSETFROM:+0200
TZOFFSETTO:+0100
TZNAME:CET
DTSTART:20191027T010000
END:STANDARD
END:VTIMEZONE
BEGIN:VEVENT
DTSTART;TZID=Europe/Paris:20181202T070000
DTEND;TZID=Europe/Paris:20181202T150000
DTSTAMP:20260423T213435
CREATED:20181201T214314Z
LAST-MODIFIED:20181201T214314Z
UID:8452-1543734000-1543762800@lepetitvarois.fr
SUMMARY:Bourse aux jouets
DESCRIPTION:Bourse aux jouets de 7h à 15h.\nSalle des fêtes Marc Baron. ST MANDRIER\nUSSM Rugby 06 11 54 86 84
URL:https://lepetitvarois.fr/event/bourse-aux-jouets-3/
CATEGORIES:Saint-Mandrier
ATTACH;FMTTYPE=image/jpeg:https://lepetitvarois.fr/wp-content/uploads/2018/02/marbles-1659398_960_720.jpg
END:VEVENT
BEGIN:VEVENT
DTSTART;TZID=Europe/Paris:20181203T200000
DTEND;TZID=Europe/Paris:20181203T230000
DTSTAMP:20260423T213435
CREATED:20181201T215343Z
LAST-MODIFIED:20181201T215343Z
UID:8458-1543867200-1543878000@lepetitvarois.fr
SUMMARY:Concert spectacle "Debussy dans le vent du 20e siècle"
DESCRIPTION:Concert spectacle « Debussy dans le vent du 20e siècle » à 20h.\nThéâtre Marc Baron. ST MANDRIER\nMusique classique et théâtre. Deux œuvres grand public de Claude Debussy qui mettent en évidence son sens de l’harmonie et de la rupture avec ses contemporains avec Claude Bazin\, Gaëlle Bresson\, Patrice Lartigue\, Olivier Laurent\, Elodie Messmer\, Miki Kawachiyama et Pascal Waterlot.  \n> Entrée libre. Inscription obligatoire au 04 94 93 34 29 ou sur resa-conservatoire@tpmed.org.\nConservatoire TPM 04 94 93 34 29
URL:https://lepetitvarois.fr/event/concert-spectacle-debussy-dans-le-vent-du-20e-siecle/
CATEGORIES:Saint-Mandrier
ATTACH;FMTTYPE=image/jpeg:https://lepetitvarois.fr/wp-content/uploads/2018/02/wells-theatre-210914_960_720.jpg
END:VEVENT
BEGIN:VEVENT
DTSTART;VALUE=DATE:20181208
DTEND;VALUE=DATE:20181210
DTSTAMP:20260423T213435
CREATED:20181201T224628Z
LAST-MODIFIED:20181201T224628Z
UID:8502-1544227200-1544399999@lepetitvarois.fr
SUMMARY:Marché de Noël
DESCRIPTION:Marché de Noël de 10h à 18h.\nSalle Myrte et Arbouses\, av. Marie Fliche Bergis\, Pin Rolland. ST MANDRIER\nPour vos cadeaux et décorations de Noël\, venez découvrir des créations originales dans le respect de l’artisanat. Dégustation et vente de produits festifs dans le respect de la tradition : foie gras\, nougat Fouque\, terrines\, confitures\, muscat de Noël\, vin de Noël… \nVenez partager un moment convivial dans l’esprit de Noël. \nSamedi 8 : de 15h à 16h atelier bonbons pour les enfants. \nDimanche 9 : de 15h à 16h atelier bonbons pour les enfants. A 15h30\, contes pour enfants « les histoires de la Mère Noël en attendant l’arrivée du Père Noël ». Arrivée du père Noël avec ses friandises.\n> Accès libre. \nAssociation festive de la presqu’île 06 71 10 62 27  
URL:https://lepetitvarois.fr/event/marche-de-noel/
CATEGORIES:Saint-Mandrier
ATTACH;FMTTYPE=image/jpeg:https://lepetitvarois.fr/wp-content/uploads/2018/12/christmas-market-550323_960_720.jpg
END:VEVENT
BEGIN:VEVENT
DTSTART;VALUE=DATE:20181214
DTEND;VALUE=DATE:20190104
DTSTAMP:20260423T213435
CREATED:20181202T105451Z
LAST-MODIFIED:20181202T105451Z
UID:8554-1544745600-1546559999@lepetitvarois.fr
SUMMARY:Les animations de Noël à Saint Mandrier
DESCRIPTION:Les animations de Noël à Saint Mandrier\nVendredi 14 : La marche des Lucioles \n18h\, parking Saint Asile : distribution des lampions. \n18h30 : départ du défilé. 19h30\, arrivée sur le parking Sainte Asile puis distribution de soupe et boissons chaudes. \nSamedi 15\, place des Résistants : En attendant Noël \n14h30-18h : structures gonflables\, ateliers et animations de Noël\, promenades en tacot musical\, chocolat chaud\, bière de Noël et marrons chauds. \nDimanche 16 : fêtes Calendales \n10h30 : messe à l’église de Saint Mandrier. \n11h30 : procession en costume traditionnel (fifres\, tambourins…) jusqu’à la place des Résistants.  \n12h30 : apéritif et anchoïade. \nMardi 18 à 18h30\, Domaine de l’Ermitage : palmarès du concours de crèches et couronnes de Noël \n> Inscriptions et renseignements Atelier Provençal 04 22 44 74 27. \nVendredi 21\, place des Résistants :  \n16h30 : jeux d’autrefois. \n17h30 : parade lumineuse et arrivée du Père Noël. Tirage de la tombola de Noël. \nDimanche 30\, de 14h30 à 18h\, place des Résistants : Laser Game. \nJeudi 3 janvier\, de 14h30 à 18h\, domaine de l’Ermitage : ateliers culinaires pur enfants (Inscription La Mandréane 06 27 25 42 74).\nService Vie de la Cité 04 94 11 51 75 www.ville-saintmandrier.fr
URL:https://lepetitvarois.fr/event/les-animations-de-noel-a-saint-mandrier/
CATEGORIES:Saint-Mandrier
ATTACH;FMTTYPE=image/jpeg:https://lepetitvarois.fr/wp-content/uploads/2018/12/father-christmas-1149928_960_720.jpg
END:VEVENT
BEGIN:VEVENT
DTSTART;VALUE=DATE:20181216
DTEND;VALUE=DATE:20181217
DTSTAMP:20260423T213435
CREATED:20181202T112958Z
LAST-MODIFIED:20181202T112958Z
UID:8576-1544918400-1545004799@lepetitvarois.fr
SUMMARY:Vide-greniers
DESCRIPTION:Vide-greniers de 8h à 18h.\nParking Saint-Asile\, Pin Rolland. ST MANDRIER\n> 10 € l’emplacement. Réservation obligatoire. Permanence le mercredi matin de 10 h à 12 h\, salle Myrte au Pin Rolland. \nAssociation festive de la presqu’île 06 71 10 62 27   
URL:https://lepetitvarois.fr/event/vide-greniers-7/
CATEGORIES:Saint-Mandrier
ATTACH;FMTTYPE=image/jpeg:https://lepetitvarois.fr/wp-content/uploads/2018/06/flea-market-1883693_960_720.jpg
END:VEVENT
END:VCALENDAR