BEGIN:VCALENDAR
VERSION:2.0
PRODID:-//Le Petit Varois.Fr - ECPv6.0.10//NONSGML v1.0//EN
CALSCALE:GREGORIAN
METHOD:PUBLISH
X-WR-CALNAME:Le Petit Varois.Fr
X-ORIGINAL-URL:https://lepetitvarois.fr
X-WR-CALDESC:évènements pour Le Petit Varois.Fr
REFRESH-INTERVAL;VALUE=DURATION:PT1H
X-Robots-Tag:noindex
X-PUBLISHED-TTL:PT1H
BEGIN:VTIMEZONE
TZID:Europe/Paris
BEGIN:DAYLIGHT
TZOFFSETFROM:+0100
TZOFFSETTO:+0200
TZNAME:CEST
DTSTART:20190331T010000
END:DAYLIGHT
BEGIN:STANDARD
TZOFFSETFROM:+0200
TZOFFSETTO:+0100
TZNAME:CET
DTSTART:20191027T010000
END:STANDARD
END:VTIMEZONE
BEGIN:VEVENT
DTSTART;TZID=Europe/Paris:20190302T200000
DTEND;TZID=Europe/Paris:20190302T230000
DTSTAMP:20260423T165032
CREATED:20190227T191211Z
LAST-MODIFIED:20190227T191211Z
UID:9688-1551556800-1551567600@lepetitvarois.fr
SUMMARY:Soirée Saint Patrick à 20h
DESCRIPTION:Soirée Saint Patrick à 20h.\nSalle des Fêtes Marc Baron. ST MANDRIER\nBuffet\, vins\, animation sont au programme. \n> 25 €. Réservation conseillée.\nUSSM Rugby 06 11 54 86 84
URL:https://lepetitvarois.fr/event/soiree-saint-patrick-a-20h/
CATEGORIES:Saint-Mandrier
ATTACH;FMTTYPE=image/jpeg:https://lepetitvarois.fr/wp-content/uploads/2018/11/cupcakes-1966567_960_720.jpg
END:VEVENT
BEGIN:VEVENT
DTSTART;TZID=Europe/Paris:20190303T080000
DTEND;TZID=Europe/Paris:20190303T180000
DTSTAMP:20260423T165032
CREATED:20190227T191609Z
LAST-MODIFIED:20190227T191609Z
UID:9690-1551600000-1551636000@lepetitvarois.fr
SUMMARY:Vide-greniers du village
DESCRIPTION:Vide-greniers du village de 8h à 18h.\nPlace des Résistants\, quai d’Honneur. ST MANDRIER\n> 10 € l’emplacement. Inscription par SMS uniquement.\nAssociation Les Ti’mandréens 06 73 37 13 72 lestimandreens@gmail.com
URL:https://lepetitvarois.fr/event/vide-greniers-du-village-3/
CATEGORIES:Saint-Mandrier
ATTACH;FMTTYPE=image/jpeg:https://lepetitvarois.fr/wp-content/uploads/2018/02/flea-market-1883689_960_720.jpg
END:VEVENT
BEGIN:VEVENT
DTSTART;TZID=Europe/Paris:20190304T080000
DTEND;TZID=Europe/Paris:20190304T123000
DTSTAMP:20260423T165032
CREATED:20190227T191838Z
LAST-MODIFIED:20190227T191838Z
UID:9694-1551686400-1551702600@lepetitvarois.fr
SUMMARY:Collecte de sang
DESCRIPTION:Collecte de sang de 8h à 12h30.\nSalle des Fêtes Marc Baron. ST MANDRIER\nEtablissement français du sang 04 98 08 08 56 https://dondesang.efs.sante.fr
URL:https://lepetitvarois.fr/event/collecte-de-sang-21/
CATEGORIES:Saint-Mandrier
ATTACH;FMTTYPE=image/jpeg:https://lepetitvarois.fr/wp-content/uploads/2018/09/balloon-1046693_960_720.jpg
END:VEVENT
BEGIN:VEVENT
DTSTART;TZID=Europe/Paris:20190309T203000
DTEND;TZID=Europe/Paris:20190309T223000
DTSTAMP:20260423T165032
CREATED:20190227T201646Z
LAST-MODIFIED:20190227T201646Z
UID:9726-1552163400-1552170600@lepetitvarois.fr
SUMMARY:Bal costumé
DESCRIPTION:■ Bal costumé à 20h30.\nSalle des Fêtes Marc Baron. ST MANDRIER\n> 7 € adulte / 5 € enfant (entrée + 1 boisson + buffet froid). Réservation conseillée.\nLa Mandréane 06 27 25 42 74
URL:https://lepetitvarois.fr/event/bal-costume/
CATEGORIES:Saint-Mandrier
ATTACH;FMTTYPE=image/jpeg:https://lepetitvarois.fr/wp-content/uploads/2019/02/carol-2-scaled.jpg
END:VEVENT
BEGIN:VEVENT
DTSTART;TZID=Europe/Paris:20190317T080000
DTEND;TZID=Europe/Paris:20190317T160000
DTSTAMP:20260423T165032
CREATED:20190227T212035Z
LAST-MODIFIED:20190227T212035Z
UID:9757-1552809600-1552838400@lepetitvarois.fr
SUMMARY:Vide-greniers de Pin Rolland
DESCRIPTION:Vide-greniers de Pin Rolland de 8h à 16h.\nParking Saint-Asile\, Pin Rolland. ST MANDRIER\n> 10 € l’emplacement. Réservation obligatoire à la permanence le mercredi matin de 10 h à 12 h\, salle Myrte au Pin Rolland.\nAssociation festive de la presqu’île 06 71 10 62 27
URL:https://lepetitvarois.fr/event/vide-greniers-de-pin-rolland-4/
CATEGORIES:Saint-Mandrier
ATTACH;FMTTYPE=image/jpeg:https://lepetitvarois.fr/wp-content/uploads/2018/02/marbles-1659398_960_720.jpg
END:VEVENT
BEGIN:VEVENT
DTSTART;TZID=Europe/Paris:20190328T090000
DTEND;TZID=Europe/Paris:20190328T113000
DTSTAMP:20260423T165032
CREATED:20190227T215440Z
LAST-MODIFIED:20190227T215440Z
UID:9787-1553763600-1553772600@lepetitvarois.fr
SUMMARY:Nettoyage de la plage Sainte Asile et ses abords
DESCRIPTION:Nettoyage de la plage Sainte Asile et ses abords de 9h à 11h30.\nPlage Sainte Asile. ST MANDRIER\nNe  laissez plus les déchets vous envahir\, faites une bonne action ! aidez-nous à nettoyer la plage de Sainte Asile et ses abords. Pensez à apporter vos gants. \nService Vie de la Cité 04 94 11 51 75 www.ville-saintmandrier.fr \n 
URL:https://lepetitvarois.fr/event/nettoyage-de-la-plage-sainte-asile-et-ses-abords/
CATEGORIES:Saint-Mandrier
ATTACH;FMTTYPE=image/jpeg:https://lepetitvarois.fr/wp-content/uploads/2018/06/summer-814679_960_720.jpg
END:VEVENT
END:VCALENDAR