BEGIN:VCALENDAR
VERSION:2.0
PRODID:-//Le Petit Varois.Fr - ECPv6.0.10//NONSGML v1.0//EN
CALSCALE:GREGORIAN
METHOD:PUBLISH
X-ORIGINAL-URL:https://lepetitvarois.fr
X-WR-CALDESC:évènements pour Le Petit Varois.Fr
REFRESH-INTERVAL;VALUE=DURATION:PT1H
X-Robots-Tag:noindex
X-PUBLISHED-TTL:PT1H
BEGIN:VTIMEZONE
TZID:Europe/Paris
BEGIN:DAYLIGHT
TZOFFSETFROM:+0100
TZOFFSETTO:+0200
TZNAME:CEST
DTSTART:20190331T010000
END:DAYLIGHT
BEGIN:STANDARD
TZOFFSETFROM:+0200
TZOFFSETTO:+0100
TZNAME:CET
DTSTART:20191027T010000
END:STANDARD
END:VTIMEZONE
BEGIN:VEVENT
DTSTART;VALUE=DATE:20190801
DTEND;VALUE=DATE:20190805
DTSTAMP:20260423T070544
CREATED:20190728T194722Z
LAST-MODIFIED:20190728T194722Z
UID:12189-1564617600-1564963199@lepetitvarois.fr
SUMMARY:Festival Heiva
DESCRIPTION:Festival Heiva  \nPlace des Résistants. ST MANDRIER\nAu programme : danse\, lancer de javelot\, va’a\, porteurs de fruits\, Tamure marathon\, repas spectacle et four tahitien. 4 jours d’animations made in Tahiti ! \nAssociation Heiva 06 42 19 85 54 / 06 70 75 37 86  festivalheiva@gmail.com  \n 
URL:https://lepetitvarois.fr/event/festival-heiva-2/
CATEGORIES:Saint-Mandrier
ATTACH;FMTTYPE=image/jpeg:https://lepetitvarois.fr/wp-content/uploads/2018/07/800x600_31405-festival_heiva.jpg
END:VEVENT
BEGIN:VEVENT
DTSTART;VALUE=DATE:20190801
DTEND;VALUE=DATE:20190805
DTSTAMP:20260423T070544
CREATED:20190728T195021Z
LAST-MODIFIED:20190728T195021Z
UID:12191-1564617600-1564963199@lepetitvarois.fr
SUMMARY:Tournoi Open de tennis de Saint Mandrier
DESCRIPTION:Tournoi Open de tennis de Saint Mandrier de 8h30 à 23h. \nComplexe sportif Max Juvénal\, av. Charles de Gaulle. ST MANDRIER\n> 13 € jeunes / 16 € pour les +18 ans. Inscription obligatoire. \nTennis Club de Saint Mandrier 04 94 30 54 48 / 06 72 97 00 80  tcsmandrier@orange.fr
URL:https://lepetitvarois.fr/event/tournoi-open-de-tennis-de-saint-mandrier/
CATEGORIES:Saint-Mandrier
ATTACH;FMTTYPE=image/jpeg:https://lepetitvarois.fr/wp-content/uploads/2019/07/table-tennis-1428052_960_720.jpg
END:VEVENT
BEGIN:VEVENT
DTSTART;TZID=Europe/Paris:20190801T123000
DTEND;TZID=Europe/Paris:20190801T170000
DTSTAMP:20260423T070544
CREATED:20190728T195234Z
LAST-MODIFIED:20190728T195234Z
UID:12194-1564662600-1564678800@lepetitvarois.fr
SUMMARY:Bouillabaisse municipale
DESCRIPTION: Bouillabaisse municipale à 12h30. \nSquare Marc Baron. ST MANDRIER\nTraditionnelle bouillabaisse mitonnée par les disciples d’Escoffier et cuite au feu de bois. \n> 35 € en vente à l’accueil de la mairie de Saint Mandrier mardi 16\, jeudi 18 et mardi 23 juillet de 8h30 à 12h. Pas de réservation par téléphone.\nHôtel de ville 04 94 11 51 60 www.ville-saintmandrier.fr
URL:https://lepetitvarois.fr/event/bouillabaisse-municipale-2/
CATEGORIES:Saint-Mandrier
ATTACH;FMTTYPE=image/jpeg:https://lepetitvarois.fr/wp-content/uploads/2019/07/food-1330531_960_720.jpg
END:VEVENT
BEGIN:VEVENT
DTSTART;TZID=Europe/Paris:20190802T153000
DTEND;TZID=Europe/Paris:20190802T170000
DTSTAMP:20260423T070544
CREATED:20190728T195800Z
LAST-MODIFIED:20190728T195800Z
UID:12202-1564759800-1564765200@lepetitvarois.fr
SUMMARY:Tournoi de beach soccer
DESCRIPTION:Tournoi de beach soccer à 15h30. \nPlage de La Vieille\, quai Séverine. ST MANDRIER\nTournoi amical de beach soccer entre amis ou en famille pour égayer vos vacances. \n> Gratuit. Inscription sur place.\nOT Saint Mandrier 04 94 63 61 69 
URL:https://lepetitvarois.fr/event/tournoi-de-beach-soccer-3/
CATEGORIES:Saint-Mandrier
ATTACH;FMTTYPE=image/jpeg:https://lepetitvarois.fr/wp-content/uploads/2018/07/800x600_31377-beach_soccer.jpg
END:VEVENT
BEGIN:VEVENT
DTSTART;TZID=Europe/Paris:20190806T153000
DTEND;TZID=Europe/Paris:20190806T193000
DTSTAMP:20260423T070544
CREATED:20190728T203201Z
LAST-MODIFIED:20190728T203201Z
UID:12243-1565105400-1565119800@lepetitvarois.fr
SUMMARY:Collecte de sang
DESCRIPTION: Collecte de sang de 15h30 à 19h30. \nSalle des Fêtes Marc Baron. ST MANDRIER\nAmicale des donneurs de sang bénévoles de St Mandrier 04 94 63 70 10 adsbchrist@sfr.fr
URL:https://lepetitvarois.fr/event/collecte-de-sang-35/
CATEGORIES:Saint-Mandrier
ATTACH;FMTTYPE=image/jpeg:https://lepetitvarois.fr/wp-content/uploads/2018/09/balloon-1046693_960_720.jpg
END:VEVENT
BEGIN:VEVENT
DTSTART;TZID=Europe/Paris:20190807T213000
DTEND;TZID=Europe/Paris:20190807T233000
DTSTAMP:20260423T070544
CREATED:20190728T204720Z
LAST-MODIFIED:20190728T204720Z
UID:12254-1565213400-1565220600@lepetitvarois.fr
SUMMARY:Concert de l'orchestre d'harmonie Ad Hoc
DESCRIPTION:Concert de l’orchestre d’harmonie Ad Hoc à 21h30. \nPlace des Résistants. ST MANDRIER\nAd Hoc est un grand orchestre symphonique à vent des Pays Bas\, constitué d’environ 70 jeunes musiciens de 18 à 25 ans\, qui n’existe que pour quelques jours en été. Il sera dissout à la rentrée pour renaître avec d’autres musiciens l’année prochaine. \n> Gratuit.\nOT Saint Mandrier 04 94 63 61 69
URL:https://lepetitvarois.fr/event/concert-de-lorchestre-dharmonie-ad-hoc/
CATEGORIES:Saint-Mandrier
ATTACH;FMTTYPE=image/jpeg:https://lepetitvarois.fr/wp-content/uploads/2019/03/concert-662851_960_720.jpg
END:VEVENT
BEGIN:VEVENT
DTSTART;TZID=Europe/Paris:20190809T153000
DTEND;TZID=Europe/Paris:20190809T170000
DTSTAMP:20260423T070544
CREATED:20190728T210031Z
LAST-MODIFIED:20190728T210031Z
UID:12268-1565364600-1565370000@lepetitvarois.fr
SUMMARY:Tournoi de beach volley
DESCRIPTION:Tournoi de beach volley à 15h30. \nPlage de La Vieille\, quai Séverine. ST MANDRIER\nVenez jouer au beach volley entre amis ou en famille pour égayer vos vacances. \n> Gratuit. Inscription sur place.\nOT Saint Mandrier 04 94 63 61 69 
URL:https://lepetitvarois.fr/event/tournoi-de-beach-volley-5/
CATEGORIES:Saint-Mandrier
ATTACH;FMTTYPE=image/jpeg:https://lepetitvarois.fr/wp-content/uploads/2018/07/beach-volleyball-1617093_960_720.jpg
END:VEVENT
BEGIN:VEVENT
DTSTART;VALUE=DATE:20190810
DTEND;VALUE=DATE:20190813
DTSTAMP:20260423T070544
CREATED:20190728T212946Z
LAST-MODIFIED:20190728T212946Z
UID:12293-1565395200-1565654399@lepetitvarois.fr
SUMMARY:Festival lou Pitchoun
DESCRIPTION: Festival lou Pitchoun  \nPlace des Résistants. ST MANDRIER \nParc aquatique géant samedi et dimanche. \nLundi 12 août à 21h : comédie musicale pour tous « Le livre d’Ilona ». \n> Accès libre.\nLa Mandréane 06 27 25 42 74  marqiuon83@yahoo.fr
URL:https://lepetitvarois.fr/event/festival-lou-pitchoun-2/
CATEGORIES:Saint-Mandrier
ATTACH;FMTTYPE=image/jpeg:https://lepetitvarois.fr/wp-content/uploads/2019/07/summer-842140_960_720.jpg
END:VEVENT
BEGIN:VEVENT
DTSTART;TZID=Europe/Paris:20190810T090000
DTEND;TZID=Europe/Paris:20190810T120000
DTSTAMP:20260423T070544
CREATED:20190728T212336Z
LAST-MODIFIED:20190728T212336Z
UID:12287-1565427600-1565438400@lepetitvarois.fr
SUMMARY:Randonnée pédestre de Saint-Asile au Gros Baou
DESCRIPTION: Randonnée pédestre de Saint-Asile au Gros Baou de 9h à 12h. \nRdv et départ face au club de plongée de la plage de Saint-Asile\, promenade Latouche Tréville. ST MANDRIER\nDécouvrez le patrimoine mandréen avec les randonnées de l’ASP Marégau. Lecture du paysage\, de ses composantes géologiques et historiques.. \nLongueur 3\,2 km – Dénivelé 70m – Durée 3h. \n> Gratuit. Excursion avec livret guide 3 €. Inscription au plus tard la veille.\nAssociation pour la sauvegarde et la mise en valeur de Marégau 04 94 88 34 61 / 06 84 62 56 84 laville_pierre@orange.fr 
URL:https://lepetitvarois.fr/event/randonnee-pedestre-de-saint-asile-au-gros-baou-8/
CATEGORIES:Saint-Mandrier
ATTACH;FMTTYPE=image/jpeg:https://lepetitvarois.fr/wp-content/uploads/2018/09/shoes-1940249_960_720.jpg
END:VEVENT
BEGIN:VEVENT
DTSTART;TZID=Europe/Paris:20190810T190000
DTEND;TZID=Europe/Paris:20190810T210000
DTSTAMP:20260423T070544
CREATED:20190728T212514Z
LAST-MODIFIED:20190728T212514Z
UID:12291-1565463600-1565470800@lepetitvarois.fr
SUMMARY:Loto en plein air
DESCRIPTION: Loto en plein air à 19h. \nStade Gilbert Lanerière\, av. Charles de Gaulle. ST MANDRIER\nUSSM Football 07 84 05 70 11
URL:https://lepetitvarois.fr/event/loto-en-plein-air-2/
CATEGORIES:Saint-Mandrier
ATTACH;FMTTYPE=image/jpeg:https://lepetitvarois.fr/wp-content/uploads/2018/12/47146727_2408017149425928_791952447093342208_n.jpg
END:VEVENT
BEGIN:VEVENT
DTSTART;TZID=Europe/Paris:20190817T170000
DTEND;TZID=Europe/Paris:20190817T230000
DTSTAMP:20260423T070544
CREATED:20190814T221149Z
LAST-MODIFIED:20190814T221149Z
UID:12448-1566061200-1566082800@lepetitvarois.fr
SUMMARY:Foire artisanale nocturne
DESCRIPTION:Foire artisanale nocturne de 17h à 23h. \nPlace des Résistants. ST MANDRIER\nPlein V’Arts  06 09 95 83 21 pleinvarts@gmail.com – www.pleinvarts.com 
URL:https://lepetitvarois.fr/event/foire-artisanale-nocturne-6/
CATEGORIES:Saint-Mandrier
ATTACH;FMTTYPE=image/jpeg:https://lepetitvarois.fr/wp-content/uploads/2019/07/pottery-589284_960_720.jpg
END:VEVENT
END:VCALENDAR