BEGIN:VCALENDAR
VERSION:2.0
PRODID:-//Le Petit Varois.Fr - ECPv6.0.10//NONSGML v1.0//EN
CALSCALE:GREGORIAN
METHOD:PUBLISH
X-WR-CALNAME:Le Petit Varois.Fr
X-ORIGINAL-URL:https://lepetitvarois.fr
X-WR-CALDESC:évènements pour Le Petit Varois.Fr
REFRESH-INTERVAL;VALUE=DURATION:PT1H
X-Robots-Tag:noindex
X-PUBLISHED-TTL:PT1H
BEGIN:VTIMEZONE
TZID:Europe/Paris
BEGIN:DAYLIGHT
TZOFFSETFROM:+0100
TZOFFSETTO:+0200
TZNAME:CEST
DTSTART:20190331T010000
END:DAYLIGHT
BEGIN:STANDARD
TZOFFSETFROM:+0200
TZOFFSETTO:+0100
TZNAME:CET
DTSTART:20191027T010000
END:STANDARD
END:VTIMEZONE
BEGIN:VEVENT
DTSTART;TZID=Europe/Paris:20190901T080000
DTEND;TZID=Europe/Paris:20190901T180000
DTSTAMP:20260423T052403
CREATED:20190825T195937Z
LAST-MODIFIED:20190825T195937Z
UID:12467-1567324800-1567360800@lepetitvarois.fr
SUMMARY:Vide-greniers
DESCRIPTION: Vide-greniers de 8h à 18h. \nPlace des Résistants. ST MANDRIER\n> 10 € l’emplacement. Inscription par SMS uniquement.\nAssociation Les Ti’mandréens 06 73 37 13 72  lestimandreens@gmail.com 
URL:https://lepetitvarois.fr/event/vide-greniers-16/
CATEGORIES:Saint-Mandrier
ATTACH;FMTTYPE=image/jpeg:https://lepetitvarois.fr/wp-content/uploads/2019/07/pottery-589284_960_720.jpg
END:VEVENT
BEGIN:VEVENT
DTSTART;TZID=Europe/Paris:20190902T080000
DTEND;TZID=Europe/Paris:20190902T123000
DTSTAMP:20260423T052403
CREATED:20190825T200742Z
LAST-MODIFIED:20190825T200742Z
UID:12477-1567411200-1567427400@lepetitvarois.fr
SUMMARY:Collecte de sang
DESCRIPTION: Collecte de sang de 8h à 12h30. \nSalle des Fêtes Marc Baron. ST MANDRIER\nEtablissement français du sang 04 98 08 08 56  https://dondesang.efs.sante.fr 
URL:https://lepetitvarois.fr/event/collecte-de-sang-36/
CATEGORIES:Saint-Mandrier
ATTACH;FMTTYPE=image/jpeg:https://lepetitvarois.fr/wp-content/uploads/2019/06/balloon-991680_960_720.jpg
END:VEVENT
BEGIN:VEVENT
DTSTART;TZID=Europe/Paris:20190907T090000
DTEND;TZID=Europe/Paris:20190907T120000
DTSTAMP:20260423T052403
CREATED:20190825T201940Z
LAST-MODIFIED:20190825T201940Z
UID:12487-1567846800-1567857600@lepetitvarois.fr
SUMMARY:Forum des associations
DESCRIPTION: Forum des associations de 9h à 12h. \nPlace des Résistants. ST MANDRIER\nCette matinée est organisée pour faire connaître toutes les activités sportives\, culturelles et de loisirs de la ville de Saint Mandrier. \nService Vie de la Cité 04 94 11 51 75 www.ville-saintmandrier.fr
URL:https://lepetitvarois.fr/event/forum-des-associations-3/
CATEGORIES:Saint-Mandrier
ATTACH;FMTTYPE=image/jpeg:https://lepetitvarois.fr/wp-content/uploads/2019/07/child-865116_960_720.jpg
END:VEVENT
BEGIN:VEVENT
DTSTART;TZID=Europe/Paris:20190915T080000
DTEND;TZID=Europe/Paris:20190915T160000
DTSTAMP:20260423T052403
CREATED:20190908T131456Z
LAST-MODIFIED:20190908T131456Z
UID:12625-1568534400-1568563200@lepetitvarois.fr
SUMMARY: Vide-greniers
DESCRIPTION: Vide-greniers de 8h à 16h. \nParking Saint-Asile\, Pin Rolland. ST MANDRIER\n> 10 € l’emplacement. Réservation obligatoire à la permanence le mercredi matin de 10 h à 12 h\, salle Myrte au Pin Rolland.\nAssociation festive de la presqu’île 06 71 10 62 27 
URL:https://lepetitvarois.fr/event/vide-greniers-17/
CATEGORIES:Saint-Mandrier
ATTACH;FMTTYPE=image/jpeg:https://lepetitvarois.fr/wp-content/uploads/2018/06/flea-market-1883693_960_720.jpg
END:VEVENT
BEGIN:VEVENT
DTSTART;TZID=Europe/Paris:20190915T080000
DTEND;TZID=Europe/Paris:20190915T200000
DTSTAMP:20260423T052403
CREATED:20190908T131409Z
LAST-MODIFIED:20190908T131409Z
UID:12623-1568534400-1568577600@lepetitvarois.fr
SUMMARY: Concours de boules du Quai Sud
DESCRIPTION: Concours de boules du Quai Sud de 8h à 20h. \nPlace des Résistants et boulodrome d’Isanto. ST MANDRIER\nLa Boule Mandréane 06 09 58 79 83 
URL:https://lepetitvarois.fr/event/concours-de-boules-du-quai-sud/
CATEGORIES:Saint-Mandrier
ATTACH;FMTTYPE=image/jpeg:https://lepetitvarois.fr/wp-content/uploads/2018/10/mirroring-711926_960_720.jpg
END:VEVENT
BEGIN:VEVENT
DTSTART;VALUE=DATE:20190920
DTEND;VALUE=DATE:20190921
DTSTAMP:20260423T052403
CREATED:20190908T132930Z
LAST-MODIFIED:20190908T132930Z
UID:12643-1568937600-1569023999@lepetitvarois.fr
SUMMARY:Ensemble\, nettoyons la nature
DESCRIPTION:Ensemble\, nettoyons la nature  \nPinède Saint-Asile\, Pin Rolland. ST MANDRIER\n3 actions éco-citoyennes entre mer et terre.  \nVendredi 20 de 8h45 à 11h45\, plage Sainte Asile  : 4 zones de randonnées en partenariat avec Le Petit Marseillais. \nSamedi 21\, nettoyage de la nature dans les zones en accès libre. \nVendredi 27 de 8h45 à 11h45\, plage Sainte Asile : nettoyons la nature avec les scolaires et l’ONF.\n> Gratuit.\nHôtel de ville 04 94 11 51 60 www.ville-saintmandrier.fr
URL:https://lepetitvarois.fr/event/ensemble-nettoyons-la-nature/2019-09-20/
CATEGORIES:Saint-Mandrier
ATTACH;FMTTYPE=image/jpeg:https://lepetitvarois.fr/wp-content/uploads/2018/09/tree-trunk-569275_960_720.jpg
END:VEVENT
BEGIN:VEVENT
DTSTART;VALUE=DATE:20190922
DTEND;VALUE=DATE:20190923
DTSTAMP:20260423T052403
CREATED:20190908T134624Z
LAST-MODIFIED:20190908T134624Z
UID:12666-1569110400-1569196799@lepetitvarois.fr
SUMMARY:Fête foraine
DESCRIPTION: Fête foraine (manèges pour les enfants) de 10h à 18h. \nPlace des Résistants. ST MANDRIER\nOT Saint Mandrier 04 94 63 61 69
URL:https://lepetitvarois.fr/event/fete-foraine/
CATEGORIES:Saint-Mandrier
ATTACH;FMTTYPE=image/jpeg:https://lepetitvarois.fr/wp-content/uploads/2019/04/carousel-3882385_960_720.jpg
END:VEVENT
END:VCALENDAR