BEGIN:VCALENDAR
VERSION:2.0
PRODID:-//Le Petit Varois.Fr - ECPv6.0.10//NONSGML v1.0//EN
CALSCALE:GREGORIAN
METHOD:PUBLISH
X-WR-CALNAME:Le Petit Varois.Fr
X-ORIGINAL-URL:https://lepetitvarois.fr
X-WR-CALDESC:évènements pour Le Petit Varois.Fr
REFRESH-INTERVAL;VALUE=DURATION:PT1H
X-Robots-Tag:noindex
X-PUBLISHED-TTL:PT1H
BEGIN:VTIMEZONE
TZID:Europe/Paris
BEGIN:DAYLIGHT
TZOFFSETFROM:+0100
TZOFFSETTO:+0200
TZNAME:CEST
DTSTART:20190331T010000
END:DAYLIGHT
BEGIN:STANDARD
TZOFFSETFROM:+0200
TZOFFSETTO:+0100
TZNAME:CET
DTSTART:20191027T010000
END:STANDARD
END:VTIMEZONE
BEGIN:VEVENT
DTSTART;VALUE=DATE:20191130
DTEND;VALUE=DATE:20191202
DTSTAMP:20260423T004500
CREATED:20191107T121055Z
LAST-MODIFIED:20191107T121055Z
UID:13236-1575072000-1575244799@lepetitvarois.fr
SUMMARY:Marché de Noël
DESCRIPTION:Marché de Noël de 10h à 18h. \nSalle Myrte et Arbouses\, av. Marie Fliche Bergis\, Pin Rolland. ST MANDRIER\nPour vos cadeaux et décorations de Noël\, venez découvrir des créations originales dans le respect de l’artisanat. Artisanat et dégustation\, vente de produits festifs dans le respect de la tradition : nougat Fouque\, chocolats Jeff de Bruges\, produits corses… Venez partager un moment convivial dans l’esprit de Noël. \nSamedi 30 novembre : de 14h30 à 16h30 atelier bonbons pour les enfants.\nDimanche 1er décembre : de 14h30 à 16h peluches géantes\, magie sculpture sur ballons en attendant l’arrivée du Père Noël avec ses friandises. \n> Entrée libre.\nAssociation festive de la presqu’île 06 71 10 62 27 
URL:https://lepetitvarois.fr/event/marche-de-noel-3/
CATEGORIES:Saint-Mandrier
ATTACH;FMTTYPE=image/jpeg:https://lepetitvarois.fr/wp-content/uploads/2019/11/cinnamon-stars-2991174_960_720.jpg
END:VEVENT
BEGIN:VEVENT
DTSTART;VALUE=DATE:20191206
DTEND;VALUE=DATE:20191208
DTSTAMP:20260423T004500
CREATED:20191203T093721Z
LAST-MODIFIED:20191203T093721Z
UID:13528-1575590400-1575763199@lepetitvarois.fr
SUMMARY:Téléthon
DESCRIPTION: Téléthon  \nST MANDRIER\nVendredi 6 :  \n16h30\, stade de basket : mini parcours d’obstacles pour les enfants de maternelle et primaire. Ventes de crêpes\, boissons\, chocolat chaud au profit intégral du Téléthon. \nSamedi 7 : \n18h\, théâtre Marc Baron\, représentation de danse de l’école de danse de St Mandrier et concert de Zélie & Co (rock\, rob\, pop\, soul\, variétés).\n> Billets du concert du 7 décembre en vente sur place à 5 €. \nOffice Mandréen de la Jeunesse et des Sports 06 76 78 20 12 
URL:https://lepetitvarois.fr/event/telethon/
CATEGORIES:Saint-Mandrier
ATTACH;FMTTYPE=image/jpeg:https://lepetitvarois.fr/wp-content/uploads/2019/01/child-930103_960_720.jpg
END:VEVENT
BEGIN:VEVENT
DTSTART;TZID=Europe/Paris:20191207T183000
DTEND;TZID=Europe/Paris:20191207T200000
DTSTAMP:20260423T004500
CREATED:20191205T224814Z
LAST-MODIFIED:20191205T224814Z
UID:13576-1575743400-1575748800@lepetitvarois.fr
SUMMARY:Concert de chant choral "Concert de Noël"
DESCRIPTION:Concert de chant choral « Concert de Noël » avec la chorale Alléluia de Saint Mandrier et le Chœur Marine du CSAM de Toulon à 18h30. \nEglise de Saint Mandrier\, place du 11 Novembre. ST MANDRIER.  \nAu programme : chansons traditionnelles de Noël ; chansons françaises et de variétés diverses (Cabrel\, Fugain\, Gainsbourg\, L.Cohen…)\, classique et sacré (Rameau\, Berlioz\, Haendel…).\n> Libre participation. Pas de réservation. \nChorale Alleluia de Saint Mandrier 06 79 97 28 06 mireille.hermon@wanadoo.fr
URL:https://lepetitvarois.fr/event/concert-de-chant-choral-concert-de-noel/
CATEGORIES:Saint-Mandrier
ATTACH;FMTTYPE=image/png:https://lepetitvarois.fr/wp-content/uploads/2018/12/christmas-1887306_960_720.png
END:VEVENT
BEGIN:VEVENT
DTSTART;TZID=Europe/Paris:20191213T180000
DTEND;TZID=Europe/Paris:20191213T200000
DTSTAMP:20260423T004500
CREATED:20191207T202436Z
LAST-MODIFIED:20191207T202436Z
UID:13636-1576260000-1576267200@lepetitvarois.fr
SUMMARY:Les animations de Noël "La marche des Lucioles"
DESCRIPTION: Les animations de Noël « La marche des Lucioles » \nParking Saint Asile. ST MANDRIER\n18h: rassemblement des enfants avec une lanterne\, une lumière\, une bougie \n18h30 : départ du défilé avec musique. 19h30\, arrivée sur le parking Sainte Asile puis distribution de soupe et boissons chaudes. \n> Gratuit. \nLa Mandréane 06 27 25 42 74
URL:https://lepetitvarois.fr/event/les-animations-de-noel-la-marche-des-lucioles/
CATEGORIES:Saint-Mandrier
ATTACH;FMTTYPE=image/jpeg:https://lepetitvarois.fr/wp-content/uploads/2019/11/cinnamon-stars-2991174_960_720.jpg
END:VEVENT
BEGIN:VEVENT
DTSTART;TZID=Europe/Paris:20191221T140000
DTEND;TZID=Europe/Paris:20191221T170000
DTSTAMP:20260423T004500
CREATED:20191218T090439Z
LAST-MODIFIED:20191218T090439Z
UID:13772-1576936800-1576947600@lepetitvarois.fr
SUMMARY:Les animations de Noël : arrivée du Père Noël
DESCRIPTION:Place des Résistants. ST MANDRIER\nLe matin\, dédicaces de Noël avec la radio Top FM (vous avez de la famille éloignée\, laissez-leur un petit message de Noël qui leur fera chaud au cœur). \nA partir de 14h30 : ateliers de Noël\, structures gonflables. \nA 16h30 : arrivée du Père Noël en bateau et goûter avec boissons chaudes. Puis\, petit spectacle son et lumières sur la façade de la mairie.\n> Gratuit. \nLa Mandréane 06 27 25 42 74
URL:https://lepetitvarois.fr/event/les-animations-de-noel-arrivee-du-pere-noel/
CATEGORIES:Saint-Mandrier
ATTACH;FMTTYPE=image/jpeg:https://lepetitvarois.fr/wp-content/uploads/2018/12/father-christmas-1149928_960_720.jpg
END:VEVENT
BEGIN:VEVENT
DTSTART;TZID=Europe/Paris:20191228T150000
DTEND;TZID=Europe/Paris:20191228T170000
DTSTAMP:20260423T004500
CREATED:20191218T091917Z
LAST-MODIFIED:20191218T091917Z
UID:13792-1577545200-1577552400@lepetitvarois.fr
SUMMARY:Spectacle "L'Amie Nuit"
DESCRIPTION:Spectacle « L’Amie Nuit » à 15h. \nThéâtre Marc Baron. ST MANDRIER\nL’Amie Nuit que toutes les nuits deviennent exceptionnelles ! \nUn spectacle pour tous les publics\, même les plus petits\, des compagnies Vis Comika et Juste En Face. Un Petit Homme ne peut pas dormir. Il parle à son chat qui s’est sauvé par la fenêtre une nuit. Parti sur ses traces\, Petit Homme espère un rendez-vous à minuit avec l’Amie-Nuit. Pour cela\, il traversera toute la galaxie : trou noir\, voie lactée\, constellations\, nébuleuse… Lune\, Soleil\, aurores boréales seront aussi de la partie. Le chant de l’Amie-Nuit sèmera-t-il en lui les graines de l’espoir ?\n> Gratuit. \nService Vie de la Cité 04 94 11 51 76  www.ville-saintmandrier.fr
URL:https://lepetitvarois.fr/event/spectacle-lamie-nuit/
CATEGORIES:Saint-Mandrier
ATTACH;FMTTYPE=image/jpeg:https://lepetitvarois.fr/wp-content/uploads/2019/01/child-930103_960_720.jpg
END:VEVENT
END:VCALENDAR