BEGIN:VCALENDAR
VERSION:2.0
PRODID:-//Le Petit Varois.Fr - ECPv6.0.10//NONSGML v1.0//EN
CALSCALE:GREGORIAN
METHOD:PUBLISH
X-ORIGINAL-URL:https://lepetitvarois.fr
X-WR-CALDESC:évènements pour Le Petit Varois.Fr
REFRESH-INTERVAL;VALUE=DURATION:PT1H
X-Robots-Tag:noindex
X-PUBLISHED-TTL:PT1H
BEGIN:VTIMEZONE
TZID:Europe/Paris
BEGIN:DAYLIGHT
TZOFFSETFROM:+0100
TZOFFSETTO:+0200
TZNAME:CEST
DTSTART:20200329T010000
END:DAYLIGHT
BEGIN:STANDARD
TZOFFSETFROM:+0200
TZOFFSETTO:+0100
TZNAME:CET
DTSTART:20201025T010000
END:STANDARD
END:VTIMEZONE
BEGIN:VEVENT
DTSTART;TZID=Europe/Paris:20200202T080000
DTEND;TZID=Europe/Paris:20200202T170000
DTSTAMP:20260422T220308
CREATED:20200129T213631Z
LAST-MODIFIED:20200129T213631Z
UID:14264-1580630400-1580662800@lepetitvarois.fr
SUMMARY:Vide-greniers
DESCRIPTION:Vide-greniers de 8h à 17h. \nPlace des Résistants\, quai d’Honneur. ST MANDRIER\n> 10 € l’emplacement. Inscription obligatoire pour les emplacements par SMS uniquement. \nAssociation Les Ti’mandréens 06 25 31 53 59 lestimandreens@gmail.com  \n 
URL:https://lepetitvarois.fr/event/vide-greniers-20/
CATEGORIES:Saint-Mandrier
ATTACH;FMTTYPE=image/jpeg:https://lepetitvarois.fr/wp-content/uploads/2018/06/flea-market-1883693_960_720.jpg
END:VEVENT
BEGIN:VEVENT
DTSTART;TZID=Europe/Paris:20200216T080000
DTEND;TZID=Europe/Paris:20200216T160000
DTSTAMP:20260422T220308
CREATED:20200202T194332Z
LAST-MODIFIED:20200202T194332Z
UID:14344-1581840000-1581868800@lepetitvarois.fr
SUMMARY:Vide-greniers
DESCRIPTION:Vide-greniers de 8h à 16h. \nParking Saint-Asile\, Pin Rolland. ST MANDRIER\nDes supers trouvailles pour votre vestiaire\, votre tenue de réveillon\, votre maison\, vos loisirs et pourquoi pas un cadeau original\, un objet de collection à prix tout mini ! On vous attend de pied ferme. On débarrasse\, on vide ! \n> 10 € l’emplacement. Réservation obligatoire à la permanence le mercredi matin de 10 h à 12 h\, salle Myrte au Pin Rolland. \nAssociation festive de la presqu’île 06 71 10 62 27  
URL:https://lepetitvarois.fr/event/vide-greniers-21/
CATEGORIES:Saint-Mandrier
ATTACH;FMTTYPE=image/jpeg:https://lepetitvarois.fr/wp-content/uploads/2018/02/art-21542_960_720.jpg
END:VEVENT
BEGIN:VEVENT
DTSTART;TZID=Europe/Paris:20200216T163000
DTEND;TZID=Europe/Paris:20200216T190000
DTSTAMP:20260422T220308
CREATED:20200202T194654Z
LAST-MODIFIED:20200202T194654Z
UID:14350-1581870600-1581879600@lepetitvarois.fr
SUMMARY:Concert "Le cinéma s'invite chez Alléluia" par la chorale Alleluia
DESCRIPTION:Concert « Le cinéma s’invite chez Alléluia » par la chorale Alleluia à 16h30. \nSalle des Fêtes Marc Baron. ST MANDRIER\nConcert sous la direction de Pascal Bruno. Au programme : chansons de films célèbres\,  de variétés diverses\, de classique et sacré. \n> Libre participation. Pas de réservation. \nChorale Alleluia de Saint Mandrier 06 79 97 28 06  
URL:https://lepetitvarois.fr/event/concert-le-cinema-sinvite-chez-alleluia-par-la-chorale-alleluia/
CATEGORIES:Saint-Mandrier
ATTACH;FMTTYPE=image/jpeg:https://lepetitvarois.fr/wp-content/uploads/2019/11/concert-prestige2.jpeg
END:VEVENT
BEGIN:VEVENT
DTSTART;TZID=Europe/Paris:20200217T183000
DTEND;TZID=Europe/Paris:20200217T213000
DTSTAMP:20260422T220308
CREATED:20200202T195051Z
LAST-MODIFIED:20200202T195051Z
UID:14354-1581964200-1581975000@lepetitvarois.fr
SUMMARY:Conférence musicale "Franz Schubert" par Pascal Bruno\, musicologue et pianiste
DESCRIPTION:Conférence musicale « Franz Schubert » par Pascal Bruno\, musicologue et pianiste à 18h30. \nThéâtre Marc Baron. ST MANDRIER.  \nViennois et contemporain de Beethoven\, musicien sensible et véritable visionnaire de la psyché humaine. \n> Gratuit. \nService Vie de la Cité 04 94 11 51 75  www.ville-saintmandrier.fr \n 
URL:https://lepetitvarois.fr/event/conference-musicale-franz-schubert-par-pascal-bruno-musicologue-et-pianiste/
CATEGORIES:Saint-Mandrier
ATTACH;FMTTYPE=image/jpeg:https://lepetitvarois.fr/wp-content/uploads/2018/02/startup-594090_960_720.jpg
END:VEVENT
BEGIN:VEVENT
DTSTART;TZID=Europe/Paris:20200222T140000
DTEND;TZID=Europe/Paris:20200222T170000
DTSTAMP:20260422T220308
CREATED:20200202T200838Z
LAST-MODIFIED:20200202T200838Z
UID:14381-1582380000-1582390800@lepetitvarois.fr
SUMMARY:Loto
DESCRIPTION:Salle des Fêtes Marc Baron. ST MANDRIER\nLoto caritatif au profit des pupilles et blessés de la défense. \nDe nombreux lots à gagner dont : séjour 2 personnes\, bons salons de coiffure\, soins du corps\, repas restaurants\, jardinerie\, entrées parcs attractions\, électroménager\, bons d’achats… \n> 5 € le carton / 15 € les 4 cartons / 20 € les 6 cartons. Réservation obligatoire. \nSociété Nationale Entraide Médaille Militaire 06 68 34 54 64 daniel.thomas9@orange.fr  \n 
URL:https://lepetitvarois.fr/event/loto-20/
CATEGORIES:Saint-Mandrier
ATTACH;FMTTYPE=image/jpeg:https://lepetitvarois.fr/wp-content/uploads/2018/01/lotto-2103318_960_720.jpg
END:VEVENT
BEGIN:VEVENT
DTSTART;TZID=Europe/Paris:20200229T153000
DTEND;TZID=Europe/Paris:20200229T190000
DTSTAMP:20260422T220308
CREATED:20200202T202132Z
LAST-MODIFIED:20200202T202132Z
UID:14405-1582990200-1583002800@lepetitvarois.fr
SUMMARY:Grand loto
DESCRIPTION:Grand loto à 15h30. \nSalle des Fêtes Marc Baron. ST MANDRIER\n6 cartons pleins 12 quines avec de nombreux lots à gagner : télé 80 cm\, tablette\, blender cuisson\, jambon\, raclette grill et pierre de cuisson… \n> 15 € le carton de 6 plaques. Réservation conseillée. \nAssociation Les Bruissements de Saint Mandrier 06 37 80 54 10 bruissements83430@neuf.fr 
URL:https://lepetitvarois.fr/event/grand-loto-3/
CATEGORIES:Saint-Mandrier
ATTACH;FMTTYPE=image/jpeg:https://lepetitvarois.fr/wp-content/uploads/2018/02/russkoe-loto-2676332_960_720.jpg
END:VEVENT
END:VCALENDAR