BEGIN:VCALENDAR
VERSION:2.0
PRODID:-//Le Petit Varois.Fr - ECPv6.0.10//NONSGML v1.0//EN
CALSCALE:GREGORIAN
METHOD:PUBLISH
X-WR-CALNAME:Le Petit Varois.Fr
X-ORIGINAL-URL:https://lepetitvarois.fr
X-WR-CALDESC:évènements pour Le Petit Varois.Fr
REFRESH-INTERVAL;VALUE=DURATION:PT1H
X-Robots-Tag:noindex
X-PUBLISHED-TTL:PT1H
BEGIN:VTIMEZONE
TZID:Europe/Paris
BEGIN:DAYLIGHT
TZOFFSETFROM:+0100
TZOFFSETTO:+0200
TZNAME:CEST
DTSTART:20180325T010000
END:DAYLIGHT
BEGIN:STANDARD
TZOFFSETFROM:+0200
TZOFFSETTO:+0100
TZNAME:CET
DTSTART:20181028T010000
END:STANDARD
END:VTIMEZONE
BEGIN:VEVENT
DTSTART;TZID=Europe/Paris:20180602T110000
DTEND;TZID=Europe/Paris:20180602T180000
DTSTAMP:20260424T101444
CREATED:20180601T144059Z
LAST-MODIFIED:20180601T144059Z
UID:5092-1527937200-1527962400@lepetitvarois.fr
SUMMARY:Un journée au Jardin
DESCRIPTION:Une journée au jardin organisée par le service culture de la ville au domaine de l’Ermitage. \nNombreuses animations\, Cours de Do-In ouvert à tous à 11\, apéritif\, musique\, ateliers enfants\, artistes en liberté\, concert Belladona 9 ch\, conteur\, chanteurs\, musiciens\, pique nique libre… \nAvec les groupe « Mauvaises graines » et « les Cocciclowns ». Une journée champêtre sous le signe du printemps…
URL:https://lepetitvarois.fr/event/un-journee-au-jardin/
CATEGORIES:Saint-Mandrier
ATTACH;FMTTYPE=image/jpeg:https://lepetitvarois.fr/wp-content/uploads/2018/04/cherry-blossom-3323383_960_720.jpg
END:VEVENT
END:VCALENDAR