BEGIN:VCALENDAR
VERSION:2.0
PRODID:-//Le Petit Varois.Fr - ECPv6.0.10//NONSGML v1.0//EN
CALSCALE:GREGORIAN
METHOD:PUBLISH
X-ORIGINAL-URL:https://lepetitvarois.fr
X-WR-CALDESC:évènements pour Le Petit Varois.Fr
REFRESH-INTERVAL;VALUE=DURATION:PT1H
X-Robots-Tag:noindex
X-PUBLISHED-TTL:PT1H
BEGIN:VTIMEZONE
TZID:Europe/Paris
BEGIN:DAYLIGHT
TZOFFSETFROM:+0100
TZOFFSETTO:+0200
TZNAME:CEST
DTSTART:20180325T010000
END:DAYLIGHT
BEGIN:STANDARD
TZOFFSETFROM:+0200
TZOFFSETTO:+0100
TZNAME:CET
DTSTART:20181028T010000
END:STANDARD
END:VTIMEZONE
BEGIN:VEVENT
DTSTART;TZID=Europe/Paris:20180723T200000
DTEND;TZID=Europe/Paris:20180723T233000
DTSTAMP:20260424T082954
CREATED:20180629T212309Z
LAST-MODIFIED:20180629T212309Z
UID:5955-1532376000-1532388600@lepetitvarois.fr
SUMMARY:Repas dansant "aïoli" avec Dj
DESCRIPTION:Repas dansant « aïoli » avec Dj à 20h.\nParking Saint-Asile\, Pin Rolland. ST MANDRIER \n> 25 € / 22 € adhérent. Inscription obligatoire.\nAssociation festive de la presqu’île 04 94 94 74 69
URL:https://lepetitvarois.fr/event/repas-dansant-aioli-avec-dj/
CATEGORIES:Saint-Mandrier
ATTACH;FMTTYPE=image/jpeg:https://lepetitvarois.fr/wp-content/uploads/2018/06/break-11881_960_720.jpg
END:VEVENT
END:VCALENDAR