BEGIN:VCALENDAR
VERSION:2.0
PRODID:-//Le Petit Varois.Fr - ECPv6.0.10//NONSGML v1.0//EN
CALSCALE:GREGORIAN
METHOD:PUBLISH
X-ORIGINAL-URL:https://lepetitvarois.fr
X-WR-CALDESC:évènements pour Le Petit Varois.Fr
REFRESH-INTERVAL;VALUE=DURATION:PT1H
X-Robots-Tag:noindex
X-PUBLISHED-TTL:PT1H
BEGIN:VTIMEZONE
TZID:Europe/Paris
BEGIN:DAYLIGHT
TZOFFSETFROM:+0100
TZOFFSETTO:+0200
TZNAME:CEST
DTSTART:20180325T010000
END:DAYLIGHT
BEGIN:STANDARD
TZOFFSETFROM:+0200
TZOFFSETTO:+0100
TZNAME:CET
DTSTART:20181028T010000
END:STANDARD
END:VTIMEZONE
BEGIN:VEVENT
DTSTART;TZID=Europe/Paris:20180726T210000
DTEND;TZID=Europe/Paris:20180726T233000
DTSTAMP:20260424T082950
CREATED:20180629T213540Z
LAST-MODIFIED:20180629T213540Z
UID:5975-1532638800-1532647800@lepetitvarois.fr
SUMMARY:Extraits d'opéra "Shakespeare in Love"
DESCRIPTION:Extraits d’opéra « Shakespeare in Love » à 21h.\nDomaine de l’Ermitage\, ch. de la Coudoulière. ST MANDRIER \nPauline Courtin\, soprano\, Antonel Boldan\, ténor\, Seung-Gi Jung\, baryton et Franck Pantin au piano pour ne soirée d’air et de duos issus des opéras de Verdi\, Gounod\, Bernstein et Puccini. \n> Gratuit.\nRenseignement OT Saint Mandrier 04 94 63 61 69
URL:https://lepetitvarois.fr/event/extraits-dopera-shakespeare-in-love/
CATEGORIES:Saint-Mandrier
ATTACH;FMTTYPE=image/jpeg:https://lepetitvarois.fr/wp-content/uploads/2018/06/dance-422699_960_720.jpg
END:VEVENT
END:VCALENDAR