BEGIN:VCALENDAR
VERSION:2.0
PRODID:-//Le Petit Varois.Fr - ECPv6.0.10//NONSGML v1.0//EN
CALSCALE:GREGORIAN
METHOD:PUBLISH
X-ORIGINAL-URL:https://lepetitvarois.fr
X-WR-CALDESC:évènements pour Le Petit Varois.Fr
REFRESH-INTERVAL;VALUE=DURATION:PT1H
X-Robots-Tag:noindex
X-PUBLISHED-TTL:PT1H
BEGIN:VTIMEZONE
TZID:Europe/Paris
BEGIN:DAYLIGHT
TZOFFSETFROM:+0100
TZOFFSETTO:+0200
TZNAME:CEST
DTSTART:20180325T010000
END:DAYLIGHT
BEGIN:STANDARD
TZOFFSETFROM:+0200
TZOFFSETTO:+0100
TZNAME:CET
DTSTART:20181028T010000
END:STANDARD
END:VTIMEZONE
BEGIN:VEVENT
DTSTART;TZID=Europe/Paris:20180802T080000
DTEND;TZID=Europe/Paris:20180805T170000
DTSTAMP:20260424T062642
CREATED:20180731T194001Z
LAST-MODIFIED:20180803T203414Z
UID:6454-1533196800-1533488400@lepetitvarois.fr
SUMMARY:Festival Heiva
DESCRIPTION:Animations et activités sur le thème de la polynésie pendant 3 jours sur toute la commune.\nJeudi 2 août :\n20h30\, défilé (Plage du Touring\, devant la mairie\, plage du Canon et retour place des Résistants).\n22h\, présentation ou ouverture du festival. Prière avec la chorale tahitienne et visite des stands d’artisanat.\n22h30 à minuit\, place des Résistants : soirée bringue et dansanteVendredi 3 août :\n10h-12h / 14h30-17h\, plage du Touring : initiation va’a (pirogue) > Gratuit.\n10h30\, plage du Touring : animation par un groupe de danse.\n11h30\, place des Résistants : animation musicale et danse.\n12h30\, square Marc Baron : grillade avec animation et spectacle.\n15h30\, plage du Canon : animation par un groupe de danse.\n18h\, place des Résistants : course de porteurs de fruits hommes et femmes > Gratuit.\n20h30\, place des Résistants : dîner spectacle sur réservation.\nAu menu\, veau à la broche. \nSamedi 4 août :\n8h à 9h30\, square Marc Baron : petit déjeuner tahitien.\n9h\, quai d’honneur : départ de la 1ère étape de la course longue distance mixte va’a (pirogue polynésienne) « La Mandréenne Race Va’a » jusqu’au port de Saint Elme à La Seyne. Arrivée vers 11h avec animation spectacle.\n10h\, plage St Asile : animation spectacle.\n12h\, place des Résistants : animation spectacle.\n12h30\, plage de Saint Elme (La Seyne) : départ de la 2è étape de la course longue distance mixte va’a (pirogue polynésienne) « La Mandréenne Race Va’a » jusqu’au port de Saint Mandrier (Arrivée vers 14h30).\n12h30\, square Marc Baron : repas spectacle sur réservation.\n16h30\, place des Résistants : courses de porteurs de fruits réservées aux enfants à partir de 4 ans > Gratuit.\n21h30\, place des Résistants : grand spectacle « Terre et Mer » avec Heiva Tahiti et Polynesia Spectacle. \nDimanche 5 août :\n8h à 9h30\, square Marc Baron : petit déjeuner tahitien.\n10h30\, église de Saint Mandrier : messe oecuménique (Catholique\, Protestant et Adventiste) et la chorale tahitienne.\n12h30\, ouverture du four tahitien « Umu ma’a Tahiti ».\n12h45\, punch « Maitai ».\n13h\, repas tahitien + animation musicale et danses sur réservation.
URL:https://lepetitvarois.fr/event/festival-heiva/
CATEGORIES:Saint-Mandrier
ATTACH;FMTTYPE=image/jpeg:https://lepetitvarois.fr/wp-content/uploads/2018/07/800x600_31405-festival_heiva.jpg
END:VEVENT
END:VCALENDAR