BEGIN:VCALENDAR
VERSION:2.0
PRODID:-//Le Petit Varois.Fr - ECPv6.0.10//NONSGML v1.0//EN
CALSCALE:GREGORIAN
METHOD:PUBLISH
X-WR-CALNAME:Le Petit Varois.Fr
X-ORIGINAL-URL:https://lepetitvarois.fr
X-WR-CALDESC:évènements pour Le Petit Varois.Fr
REFRESH-INTERVAL;VALUE=DURATION:PT1H
X-Robots-Tag:noindex
X-PUBLISHED-TTL:PT1H
BEGIN:VTIMEZONE
TZID:Europe/Paris
BEGIN:DAYLIGHT
TZOFFSETFROM:+0100
TZOFFSETTO:+0200
TZNAME:CEST
DTSTART:20180325T010000
END:DAYLIGHT
BEGIN:STANDARD
TZOFFSETFROM:+0200
TZOFFSETTO:+0100
TZNAME:CET
DTSTART:20181028T010000
END:STANDARD
END:VTIMEZONE
BEGIN:VEVENT
DTSTART;TZID=Europe/Paris:20180810T080000
DTEND;TZID=Europe/Paris:20180810T120000
DTSTAMP:20260424T063440
CREATED:20180803T202437Z
LAST-MODIFIED:20180803T202437Z
UID:6554-1533888000-1533902400@lepetitvarois.fr
SUMMARY:Collecte de sang
DESCRIPTION:Collecte de sang de 8h à 12h30.\nSalle des Fêtes Marc Baron\, square Marc Baron. ST MANDRIER\nEtablissement français du sang 04 98 08 08 56
URL:https://lepetitvarois.fr/event/collecte-de-sang-5/
CATEGORIES:Saint-Mandrier
ATTACH;FMTTYPE=image/jpeg:https://lepetitvarois.fr/wp-content/uploads/2018/06/girls-739071_960_720.jpg
END:VEVENT
BEGIN:VEVENT
DTSTART;TZID=Europe/Paris:20180810T190000
DTEND;TZID=Europe/Paris:20180810T233000
DTSTAMP:20260424T063440
CREATED:20180803T203338Z
LAST-MODIFIED:20180803T203338Z
UID:6561-1533927600-1533943800@lepetitvarois.fr
SUMMARY:Grande sardinade à 19h
DESCRIPTION:Grande sardinade à 19h.\nQuai de la prud’homie\, port du Brusc. SIX FOURS\nSoirée organisée par le Comité local des associations bruscaines. \nLa manifestation sera annulée en cas de mauvais temps et reportée à une date ultérieure si possible. \n> 10 € avec 1 boisson.\nOT Six Fours 04 94 07 02 21
URL:https://lepetitvarois.fr/event/grande-sardinade-a-19h/
CATEGORIES:Saint-Mandrier
ATTACH;FMTTYPE=image/jpeg:https://lepetitvarois.fr/wp-content/uploads/2018/06/95623e88dcb4874e9652b17fdd849434.jpg
END:VEVENT
END:VCALENDAR