BEGIN:VCALENDAR
VERSION:2.0
PRODID:-//Le Petit Varois.Fr - ECPv6.0.10//NONSGML v1.0//EN
CALSCALE:GREGORIAN
METHOD:PUBLISH
X-ORIGINAL-URL:https://lepetitvarois.fr
X-WR-CALDESC:évènements pour Le Petit Varois.Fr
REFRESH-INTERVAL;VALUE=DURATION:PT1H
X-Robots-Tag:noindex
X-PUBLISHED-TTL:PT1H
BEGIN:VTIMEZONE
TZID:Europe/Paris
BEGIN:DAYLIGHT
TZOFFSETFROM:+0100
TZOFFSETTO:+0200
TZNAME:CEST
DTSTART:20180325T010000
END:DAYLIGHT
BEGIN:STANDARD
TZOFFSETFROM:+0200
TZOFFSETTO:+0100
TZNAME:CET
DTSTART:20181028T010000
END:STANDARD
END:VTIMEZONE
BEGIN:VEVENT
DTSTART;VALUE=DATE:20180811
DTEND;VALUE=DATE:20180813
DTSTAMP:20260424T063928
CREATED:20180803T204954Z
LAST-MODIFIED:20180803T204954Z
UID:6575-1533945600-1534118399@lepetitvarois.fr
SUMMARY:Festival lou Pitchoun
DESCRIPTION:Festival lou Pitchoun\nST MANDRIER\nSamedi 11  : \n17h – 23h\, place des Résistants : ateliers pour enfants avec parc aquatique\, cirque et initiation joutes.  \nDimanche 12 : \n10h – 15h\, place du Marégau : manèges aquatique et piscines avec jeux. \n21h\, place des Résistants : comédie musicale pour tous « Retour vers Néoland » par la compagnie Equinoxe. (gratuit).\nLa Mandréane  06 27 25 42 74
URL:https://lepetitvarois.fr/event/festival-lou-pitchoun/
CATEGORIES:Saint-Mandrier
ATTACH;FMTTYPE=image/jpeg:https://lepetitvarois.fr/wp-content/uploads/2018/06/boy-909552_960_720.jpg
END:VEVENT
BEGIN:VEVENT
DTSTART;TZID=Europe/Paris:20180812T120000
DTEND;TZID=Europe/Paris:20180812T170000
DTSTAMP:20260424T063928
CREATED:20180803T205650Z
LAST-MODIFIED:20180803T205650Z
UID:6584-1534075200-1534093200@lepetitvarois.fr
SUMMARY:Sardinade à 12h
DESCRIPTION:Sardinade à 12h.\nPinède Saint-Asile. ST MANDRIER \nLa sardinade comprend : 6 sardines\, un morceau de citron\, du pain\, un verre de vin ou de l’eau. Pas de réservation. \n> 5 € l’assiette.\nFesti-Plus 06 47 51 22 54
URL:https://lepetitvarois.fr/event/sardinade-a-12h/
CATEGORIES:Saint-Mandrier
ATTACH;FMTTYPE=image/jpeg:https://lepetitvarois.fr/wp-content/uploads/2018/07/sardines-1489630_960_720.jpg
END:VEVENT
END:VCALENDAR