BEGIN:VCALENDAR
VERSION:2.0
PRODID:-//Le Petit Varois.Fr - ECPv6.0.10//NONSGML v1.0//EN
CALSCALE:GREGORIAN
METHOD:PUBLISH
X-WR-CALNAME:Le Petit Varois.Fr
X-ORIGINAL-URL:https://lepetitvarois.fr
X-WR-CALDESC:évènements pour Le Petit Varois.Fr
REFRESH-INTERVAL;VALUE=DURATION:PT1H
X-Robots-Tag:noindex
X-PUBLISHED-TTL:PT1H
BEGIN:VTIMEZONE
TZID:Europe/Paris
BEGIN:DAYLIGHT
TZOFFSETFROM:+0100
TZOFFSETTO:+0200
TZNAME:CEST
DTSTART:20180325T010000
END:DAYLIGHT
BEGIN:STANDARD
TZOFFSETFROM:+0200
TZOFFSETTO:+0100
TZNAME:CET
DTSTART:20181028T010000
END:STANDARD
END:VTIMEZONE
BEGIN:VEVENT
DTSTART;TZID=Europe/Paris:20180815T203000
DTEND;TZID=Europe/Paris:20180815T233000
DTSTAMP:20260424T063654
CREATED:20180803T211014Z
LAST-MODIFIED:20180803T211014Z
UID:6601-1534365000-1534375800@lepetitvarois.fr
SUMMARY:Concert de musique classique piano et chant lyrique
DESCRIPTION:Concert de musique classique piano et chant lyrique à 20h30.\nEglise de Saint Mandrier\, place du 11 Novembre. ST MANDRIER\nConcert par le pianiste Nans Bart et la soprano Sophie Collin. Des moments d’émotion pour ce concert de piano et chant lyrique. Des œuvres de Chopin\, Mozart\, Strauss\, Donizetti… interprétées par le talentueux duo Nans Bart\, pianiste et Sophie Collin\, soprano qui se produisent dans notre région. \nLes Nocturnes de Chopin interprétés par Nans Bart s’ajouteront à l’émotion. \nUne belle soirée en perspective.\n> Participation libre.\nNans Bart 04 42 20 72 57
URL:https://lepetitvarois.fr/event/concert-de-musique-classique-piano-et-chant-lyrique/
CATEGORIES:Saint-Mandrier
ATTACH;FMTTYPE=image/jpeg:https://lepetitvarois.fr/wp-content/uploads/2018/06/theatre-83862_960_720.jpg
END:VEVENT
END:VCALENDAR