BEGIN:VCALENDAR
VERSION:2.0
PRODID:-//Le Petit Varois.Fr - ECPv6.0.10//NONSGML v1.0//EN
CALSCALE:GREGORIAN
METHOD:PUBLISH
X-WR-CALNAME:Le Petit Varois.Fr
X-ORIGINAL-URL:https://lepetitvarois.fr
X-WR-CALDESC:évènements pour Le Petit Varois.Fr
REFRESH-INTERVAL;VALUE=DURATION:PT1H
X-Robots-Tag:noindex
X-PUBLISHED-TTL:PT1H
BEGIN:VTIMEZONE
TZID:Europe/Paris
BEGIN:DAYLIGHT
TZOFFSETFROM:+0100
TZOFFSETTO:+0200
TZNAME:CEST
DTSTART:20180325T010000
END:DAYLIGHT
BEGIN:STANDARD
TZOFFSETFROM:+0200
TZOFFSETTO:+0100
TZNAME:CET
DTSTART:20181028T010000
END:STANDARD
END:VTIMEZONE
BEGIN:VEVENT
DTSTART;TZID=Europe/Paris:20180821T170000
DTEND;TZID=Europe/Paris:20180821T230000
DTSTAMP:20260424T062515
CREATED:20180810T195915Z
LAST-MODIFIED:20180810T195915Z
UID:6747-1534870800-1534892400@lepetitvarois.fr
SUMMARY:Foire artisanale nocturne
DESCRIPTION:Foire artisanale nocturne de 17h à minuit.\nPlace des Résistants\, quai d’Honneur. ST MANDRIER\nPlein V’Arts 06 09 95 83 21
URL:https://lepetitvarois.fr/event/foire-artisanale-nocturne-4/
CATEGORIES:Saint-Mandrier
ATTACH;FMTTYPE=image/jpeg:https://lepetitvarois.fr/wp-content/uploads/2018/04/map-3260506_960_720.jpg
END:VEVENT
BEGIN:VEVENT
DTSTART;TZID=Europe/Paris:20180821T200000
DTEND;TZID=Europe/Paris:20180821T233000
DTSTAMP:20260424T062515
CREATED:20180810T200106Z
LAST-MODIFIED:20180810T200106Z
UID:6749-1534881600-1534894200@lepetitvarois.fr
SUMMARY:Repas dansant "Paella"
DESCRIPTION:Repas dansant « Paella » à 20h.\nParking Saint-Asile\, Pin Rolland. ST MANDRIER\nLes inscriptions se font le mercredi 11 juillet de 10h à 12h dans la salle myrte à Pin Rolland. \n> 25 € non adhérent / 22 € adhérent. Inscription obligatoire.\nAssociation festive de la presqu’île 04 94 94 74 69
URL:https://lepetitvarois.fr/event/repas-dansant-paella/
CATEGORIES:Saint-Mandrier
ATTACH;FMTTYPE=image/jpeg:https://lepetitvarois.fr/wp-content/uploads/2018/08/london-1010832_960_720.jpg
END:VEVENT
END:VCALENDAR