BEGIN:VCALENDAR
VERSION:2.0
PRODID:-//Le Petit Varois.Fr - ECPv6.0.10//NONSGML v1.0//EN
CALSCALE:GREGORIAN
METHOD:PUBLISH
X-WR-CALNAME:Le Petit Varois.Fr
X-ORIGINAL-URL:https://lepetitvarois.fr
X-WR-CALDESC:évènements pour Le Petit Varois.Fr
REFRESH-INTERVAL;VALUE=DURATION:PT1H
X-Robots-Tag:noindex
X-PUBLISHED-TTL:PT1H
BEGIN:VTIMEZONE
TZID:Europe/Paris
BEGIN:DAYLIGHT
TZOFFSETFROM:+0100
TZOFFSETTO:+0200
TZNAME:CEST
DTSTART:20180325T010000
END:DAYLIGHT
BEGIN:STANDARD
TZOFFSETFROM:+0200
TZOFFSETTO:+0100
TZNAME:CET
DTSTART:20181028T010000
END:STANDARD
END:VTIMEZONE
BEGIN:VEVENT
DTSTART;TZID=Europe/Paris:20180827T170000
DTEND;TZID=Europe/Paris:20180827T210000
DTSTAMP:20260424T043525
CREATED:20180821T213144Z
LAST-MODIFIED:20180821T213144Z
UID:6882-1535389200-1535403600@lepetitvarois.fr
SUMMARY:Fête de la Libération
DESCRIPTION:Fête de la Libération\nPlace des Résistants. ST MANDRIER\nDéfilé de véhicules militaires à 17h du Pin Rolland à la place des Résistants à 17h30. \nBal de la Libération sur la place des Résistants à 21h.\nService Vie de la Cité 04 94 11 51 75
URL:https://lepetitvarois.fr/event/fete-de-la-liberation/
CATEGORIES:Saint-Mandrier
ATTACH;FMTTYPE=image/jpeg:https://lepetitvarois.fr/wp-content/uploads/2018/08/50th_division-scaled.jpg
END:VEVENT
END:VCALENDAR