BEGIN:VCALENDAR
VERSION:2.0
PRODID:-//Le Petit Varois.Fr - ECPv6.0.10//NONSGML v1.0//EN
CALSCALE:GREGORIAN
METHOD:PUBLISH
X-ORIGINAL-URL:https://lepetitvarois.fr
X-WR-CALDESC:évènements pour Le Petit Varois.Fr
REFRESH-INTERVAL;VALUE=DURATION:PT1H
X-Robots-Tag:noindex
X-PUBLISHED-TTL:PT1H
BEGIN:VTIMEZONE
TZID:Europe/Paris
BEGIN:DAYLIGHT
TZOFFSETFROM:+0100
TZOFFSETTO:+0200
TZNAME:CEST
DTSTART:20180325T010000
END:DAYLIGHT
BEGIN:STANDARD
TZOFFSETFROM:+0200
TZOFFSETTO:+0100
TZNAME:CET
DTSTART:20181028T010000
END:STANDARD
END:VTIMEZONE
BEGIN:VEVENT
DTSTART;VALUE=DATE:20180928
DTEND;VALUE=DATE:20180930
DTSTAMP:20260424T043041
CREATED:20180901T193727Z
LAST-MODIFIED:20180901T193727Z
UID:7078-1538092800-1538265599@lepetitvarois.fr
SUMMARY:Ensemble\, nettoyons la nature - randonnées éco-citoyennes
DESCRIPTION:Ensemble\, nettoyons la nature – randonnées éco-citoyennes\nPinède Saint-Asile\, Pin Rolland. ST MANDRIER \nA l’occasion de mouvement national “Nettoyons la nature” lancé par Leclerc\, les services environnement et sport de la commune proposent une randonnée éco-citoyenne le samedi 29 septembre en matinée. Le vendredi 28 au matin\, rendez-vous plage Sainte Asile pour une action nettoyage avec les scolaires de 8h45 à 11h30. \nCette randonnée n’est pas une compétition\, l’objectif est de permettre aux participants engagés de façon volontaire\, d’être sensibilisés à la protection de l’environnement naturel et de contribuer à nettoyer la nature en randonnant sur les sentiers\, à allure libre. \nLe parcours de randonnée le plus complet est proche des 10 km et se décline en tronçons de dénivelés divers et en zones planes (stade Louis Clément\, esplanade de la Coudoulière\, boulodrome Pin Rolland\, plage Saint Asile). \nLe lieu de rassemblement final est la plage Saint Asile vers 11h45 où un apéritif sera offert par la municipalité. \nLe départ est en continu selon les tronçons à partir de 8h45 de la plage Saint Asile et de 9h à 10h30 du stade Louis Clément.\n> Paella du samedi 29 septembre à 12h sur inscription : 13 €.\nHôtel de ville 04 94 11 51 60 www.ville-saintmandrier.fr
URL:https://lepetitvarois.fr/event/ensemble-nettoyons-la-nature-randonnees-eco-citoyennes/
CATEGORIES:Saint-Mandrier
ATTACH;FMTTYPE=image/jpeg:https://lepetitvarois.fr/wp-content/uploads/2018/06/sea-2052650_960_720.jpg
END:VEVENT
END:VCALENDAR