BEGIN:VCALENDAR
VERSION:2.0
PRODID:-//Le Petit Varois.Fr - ECPv6.0.10//NONSGML v1.0//EN
CALSCALE:GREGORIAN
METHOD:PUBLISH
X-WR-CALNAME:Le Petit Varois.Fr
X-ORIGINAL-URL:https://lepetitvarois.fr
X-WR-CALDESC:évènements pour Le Petit Varois.Fr
REFRESH-INTERVAL;VALUE=DURATION:PT1H
X-Robots-Tag:noindex
X-PUBLISHED-TTL:PT1H
BEGIN:VTIMEZONE
TZID:Europe/Paris
BEGIN:DAYLIGHT
TZOFFSETFROM:+0100
TZOFFSETTO:+0200
TZNAME:CEST
DTSTART:20180325T010000
END:DAYLIGHT
BEGIN:STANDARD
TZOFFSETFROM:+0200
TZOFFSETTO:+0100
TZNAME:CET
DTSTART:20181028T010000
END:STANDARD
END:VTIMEZONE
BEGIN:VEVENT
DTSTART;TZID=Europe/Paris:20181012T150000
DTEND;TZID=Europe/Paris:20181012T203000
DTSTAMP:20260424T023349
CREATED:20181003T210716Z
LAST-MODIFIED:20181003T210734Z
UID:7505-1539356400-1539376200@lepetitvarois.fr
SUMMARY:Réunion publique "La rénovation énergétique"
DESCRIPTION:Réunion publique « La rénovation énergétique » de 15h à 20h.\nSalle des Fêtes Marc Baron. ST MANDRIER\nDans le cadre de la mise en oeuvre du dispositif Bien chez soi\, la Métropole Toulon Provence méditerranée organise une après-midi dédiée à la rénovation énergétique\, s’adressant à l’ensemble des habitants de la ville de Saint Mandrier. \n15h-18h30 : rendu de l’opération de thermographie aérienne. \nChaque visiteur pourra obtenir gratuitement la photographie thermique de son logement grâce à la thermographie aérienne réalisée par la Métropole Toulon Provence Méditerranée sur l’ensemble de son territoire en partenariat avec GRDF. Le conseiller Bien chez soi en commentera les résultats\, analysant les principales déperditions de chaleur du bâtiment concerné. \n18h-20h : réunion publique « Mener à bien mon projet de rénovation énergétique : quel accompagnement ? »\n> Entrée libre.\nHôtel de ville 04 94 11 51 60  
URL:https://lepetitvarois.fr/event/reunion-publique-la-renovation-energetique/
CATEGORIES:Saint-Mandrier
ATTACH;FMTTYPE=image/jpeg:https://lepetitvarois.fr/wp-content/uploads/2018/10/startup-594091_960_720.jpg
END:VEVENT
END:VCALENDAR