BEGIN:VCALENDAR
VERSION:2.0
PRODID:-//Le Petit Varois.Fr - ECPv6.0.10//NONSGML v1.0//EN
CALSCALE:GREGORIAN
METHOD:PUBLISH
X-WR-CALNAME:Le Petit Varois.Fr
X-ORIGINAL-URL:https://lepetitvarois.fr
X-WR-CALDESC:évènements pour Le Petit Varois.Fr
REFRESH-INTERVAL;VALUE=DURATION:PT1H
X-Robots-Tag:noindex
X-PUBLISHED-TTL:PT1H
BEGIN:VTIMEZONE
TZID:Europe/Paris
BEGIN:DAYLIGHT
TZOFFSETFROM:+0100
TZOFFSETTO:+0200
TZNAME:CEST
DTSTART:20180325T010000
END:DAYLIGHT
BEGIN:STANDARD
TZOFFSETFROM:+0200
TZOFFSETTO:+0100
TZNAME:CET
DTSTART:20181028T010000
END:STANDARD
END:VTIMEZONE
BEGIN:VEVENT
DTSTART;VALUE=DATE:20181013
DTEND;VALUE=DATE:20181015
DTSTAMP:20260424T024439
CREATED:20181003T211717Z
LAST-MODIFIED:20181003T211717Z
UID:7521-1539388800-1539561599@lepetitvarois.fr
SUMMARY:Foire aux livres
DESCRIPTION:Foire aux livres de 10h à 18h.\nSalles Arbouses et Myrte\, av. Marie Fliche Bergis\, Pin Rolland. ST MANDRIER\nVente de livres\, CD\, DVD d’occasion à des prix exceptionnels. \nAmnesty International Ouest Var 04 94 30 82 78 amnestyouestvar@gmail.com  
URL:https://lepetitvarois.fr/event/foire-aux-livres/
CATEGORIES:Saint-Mandrier
ATTACH;FMTTYPE=image/jpeg:https://lepetitvarois.fr/wp-content/uploads/2018/02/bookcase-1869616_960_720.jpg
END:VEVENT
BEGIN:VEVENT
DTSTART;TZID=Europe/Paris:20181014T100000
DTEND;TZID=Europe/Paris:20181014T180000
DTSTAMP:20260424T024439
CREATED:20181003T211945Z
LAST-MODIFIED:20181003T211945Z
UID:7527-1539511200-1539540000@lepetitvarois.fr
SUMMARY:Fête de la cougourdo
DESCRIPTION:Fête de la cougourdo de 10h à 18h.\nDomaine de l’Ermitage\, ch. de la Coudoulière. ST MANDRIER\nTout autour de la cougourdo : cours de cuisine\, dégustations\, ateliers enfants… \nPetite restauration et buvette sur place. \n> Accès libre.\nService Vie de la Cité 04 94 11 51 75 www.ville-saintmandrier.fr
URL:https://lepetitvarois.fr/event/fete-de-la-cougourdo/
CATEGORIES:Saint-Mandrier
ATTACH;FMTTYPE=image/jpeg:https://lepetitvarois.fr/wp-content/uploads/2018/06/mediterranean-cuisine-2378758_960_720-2.jpg
END:VEVENT
BEGIN:VEVENT
DTSTART;TZID=Europe/Paris:20181014T120000
DTEND;TZID=Europe/Paris:20181014T170000
DTSTAMP:20260424T024439
CREATED:20181003T212355Z
LAST-MODIFIED:20181003T212355Z
UID:7529-1539518400-1539536400@lepetitvarois.fr
SUMMARY:Fête de la bière et musiques festives
DESCRIPTION:Fête de la bière et musiques festives à 12h.\nEspace culturel André Malraux\, 100 av. de Lattre de Tassigny. SIX FOURS\nRepas et animations musicales proposées par La philharmonie la Six-Fournaise\,  l’ensemble Cacophonix et Raymond Marot aux platines. \nRepas : choucroute garnie\, bière\, fromage et dessert. \n> 30 € adulte / 10 € enfants de moins de 10 ans. Inscription obligatoire à la permanence espace Malraux du 25/09 au 13/10 les mardis et samedis de 9h30 à 12h et les vendredi de 16h à 18h.\nSociété philharmonique la Six Fournaise 06 87 63 32 16 / 04 89 66 59 50   philharmlasixfournaise@gmail.com
URL:https://lepetitvarois.fr/event/fete-de-la-biere-et-musiques-festives/
CATEGORIES:Saint-Mandrier
ATTACH;FMTTYPE=image/jpeg:https://lepetitvarois.fr/wp-content/uploads/2018/10/bar-2209813_960_720.jpg
END:VEVENT
END:VCALENDAR