BEGIN:VCALENDAR
VERSION:2.0
PRODID:-//Le Petit Varois.Fr - ECPv6.0.10//NONSGML v1.0//EN
CALSCALE:GREGORIAN
METHOD:PUBLISH
X-ORIGINAL-URL:https://lepetitvarois.fr
X-WR-CALDESC:évènements pour Le Petit Varois.Fr
REFRESH-INTERVAL;VALUE=DURATION:PT1H
X-Robots-Tag:noindex
X-PUBLISHED-TTL:PT1H
BEGIN:VTIMEZONE
TZID:Europe/Paris
BEGIN:DAYLIGHT
TZOFFSETFROM:+0100
TZOFFSETTO:+0200
TZNAME:CEST
DTSTART:20180325T010000
END:DAYLIGHT
BEGIN:STANDARD
TZOFFSETFROM:+0200
TZOFFSETTO:+0100
TZNAME:CET
DTSTART:20181028T010000
END:STANDARD
END:VTIMEZONE
BEGIN:VEVENT
DTSTART;TZID=Europe/Paris:20181118T080000
DTEND;TZID=Europe/Paris:20181118T180000
DTSTAMP:20260424T010159
CREATED:20181029T114325Z
LAST-MODIFIED:20181029T114325Z
UID:7944-1542528000-1542564000@lepetitvarois.fr
SUMMARY:Vide-greniers
DESCRIPTION:Vide-greniers de 8h à 18h.\nParking Saint-Asile\, Pin Rolland. ST MANDRIER\n> 10 € l’emplacement. Réservation obligatoire. Permanence le mercredi matin de 10 h à 12 h\, salle Myrte au Pin Rolland. \nAssociation festive de la presqu’île 06 71 10 62 27  
URL:https://lepetitvarois.fr/event/vide-greniers-6/
CATEGORIES:Saint-Mandrier
ATTACH;FMTTYPE=image/jpeg:https://lepetitvarois.fr/wp-content/uploads/2018/02/marbles-1659398_960_720.jpg
END:VEVENT
BEGIN:VEVENT
DTSTART;TZID=Europe/Paris:20181118T100000
DTEND;TZID=Europe/Paris:20181118T120000
DTSTAMP:20260424T010159
CREATED:20181029T114759Z
LAST-MODIFIED:20181029T114759Z
UID:7949-1542535200-1542542400@lepetitvarois.fr
SUMMARY:8e course nature de Saint Mandrier
DESCRIPTION:8e course nature de Saint Mandrier : la 83430 à 10h.\nPlace des Résistants. ST MANDRIER\nAu choix\, 6 km ou 13 km « piquants » sur les entiers escarpés de la commune. \n> 12 €. Inscription à la mairie de Saint Mandrier ou sur https://www.njuko.net/la83430-2018/select_competition\nService Vie de la Cité 04 94 11 51 75
URL:https://lepetitvarois.fr/event/8e-course-nature-de-saint-mandrier/
CATEGORIES:Saint-Mandrier
ATTACH;FMTTYPE=image/jpeg:https://lepetitvarois.fr/wp-content/uploads/2018/04/race-1503361_960_720.jpg
END:VEVENT
END:VCALENDAR