BEGIN:VCALENDAR
VERSION:2.0
PRODID:-//Le Petit Varois.Fr - ECPv6.0.10//NONSGML v1.0//EN
CALSCALE:GREGORIAN
METHOD:PUBLISH
X-WR-CALNAME:Le Petit Varois.Fr
X-ORIGINAL-URL:https://lepetitvarois.fr
X-WR-CALDESC:évènements pour Le Petit Varois.Fr
REFRESH-INTERVAL;VALUE=DURATION:PT1H
X-Robots-Tag:noindex
X-PUBLISHED-TTL:PT1H
BEGIN:VTIMEZONE
TZID:Europe/Paris
BEGIN:DAYLIGHT
TZOFFSETFROM:+0100
TZOFFSETTO:+0200
TZNAME:CEST
DTSTART:20180325T010000
END:DAYLIGHT
BEGIN:STANDARD
TZOFFSETFROM:+0200
TZOFFSETTO:+0100
TZNAME:CET
DTSTART:20181028T010000
END:STANDARD
END:VTIMEZONE
BEGIN:VEVENT
DTSTART;TZID=Europe/Paris:20181125T090000
DTEND;TZID=Europe/Paris:20181125T190000
DTSTAMP:20260424T005927
CREATED:20181029T142857Z
LAST-MODIFIED:20181029T142857Z
UID:8000-1543136400-1543172400@lepetitvarois.fr
SUMMARY:Vide dressing
DESCRIPTION:Vide dressing de 9h à 19h.\nSalle Myrte et Arbouses\, av. Marie Fliche Bergis. ST MANDRIER\n> 10 € le stand. Réservation obligatoire. Permanence le mercredi matin de 10 h à 12 h\, salle Myrte au Pin Rolland.\nAssociation festive de la presqu’île 06 71 10 62 27
URL:https://lepetitvarois.fr/event/vide-dressing/
CATEGORIES:Saint-Mandrier
ATTACH;FMTTYPE=image/jpeg:https://lepetitvarois.fr/wp-content/uploads/2018/10/clothing-store-984396_960_720.jpg
END:VEVENT
END:VCALENDAR