BEGIN:VCALENDAR
VERSION:2.0
PRODID:-//Le Petit Varois.Fr - ECPv6.0.10//NONSGML v1.0//EN
CALSCALE:GREGORIAN
METHOD:PUBLISH
X-ORIGINAL-URL:https://lepetitvarois.fr
X-WR-CALDESC:évènements pour Le Petit Varois.Fr
REFRESH-INTERVAL;VALUE=DURATION:PT1H
X-Robots-Tag:noindex
X-PUBLISHED-TTL:PT1H
BEGIN:VTIMEZONE
TZID:Europe/Paris
BEGIN:DAYLIGHT
TZOFFSETFROM:+0100
TZOFFSETTO:+0200
TZNAME:CEST
DTSTART:20190331T010000
END:DAYLIGHT
BEGIN:STANDARD
TZOFFSETFROM:+0200
TZOFFSETTO:+0100
TZNAME:CET
DTSTART:20191027T010000
END:STANDARD
END:VTIMEZONE
BEGIN:VEVENT
DTSTART;TZID=Europe/Paris:20190119T153000
DTEND;TZID=Europe/Paris:20190119T170000
DTSTAMP:20260423T213932
CREATED:20190108T152630Z
LAST-MODIFIED:20190108T152630Z
UID:9018-1547911800-1547917200@lepetitvarois.fr
SUMMARY:Loto
DESCRIPTION:Loto à 15h30. Salle Marc Baron. ST MANDRIER Asso Les Bruissements de St Mandrier 06 37 80 54 10 bruissements83430@neuf.fr
URL:https://lepetitvarois.fr/event/loto-6/
CATEGORIES:Saint-Mandrier – Vie de la cité
ATTACH;FMTTYPE=image/jpeg:https://lepetitvarois.fr/wp-content/uploads/2018/02/russkoe-loto-2676332_960_720.jpg
END:VEVENT
END:VCALENDAR