BEGIN:VCALENDAR
VERSION:2.0
PRODID:-//Le Petit Varois.Fr - ECPv6.0.10//NONSGML v1.0//EN
CALSCALE:GREGORIAN
METHOD:PUBLISH
X-WR-CALNAME:Le Petit Varois.Fr
X-ORIGINAL-URL:https://lepetitvarois.fr
X-WR-CALDESC:évènements pour Le Petit Varois.Fr
REFRESH-INTERVAL;VALUE=DURATION:PT1H
X-Robots-Tag:noindex
X-PUBLISHED-TTL:PT1H
BEGIN:VTIMEZONE
TZID:Europe/Paris
BEGIN:DAYLIGHT
TZOFFSETFROM:+0100
TZOFFSETTO:+0200
TZNAME:CEST
DTSTART:20190331T010000
END:DAYLIGHT
BEGIN:STANDARD
TZOFFSETFROM:+0200
TZOFFSETTO:+0100
TZNAME:CET
DTSTART:20191027T010000
END:STANDARD
END:VTIMEZONE
BEGIN:VEVENT
DTSTART;TZID=Europe/Paris:20190302T200000
DTEND;TZID=Europe/Paris:20190302T230000
DTSTAMP:20260423T182718
CREATED:20190227T191211Z
LAST-MODIFIED:20190227T191211Z
UID:9688-1551556800-1551567600@lepetitvarois.fr
SUMMARY:Soirée Saint Patrick à 20h
DESCRIPTION:Soirée Saint Patrick à 20h.\nSalle des Fêtes Marc Baron. ST MANDRIER\nBuffet\, vins\, animation sont au programme. \n> 25 €. Réservation conseillée.\nUSSM Rugby 06 11 54 86 84
URL:https://lepetitvarois.fr/event/soiree-saint-patrick-a-20h/
CATEGORIES:Saint-Mandrier
ATTACH;FMTTYPE=image/jpeg:https://lepetitvarois.fr/wp-content/uploads/2018/11/cupcakes-1966567_960_720.jpg
END:VEVENT
END:VCALENDAR