BEGIN:VCALENDAR
VERSION:2.0
PRODID:-//Le Petit Varois.Fr - ECPv6.0.10//NONSGML v1.0//EN
CALSCALE:GREGORIAN
METHOD:PUBLISH
X-ORIGINAL-URL:https://lepetitvarois.fr
X-WR-CALDESC:évènements pour Le Petit Varois.Fr
REFRESH-INTERVAL;VALUE=DURATION:PT1H
X-Robots-Tag:noindex
X-PUBLISHED-TTL:PT1H
BEGIN:VTIMEZONE
TZID:Europe/Paris
BEGIN:DAYLIGHT
TZOFFSETFROM:+0100
TZOFFSETTO:+0200
TZNAME:CEST
DTSTART:20190331T010000
END:DAYLIGHT
BEGIN:STANDARD
TZOFFSETFROM:+0200
TZOFFSETTO:+0100
TZNAME:CET
DTSTART:20191027T010000
END:STANDARD
END:VTIMEZONE
BEGIN:VEVENT
DTSTART;TZID=Europe/Paris:20190407T080000
DTEND;TZID=Europe/Paris:20190407T180000
DTSTAMP:20260423T182131
CREATED:20190329T174426Z
LAST-MODIFIED:20190329T174426Z
UID:10249-1554624000-1554660000@lepetitvarois.fr
SUMMARY:Vide-greniers du village
DESCRIPTION:Vide-greniers du village de 8h à 18h.\nPlace des Résistants\, quai d’Honneur. ST MANDRIER\n> 10 € l’emplacement. Inscription par SMS uniquement.\nAssociation Les Ti’mandréens  06 73 37 13 72
URL:https://lepetitvarois.fr/event/vide-greniers-du-village-4/
CATEGORIES:Saint-Mandrier
ATTACH;FMTTYPE=image/jpeg:https://lepetitvarois.fr/wp-content/uploads/2018/02/art-21542_960_720.jpg
END:VEVENT
BEGIN:VEVENT
DTSTART;TZID=Europe/Paris:20190407T090000
DTEND;TZID=Europe/Paris:20190407T160000
DTSTAMP:20260423T182131
CREATED:20190329T174713Z
LAST-MODIFIED:20190329T174713Z
UID:10251-1554627600-1554652800@lepetitvarois.fr
SUMMARY:Vide dressing
DESCRIPTION:Vide dressing de 9h à 16h.\nSalle Myrte et Arbouses\, av. Marie Fliche Bergis. ST MANDRIER\n> 10 € le stand. Réservation obligatoire à la permanence le mercredi matin de 10 h à 12 h\, salle Myrte au Pin Rolland.\nAssociation festive de la presqu’île  06 71 10 62 27  
URL:https://lepetitvarois.fr/event/vide-dressing-2/
CATEGORIES:Saint-Mandrier
ATTACH;FMTTYPE=image/jpeg:https://lepetitvarois.fr/wp-content/uploads/2018/10/clothing-store-984396_960_720.jpg
END:VEVENT
BEGIN:VEVENT
DTSTART;TZID=Europe/Paris:20190407T160000
DTEND;TZID=Europe/Paris:20190407T180000
DTSTAMP:20260423T182131
CREATED:20190327T073405Z
LAST-MODIFIED:20190327T073405Z
UID:10137-1554652800-1554660000@lepetitvarois.fr
SUMMARY:CONCERT GOSPEL PAR "THE HOPE'S GOSPEL CHOIR"
DESCRIPTION:Concert de gospel en faveur des associations « Kiwanis La Seyne/Six Fours/Saint Mandrier » et « 1Enfant 1Vie Toulon ».\nDepuis sa naissance (1996)\, de Toulouse à Mulhouse en passant par Lyon\, Istres…\, la Chorale a voyagé pour donner des représentations dans des endroits connus ou inconnus du grand public et répandre la joie\, la paix et l’amour de Dieu autour d’elle. \nElle a participé à plusieurs événements culturels dans la région du Var :\n– Le village du Revest\,\n– L’Opéra de Toulon\,\n– La Castille du Var\,\n– Le Palais Neptune de Toulon\,\n– Des cérémonies de mariage\,\n– Des concerts dans plusieurs Églises du Var\,\n– Plusieurs concerts au Palais des Sports de Toulon. \nCes rythmes gospel et cet esprit spiritual sont la base des chants interprétés par les Hope’s Gospel Choir
URL:https://lepetitvarois.fr/event/concert-gospel-par-the-hopes-gospel-choir/
CATEGORIES:Saint-Mandrier
ATTACH;FMTTYPE=image/jpeg:https://lepetitvarois.fr/wp-content/uploads/2019/03/unnamed-4.jpg
END:VEVENT
END:VCALENDAR