BEGIN:VCALENDAR
VERSION:2.0
PRODID:-//Le Petit Varois.Fr - ECPv6.0.10//NONSGML v1.0//EN
CALSCALE:GREGORIAN
METHOD:PUBLISH
X-ORIGINAL-URL:https://lepetitvarois.fr
X-WR-CALDESC:évènements pour Le Petit Varois.Fr
REFRESH-INTERVAL;VALUE=DURATION:PT1H
X-Robots-Tag:noindex
X-PUBLISHED-TTL:PT1H
BEGIN:VTIMEZONE
TZID:Europe/Paris
BEGIN:DAYLIGHT
TZOFFSETFROM:+0100
TZOFFSETTO:+0200
TZNAME:CEST
DTSTART:20190331T010000
END:DAYLIGHT
BEGIN:STANDARD
TZOFFSETFROM:+0200
TZOFFSETTO:+0100
TZNAME:CET
DTSTART:20191027T010000
END:STANDARD
END:VTIMEZONE
BEGIN:VEVENT
DTSTART;VALUE=DATE:20190420
DTEND;VALUE=DATE:20190422
DTSTAMP:20260423T170428
CREATED:20190329T184944Z
LAST-MODIFIED:20190329T184944Z
UID:10310-1555718400-1555891199@lepetitvarois.fr
SUMMARY:9è salon des véhicules anciens\, maquettes et modèles réduits
DESCRIPTION:9è salon des véhicules anciens\, maquettes et modèles réduits de 10h à 18h30. \nSquare Marc Baron et domaine de l’Ermitage. ST MANDRIER\nExpo voitures et moto\, bourse de pièces détachées\, défilé des véhicules dans le village à 11h le samedi et le dimanche et animations. \nLes Amis de la Maquette et calandre mandréenne 07 77 98 12 09
URL:https://lepetitvarois.fr/event/9e-salon-des-vehicules-anciens-maquettes-et-modeles-reduits/
CATEGORIES:Saint-Mandrier
ATTACH;FMTTYPE=image/jpeg:https://lepetitvarois.fr/wp-content/uploads/2018/07/vintage-1950s-887272_960_720.jpg
END:VEVENT
BEGIN:VEVENT
DTSTART;TZID=Europe/Paris:20190421T080000
DTEND;TZID=Europe/Paris:20190421T160000
DTSTAMP:20260423T170428
CREATED:20190329T185308Z
LAST-MODIFIED:20190329T185308Z
UID:10317-1555833600-1555862400@lepetitvarois.fr
SUMMARY:Vide-greniers de Pin Rolland
DESCRIPTION:Vide-greniers de Pin Rolland de 8h à 16h.\nParking Saint-Asile\, Pin Rolland. ST MANDRIER\n> 10 € l’emplacement. Réservation obligatoire à la permanence le mercredi matin de 10 h à 12 h\, salle Myrte au Pin Rolland.\nAssociation festive de la presqu’île  06 71 10 62 27  
URL:https://lepetitvarois.fr/event/vide-greniers-de-pin-rolland-5/
CATEGORIES:Saint-Mandrier
ATTACH;FMTTYPE=image/jpeg:https://lepetitvarois.fr/wp-content/uploads/2018/06/flea-market-1883693_960_720.jpg
END:VEVENT
END:VCALENDAR