BEGIN:VCALENDAR
VERSION:2.0
PRODID:-//Le Petit Varois.Fr - ECPv6.0.10//NONSGML v1.0//EN
CALSCALE:GREGORIAN
METHOD:PUBLISH
X-ORIGINAL-URL:https://lepetitvarois.fr
X-WR-CALDESC:évènements pour Le Petit Varois.Fr
REFRESH-INTERVAL;VALUE=DURATION:PT1H
X-Robots-Tag:noindex
X-PUBLISHED-TTL:PT1H
BEGIN:VTIMEZONE
TZID:Europe/Paris
BEGIN:DAYLIGHT
TZOFFSETFROM:+0100
TZOFFSETTO:+0200
TZNAME:CEST
DTSTART:20190331T010000
END:DAYLIGHT
BEGIN:STANDARD
TZOFFSETFROM:+0200
TZOFFSETTO:+0100
TZNAME:CET
DTSTART:20191027T010000
END:STANDARD
END:VTIMEZONE
BEGIN:VEVENT
DTSTART;TZID=Europe/Paris:20190428T090000
DTEND;TZID=Europe/Paris:20190428T180000
DTSTAMP:20260423T164522
CREATED:20190329T190930Z
LAST-MODIFIED:20190329T190930Z
UID:10345-1556442000-1556474400@lepetitvarois.fr
SUMMARY:Marché artisanal
DESCRIPTION:Marché artisanal de 9h à 18h. \nPlace des Résistants\, quai d’Honneur. ST MANDRIER\nPlein V’Arts 06 09 95 83 21
URL:https://lepetitvarois.fr/event/marche-artisanal/
CATEGORIES:Saint-Mandrier
ATTACH;FMTTYPE=image/jpeg:https://lepetitvarois.fr/wp-content/uploads/2019/03/fig-972271_960_720-1.jpg
END:VEVENT
BEGIN:VEVENT
DTSTART;TZID=Europe/Paris:20190428T140000
DTEND;TZID=Europe/Paris:20190428T170000
DTSTAMP:20260423T164522
CREATED:20190329T191059Z
LAST-MODIFIED:20190329T191059Z
UID:10349-1556460000-1556470800@lepetitvarois.fr
SUMMARY:Chasse aux œufs
DESCRIPTION:Chasse aux œufs de 14h à 17h30. \nDomaine de l’Ermitage\, ch. de la Coudoulière. ST MANDRIER\nPaniers de Pâques\, atelier chocolat\, maquillage\, pêche aux canards\, atelier coloriage… \nLa Mandréane 06 27 25 42 74
URL:https://lepetitvarois.fr/event/chasse-aux-oeufs-2/
CATEGORIES:Saint-Mandrier
ATTACH;FMTTYPE=image/jpeg:https://lepetitvarois.fr/wp-content/uploads/2019/03/eggs-1245720_960_720.jpg
END:VEVENT
END:VCALENDAR