BEGIN:VCALENDAR
VERSION:2.0
PRODID:-//Le Petit Varois.Fr - ECPv6.0.10//NONSGML v1.0//EN
CALSCALE:GREGORIAN
METHOD:PUBLISH
X-WR-CALNAME:Le Petit Varois.Fr
X-ORIGINAL-URL:https://lepetitvarois.fr
X-WR-CALDESC:évènements pour Le Petit Varois.Fr
REFRESH-INTERVAL;VALUE=DURATION:PT1H
X-Robots-Tag:noindex
X-PUBLISHED-TTL:PT1H
BEGIN:VTIMEZONE
TZID:Europe/Paris
BEGIN:DAYLIGHT
TZOFFSETFROM:+0100
TZOFFSETTO:+0200
TZNAME:CEST
DTSTART:20190331T010000
END:DAYLIGHT
BEGIN:STANDARD
TZOFFSETFROM:+0200
TZOFFSETTO:+0100
TZNAME:CET
DTSTART:20191027T010000
END:STANDARD
END:VTIMEZONE
BEGIN:VEVENT
DTSTART;TZID=Europe/Paris:20190524T183000
DTEND;TZID=Europe/Paris:20190524T200000
DTSTAMP:20260423T150959
CREATED:20190501T172127Z
LAST-MODIFIED:20190501T172127Z
UID:10878-1558722600-1558728000@lepetitvarois.fr
SUMMARY:Rugby : tournoi de l’ours
DESCRIPTION:Rugby : tournoi de l’ours à 18h30. \nStade Marcel Bodréro\, av. Charles de Gaulle\, Pin Rolland. ST MANDRIER\nSt Mandrier rugby 06 11 54 86 84
URL:https://lepetitvarois.fr/event/rugby-tournoi-de-lours/
CATEGORIES:Saint-Mandrier
ATTACH;FMTTYPE=image/jpeg:https://lepetitvarois.fr/wp-content/uploads/2018/02/rugby-673461_960_720.jpg
END:VEVENT
END:VCALENDAR