BEGIN:VCALENDAR
VERSION:2.0
PRODID:-//Le Petit Varois.Fr - ECPv6.0.10//NONSGML v1.0//EN
CALSCALE:GREGORIAN
METHOD:PUBLISH
X-WR-CALNAME:Le Petit Varois.Fr
X-ORIGINAL-URL:https://lepetitvarois.fr
X-WR-CALDESC:évènements pour Le Petit Varois.Fr
REFRESH-INTERVAL;VALUE=DURATION:PT1H
X-Robots-Tag:noindex
X-PUBLISHED-TTL:PT1H
BEGIN:VTIMEZONE
TZID:Europe/Paris
BEGIN:DAYLIGHT
TZOFFSETFROM:+0100
TZOFFSETTO:+0200
TZNAME:CEST
DTSTART:20190331T010000
END:DAYLIGHT
BEGIN:STANDARD
TZOFFSETFROM:+0200
TZOFFSETTO:+0100
TZNAME:CET
DTSTART:20191027T010000
END:STANDARD
END:VTIMEZONE
BEGIN:VEVENT
DTSTART;VALUE=DATE:20190601
DTEND;VALUE=DATE:20190602
DTSTAMP:20260423T132755
CREATED:20190527T144832Z
LAST-MODIFIED:20190527T144832Z
UID:11240-1559347200-1559433599@lepetitvarois.fr
SUMMARY:Rendez-vous au Jardin
DESCRIPTION:Rendez-vous au Jardin de 10h à 17h. \nDomaine de l’Ermitage\, ch. de la Coudoulière. ST MANDRIER\nDans le cadre de la « journée au jardin »\, Michel et Marie-Jo vous feront découvrir leur passion commune du monde végétal. Durant la visite bucolique et champêtre d’un ferme pédagogique\, parmi les chants des oiseaux et le vol des colombes\, des ateliers ludiques vous attendent sur le site prestigieux du Domaine de l’Ermitage. \nProgramme :  \n10h-11h : cours de Do-In. \nA partir de 11h : artistes en liberté. \n11h30 : inauguration de la manifestation + lâcher de colombes. \n12h-14h : pique-nique. \n14h-15h : réalisation d’un bouquet champêtre. \n14h-17h : hôtel d’insectes + visite de la ferme pédagogique. Ateliers d’enfants (fresque géante\, les mains dans la terre\, réalisation d’un épouvantail). Réalisation de portraits d’enfants par Marielle Zemour\, artiste peintre. \n15h-17h : cours d’aquarelle. \n16h-17h : taille des rosiers. Dégustation à l’aveugle des produits du domaine. \n18h30 : vernissage de l’exposition d’aquarelles de Philippe Collomb.\n> Entrée libre.\nService Vie de la Cité 04 94 11 51 75 www.ville-saintmandrier.fr
URL:https://lepetitvarois.fr/event/rendez-vous-au-jardin/
CATEGORIES:Saint-Mandrier
ATTACH;FMTTYPE=image/jpeg:https://lepetitvarois.fr/wp-content/uploads/2019/03/flowers-1245820_960_720.jpg
END:VEVENT
END:VCALENDAR