BEGIN:VCALENDAR
VERSION:2.0
PRODID:-//Le Petit Varois.Fr - ECPv6.0.10//NONSGML v1.0//EN
CALSCALE:GREGORIAN
METHOD:PUBLISH
X-ORIGINAL-URL:https://lepetitvarois.fr
X-WR-CALDESC:évènements pour Le Petit Varois.Fr
REFRESH-INTERVAL;VALUE=DURATION:PT1H
X-Robots-Tag:noindex
X-PUBLISHED-TTL:PT1H
BEGIN:VTIMEZONE
TZID:Europe/Paris
BEGIN:DAYLIGHT
TZOFFSETFROM:+0100
TZOFFSETTO:+0200
TZNAME:CEST
DTSTART:20190331T010000
END:DAYLIGHT
BEGIN:STANDARD
TZOFFSETFROM:+0200
TZOFFSETTO:+0100
TZNAME:CET
DTSTART:20191027T010000
END:STANDARD
END:VTIMEZONE
BEGIN:VEVENT
DTSTART;TZID=Europe/Paris:20190608T090000
DTEND;TZID=Europe/Paris:20190608T120000
DTSTAMP:20260423T133101
CREATED:20190527T160645Z
LAST-MODIFIED:20190527T160645Z
UID:11284-1559984400-1559995200@lepetitvarois.fr
SUMMARY:Randonnée pédestre de Saint-Asile au Gros Baou
DESCRIPTION:Randonnée pédestre de Saint-Asile au Gros Baou de 9h à 12h. \nPlage Sainte Asile. ST MANDRIER\nDécouvrez le patrimoine mandréen avec les randonnées de l’ASP Marégau. Lecture du paysage\, de ses composantes géologiques et historiques. Rdv et départ face au club de plongée de la plage de Saint-Asile. \nLongueur 3\,2 km – Dénivelé 70m – Durée 3h. \n> Gratuit. Excursion avec livret guide 3 €. Inscription au plus tard la veille.\nAssociation pour la sauvegarde et la mise en valeur de Marégau 04 94 88 34 61 / 06 84 62 56 84 laville_pierre@orange.fr
URL:https://lepetitvarois.fr/event/randonnee-pedestre-de-saint-asile-au-gros-baou-5/
CATEGORIES:Saint-Mandrier
ATTACH;FMTTYPE=image/jpeg:https://lepetitvarois.fr/wp-content/uploads/2018/09/shoes-1940249_960_720.jpg
END:VEVENT
END:VCALENDAR