BEGIN:VCALENDAR
VERSION:2.0
PRODID:-//Le Petit Varois.Fr - ECPv6.0.10//NONSGML v1.0//EN
CALSCALE:GREGORIAN
METHOD:PUBLISH
X-ORIGINAL-URL:https://lepetitvarois.fr
X-WR-CALDESC:évènements pour Le Petit Varois.Fr
REFRESH-INTERVAL;VALUE=DURATION:PT1H
X-Robots-Tag:noindex
X-PUBLISHED-TTL:PT1H
BEGIN:VTIMEZONE
TZID:Europe/Paris
BEGIN:DAYLIGHT
TZOFFSETFROM:+0100
TZOFFSETTO:+0200
TZNAME:CEST
DTSTART:20190331T010000
END:DAYLIGHT
BEGIN:STANDARD
TZOFFSETFROM:+0200
TZOFFSETTO:+0100
TZNAME:CET
DTSTART:20191027T010000
END:STANDARD
END:VTIMEZONE
BEGIN:VEVENT
DTSTART;TZID=Europe/Paris:20190615T120000
DTEND;TZID=Europe/Paris:20190615T170000
DTSTAMP:20260423T133222
CREATED:20190527T205330Z
LAST-MODIFIED:20190527T205330Z
UID:11336-1560600000-1560618000@lepetitvarois.fr
SUMMARY:Repas champêtre
DESCRIPTION:Repas champêtre à 12h. \nPinède Saint-Asile\, Pin Rolland. ST MANDRIER\n> 20 €. Inscription obligatoire.\nAmicale des donneurs de sang bénévoles de St Mandrier 04 94 63 70 10 adsbchrist@sfr.fr
URL:https://lepetitvarois.fr/event/repas-champetre/
CATEGORIES:Saint-Mandrier
ATTACH;FMTTYPE=image/jpeg:https://lepetitvarois.fr/wp-content/uploads/2018/09/book-2550164_960_720.jpg
END:VEVENT
BEGIN:VEVENT
DTSTART;TZID=Europe/Paris:20190615T200000
DTEND;TZID=Europe/Paris:20190615T213000
DTSTAMP:20260423T133222
CREATED:20190527T205442Z
LAST-MODIFIED:20190527T205442Z
UID:11338-1560628800-1560634200@lepetitvarois.fr
SUMMARY:Gala de fin d'année de l'école de danse Presqu'une étoile
DESCRIPTION:Gala de fin d’année de l’école de danse Presqu’une étoile à 20h30. \nThéâtre Marc Baron. ST MANDRIER\n> Gratuit.\nEcole de danse Presqu’une étoile 06 73 20 96 61
URL:https://lepetitvarois.fr/event/gala-de-fin-dannee-de-lecole-de-danse-presquune-etoile/
CATEGORIES:Saint-Mandrier
ATTACH;FMTTYPE=image/jpeg:https://lepetitvarois.fr/wp-content/uploads/2015/04/blackandwhite-movie-beauty.jpg
END:VEVENT
END:VCALENDAR