BEGIN:VCALENDAR
VERSION:2.0
PRODID:-//Le Petit Varois.Fr - ECPv6.0.10//NONSGML v1.0//EN
CALSCALE:GREGORIAN
METHOD:PUBLISH
X-ORIGINAL-URL:https://lepetitvarois.fr
X-WR-CALDESC:évènements pour Le Petit Varois.Fr
REFRESH-INTERVAL;VALUE=DURATION:PT1H
X-Robots-Tag:noindex
X-PUBLISHED-TTL:PT1H
BEGIN:VTIMEZONE
TZID:Europe/Paris
BEGIN:DAYLIGHT
TZOFFSETFROM:+0100
TZOFFSETTO:+0200
TZNAME:CEST
DTSTART:20190331T010000
END:DAYLIGHT
BEGIN:STANDARD
TZOFFSETFROM:+0200
TZOFFSETTO:+0100
TZNAME:CET
DTSTART:20191027T010000
END:STANDARD
END:VTIMEZONE
BEGIN:VEVENT
DTSTART;TZID=Europe/Paris:20190616T080000
DTEND;TZID=Europe/Paris:20190616T170000
DTSTAMP:20260423T133143
CREATED:20190527T210024Z
LAST-MODIFIED:20190527T210024Z
UID:11342-1560672000-1560704400@lepetitvarois.fr
SUMMARY:Vide-greniers
DESCRIPTION:Vide-greniers de 8h à 16h. \nParking Saint-Asile. ST MANDRIER\n> 10 € l’emplacement. Réservation obligatoire à la permanence le mercredi matin de 10 h à 12 h\, salle Myrte au Pin Rolland.\nAssociation festive de la presqu’île 06 71 10 62 27
URL:https://lepetitvarois.fr/event/vide-greniers-15/
CATEGORIES:Saint-Mandrier
ATTACH;FMTTYPE=image/jpeg:https://lepetitvarois.fr/wp-content/uploads/2018/06/flea-market-1883693_960_720.jpg
END:VEVENT
END:VCALENDAR