BEGIN:VCALENDAR
VERSION:2.0
PRODID:-//Le Petit Varois.Fr - ECPv6.0.10//NONSGML v1.0//EN
CALSCALE:GREGORIAN
METHOD:PUBLISH
X-WR-CALNAME:Le Petit Varois.Fr
X-ORIGINAL-URL:https://lepetitvarois.fr
X-WR-CALDESC:évènements pour Le Petit Varois.Fr
REFRESH-INTERVAL;VALUE=DURATION:PT1H
X-Robots-Tag:noindex
X-PUBLISHED-TTL:PT1H
BEGIN:VTIMEZONE
TZID:Europe/Paris
BEGIN:DAYLIGHT
TZOFFSETFROM:+0100
TZOFFSETTO:+0200
TZNAME:CEST
DTSTART:20190331T010000
END:DAYLIGHT
BEGIN:STANDARD
TZOFFSETFROM:+0200
TZOFFSETTO:+0100
TZNAME:CET
DTSTART:20191027T010000
END:STANDARD
END:VTIMEZONE
BEGIN:VEVENT
DTSTART;TZID=Europe/Paris:20190623T090000
DTEND;TZID=Europe/Paris:20190623T180000
DTSTAMP:20260423T132800
CREATED:20190528T075604Z
LAST-MODIFIED:20190528T075604Z
UID:11369-1561280400-1561312800@lepetitvarois.fr
SUMMARY:Marché artisanal
DESCRIPTION:Marché artisanal de 9h à 18h. \nPlace des Résistants. ST MANDRIER\nPlein V’Arts  06 09 95 83 21
URL:https://lepetitvarois.fr/event/marche-artisanal-3/
CATEGORIES:Saint-Mandrier
ATTACH;FMTTYPE=image/jpeg:https://lepetitvarois.fr/wp-content/uploads/2019/03/hands-1139098_960_720.jpg
END:VEVENT
END:VCALENDAR