BEGIN:VCALENDAR
VERSION:2.0
PRODID:-//Le Petit Varois.Fr - ECPv6.0.10//NONSGML v1.0//EN
CALSCALE:GREGORIAN
METHOD:PUBLISH
X-ORIGINAL-URL:https://lepetitvarois.fr
X-WR-CALDESC:évènements pour Le Petit Varois.Fr
REFRESH-INTERVAL;VALUE=DURATION:PT1H
X-Robots-Tag:noindex
X-PUBLISHED-TTL:PT1H
BEGIN:VTIMEZONE
TZID:Europe/Paris
BEGIN:DAYLIGHT
TZOFFSETFROM:+0100
TZOFFSETTO:+0200
TZNAME:CEST
DTSTART:20190331T010000
END:DAYLIGHT
BEGIN:STANDARD
TZOFFSETFROM:+0200
TZOFFSETTO:+0100
TZNAME:CET
DTSTART:20191027T010000
END:STANDARD
END:VTIMEZONE
BEGIN:VEVENT
DTSTART;TZID=Europe/Paris:20190706T190000
DTEND;TZID=Europe/Paris:20190706T210000
DTSTAMP:20260423T115046
CREATED:20190702T142558Z
LAST-MODIFIED:20190702T142558Z
UID:11801-1562439600-1562446800@lepetitvarois.fr
SUMMARY:Fête de la mer
DESCRIPTION:Fête de la mer à 19h. \nPinède Saint-Asile\, Pin Rolland. ST MANDRIER\nPêcheurs\, mytiliculteurs\, ostréiculteurs\, aquaculteurs… vous proposent leurs spécialités dans une ambiance festive et musicale. \nOT Saint Mandrier 04 94 63 61 69 www.tourisme-ouestvar.com 
URL:https://lepetitvarois.fr/event/fete-de-la-mer-2/
CATEGORIES:Saint-Mandrier
ATTACH;FMTTYPE=image/jpeg:https://lepetitvarois.fr/wp-content/uploads/2018/06/sea-2052650_960_720.jpg
END:VEVENT
END:VCALENDAR