BEGIN:VCALENDAR
VERSION:2.0
PRODID:-//Le Petit Varois.Fr - ECPv6.0.10//NONSGML v1.0//EN
CALSCALE:GREGORIAN
METHOD:PUBLISH
X-ORIGINAL-URL:https://lepetitvarois.fr
X-WR-CALDESC:évènements pour Le Petit Varois.Fr
REFRESH-INTERVAL;VALUE=DURATION:PT1H
X-Robots-Tag:noindex
X-PUBLISHED-TTL:PT1H
BEGIN:VTIMEZONE
TZID:Europe/Paris
BEGIN:DAYLIGHT
TZOFFSETFROM:+0100
TZOFFSETTO:+0200
TZNAME:CEST
DTSTART:20190331T010000
END:DAYLIGHT
BEGIN:STANDARD
TZOFFSETFROM:+0200
TZOFFSETTO:+0100
TZNAME:CET
DTSTART:20191027T010000
END:STANDARD
END:VTIMEZONE
BEGIN:VEVENT
DTSTART;TZID=Europe/Paris:20190717T133000
DTEND;TZID=Europe/Paris:20190717T190000
DTSTAMP:20260423T115001
CREATED:20190710T205719Z
LAST-MODIFIED:20190710T205719Z
UID:11950-1563370200-1563390000@lepetitvarois.fr
SUMMARY:Sunshine Tour
DESCRIPTION:Sunshine Tour de 13h30 à 19h. \nPinède Saint-Asile\, Pin Rolland. ST MANDRIER\nPrévention santé sexuelle et risque lié au soleil. Stands avec jeu\, questionnaire\, distribution d’eau\, cadeaux… \nAssociation Paramour 06 20 34 31 88 associationparamour@gmail.com – www.paramour-asso.com
URL:https://lepetitvarois.fr/event/sunshine-tour-2/
CATEGORIES:Saint-Mandrier
ATTACH;FMTTYPE=image/jpeg:https://lepetitvarois.fr/wp-content/uploads/2018/11/children-2105468_960_720.jpg
END:VEVENT
BEGIN:VEVENT
DTSTART;TZID=Europe/Paris:20190717T180000
DTEND;TZID=Europe/Paris:20190717T200000
DTSTAMP:20260423T115001
CREATED:20190710T210216Z
LAST-MODIFIED:20190710T210216Z
UID:11954-1563386400-1563393600@lepetitvarois.fr
SUMMARY:Tournoi de basket
DESCRIPTION:Tournoi de basket à 18h. \nStade du village\, av. Marc Baron. ST MANDRIER\n> Gratuit. Inscription sur place.\nOT Saint Mandrier 04 94 63 61 69 www.tourisme-ouestvar.com
URL:https://lepetitvarois.fr/event/tournoi-de-basket-3/
CATEGORIES:Saint-Mandrier
ATTACH;FMTTYPE=image/jpeg:https://lepetitvarois.fr/wp-content/uploads/2019/03/basketball-1544370_960_720.jpg
END:VEVENT
END:VCALENDAR