BEGIN:VCALENDAR
VERSION:2.0
PRODID:-//Le Petit Varois.Fr - ECPv6.0.10//NONSGML v1.0//EN
CALSCALE:GREGORIAN
METHOD:PUBLISH
X-ORIGINAL-URL:https://lepetitvarois.fr
X-WR-CALDESC:évènements pour Le Petit Varois.Fr
REFRESH-INTERVAL;VALUE=DURATION:PT1H
X-Robots-Tag:noindex
X-PUBLISHED-TTL:PT1H
BEGIN:VTIMEZONE
TZID:Europe/Paris
BEGIN:DAYLIGHT
TZOFFSETFROM:+0100
TZOFFSETTO:+0200
TZNAME:CEST
DTSTART:20190331T010000
END:DAYLIGHT
BEGIN:STANDARD
TZOFFSETFROM:+0200
TZOFFSETTO:+0100
TZNAME:CET
DTSTART:20191027T010000
END:STANDARD
END:VTIMEZONE
BEGIN:VEVENT
DTSTART;TZID=Europe/Paris:20190721T120000
DTEND;TZID=Europe/Paris:20190721T170000
DTSTAMP:20260423T115049
CREATED:20190712T204233Z
LAST-MODIFIED:20190712T204233Z
UID:12020-1563710400-1563728400@lepetitvarois.fr
SUMMARY:Sardinade
DESCRIPTION:Sardinade à 12h. \nPinède Saint-Asile\, Pin Rolland. ST MANDRIER\nLa Mandréane 06 27 25 42 74 
URL:https://lepetitvarois.fr/event/sardinade/
CATEGORIES:Saint-Mandrier
ATTACH;FMTTYPE=image/jpeg:https://lepetitvarois.fr/wp-content/uploads/2018/07/sardines-1489630_960_720.jpg
END:VEVENT
BEGIN:VEVENT
DTSTART;TZID=Europe/Paris:20190721T160000
DTEND;TZID=Europe/Paris:20190721T233000
DTSTAMP:20260423T115049
CREATED:20190712T204759Z
LAST-MODIFIED:20190712T204759Z
UID:12022-1563724800-1563751800@lepetitvarois.fr
SUMMARY:Vide-greniers nocturne de Pin Rolland
DESCRIPTION:Vide-greniers nocturne de Pin Rolland de 16h à minuit. \nParking Saint-Asile\, Pin Rolland. ST MANDRIER\n> 10 € l’emplacement. Réservation obligatoire à la permanence le mercredi matin de 10 h à 12 h\, salle Myrte au Pin Rolland.\nAssociation festive de la presqu’île 06 71 10 62 27
URL:https://lepetitvarois.fr/event/vide-greniers-nocturne-de-pin-rolland/
CATEGORIES:Saint-Mandrier
ATTACH;FMTTYPE=image/jpeg:https://lepetitvarois.fr/wp-content/uploads/2019/03/dish-shelf-1290428_960_720.jpg
END:VEVENT
END:VCALENDAR